{"text_format":"3","workbook":"xlsx","n_sheets":15,"sheets":["U11B","U11G","U13G","U13B","U15G","U15B","U17W","U17M","U20M","FullResults","SenMU20M","U20W","SenW","SenWU20W","TimeEg"],"not_rendered":{"macros":1,"defined_names":19},"read":"whole","date_system":"1900"}

{"sheet":"U11B","index":0,"n_rows":602,"n_cols":11,"rows_kept":602,"hidden":true,"merged":[[0,1,0,6],[1,1,1,6]]}
[null,"Sussex Athletics XC Championships\nBexhill, 07/01/2023"]
[null,"U11 Boys"]
["Temp","Pos","Bib","Time","Forename","Surname","Club","Cat ","Sex","Rk","Club Rk"]
[{"$f":"+K4","v":{"$error":"#REF!"}},1,7,"7:44",{"$f":"+VLOOKUP($C4,#REF!,2,\"false\")","v":{"$error":"#REF!"}},{"$f":"+VLOOKUP($C4,#REF!,3,\"false\")","v":{"$error":"#REF!"}},{"$f":"+VLOOKUP($C4,#REF!,4,\"false\")","v":{"$error":"#REF!"}},{"$f":"+VLOOKUP($C4,#REF!,5,\"false\")","v":{"$error":"#REF!"}},{"$f":"+VLOOKUP($C4,#REF!,6,\"false\")","v":{"$error":"#REF!"}},{"$f":"TEXT(SUMPRODUCT(--(G4=$G$4:$G$597),--(B4>$B$4:$B$597))+1,0)","v":{"$error":"#REF!"}},{"$f":"+G4&\"  \"&J4","v":{"$error":"#REF!"}}]
[{"$f":"+K5","v":{"$error":"#REF!"}},{"$f":"+B4+1","v":2},13,"7:49",{"$f":"+VLOOKUP($C5,#REF!,2,\"false\")","v":{"$error":"#REF!"}},{"$f":"+VLOOKUP($C5,#REF!,3,\"false\")","v":{"$error":"#REF!"}},{"$f":"+VLOOKUP($C5,#REF!,4,\"false\")","v":{"$error":"#REF!"}},{"$f":"+VLOOKUP($C5,#REF!,5,\"false\")","v":{"$error":"#REF!"}},{"$f":"+VLOOKUP($C5,#REF!,6,\"false\")","v":{"$error":"#REF!"}},{"$error":"#REF!"},{"$f":"+G5&\"  \"&J5","v":{"$error":"#REF!"}}]
[{"$error":"#REF!"},{"$f":"+B5+1","v":3},5,"8:16",{"$f":"+VLOOKUP($C6,#REF!,2,\"false\")","v":{"$error":"#REF!"}},{"$f":"+VLOOKUP($C6,#REF!,3,\"false\")","v":{"$error":"#REF!"}},{"$f":"+VLOOKUP($C6,#REF!,4,\"false\")","v":{"$error":"#REF!"}},{"$f":"+VLOOKUP($C6,#REF!,5,\"false\")","v":{"$error":"#REF!"}},{"$f":"+VLOOKUP($C6,#REF!,6,\"false\")","v":{"$error":"#REF!"}},{"$error":"#REF!"},{"$error":"#REF!"}]
[{"$error":"#REF!"},4,21,"8:18",{"$f":"+VLOOKUP($C7,#REF!,2,\"false\")","v":{"$error":"#REF!"}},{"$f":"+VLOOKUP($C7,#REF!,3,\"false\")","v":{"$error":"#REF!"}},{"$f":"+VLOOKUP($C7,#REF!,4,\"false\")","v":{"$error":"#REF!"}},{"$f":"+VLOOKUP($C7,#REF!,5,\"false\")","v":{"$error":"#REF!"}},{"$f":"+VLOOKUP($C7,#REF!,6,\"false\")","v":{"$error":"#REF!"}},{"$error":"#REF!"},{"$error":"#REF!"}]
[{"$error":"#REF!"},5,12,"8:20",{"$f":"+VLOOKUP($C8,#REF!,2,\"false\")","v":{"$error":"#REF!"}},{"$f":"+VLOOKUP($C8,#REF!,3,\"false\")","v":{"$error":"#REF!"}},{"$f":"+VLOOKUP($C8,#REF!,4,\"false\")","v":{"$error":"#REF!"}},{"$f":"+VLOOKUP($C8,#REF!,5,\"false\")","v":{"$error":"#REF!"}},{"$f":"+VLOOKUP($C8,#REF!,6,\"false\")","v":{"$error":"#REF!"}},{"$error":"#REF!"},{"$error":"#REF!"}]
[{"$error":"#REF!"},6,3,"8:21",{"$f":"+VLOOKUP($C9,#REF!,2,\"false\")","v":{"$error":"#REF!"}},{"$f":"+VLOOKUP($C9,#REF!,3,\"false\")","v":{"$error":"#REF!"}},{"$f":"+VLOOKUP($C9,#REF!,4,\"false\")","v":{"$error":"#REF!"}},{"$f":"+VLOOKUP($C9,#REF!,5,\"false\")","v":{"$error":"#REF!"}},{"$f":"+VLOOKUP($C9,#REF!,6,\"false\")","v":{"$error":"#REF!"}},{"$error":"#REF!"},{"$error":"#REF!"}]
[{"$error":"#REF!"},7,33,"8:24",{"$f":"+VLOOKUP($C10,#REF!,2,\"false\")","v":{"$error":"#REF!"}},{"$f":"+VLOOKUP($C10,#REF!,3,\"false\")","v":{"$error":"#REF!"}},{"$f":"+VLOOKUP($C10,#REF!,4,\"false\")","v":{"$error":"#REF!"}},{"$f":"+VLOOKUP($C10,#REF!,5,\"false\")","v":{"$error":"#REF!"}},{"$f":"+VLOOKUP($C10,#REF!,6,\"false\")","v":{"$error":"#REF!"}},{"$error":"#REF!"},{"$error":"#REF!"}]
[{"$error":"#REF!"},8,32,"8:27",{"$f":"+VLOOKUP($C11,#REF!,2,\"false\")","v":{"$error":"#REF!"}},{"$f":"+VLOOKUP($C11,#REF!,3,\"false\")","v":{"$error":"#REF!"}},{"$f":"+VLOOKUP($C11,#REF!,4,\"false\")","v":{"$error":"#REF!"}},{"$f":"+VLOOKUP($C11,#REF!,5,\"false\")","v":{"$error":"#REF!"}},{"$f":"+VLOOKUP($C11,#REF!,6,\"false\")","v":{"$error":"#REF!"}},{"$error":"#REF!"},{"$error":"#REF!"}]
[{"$error":"#REF!"},9,4,"8:29",{"$f":"+VLOOKUP($C12,#REF!,2,\"false\")","v":{"$error":"#REF!"}},{"$f":"+VLOOKUP($C12,#REF!,3,\"false\")","v":{"$error":"#REF!"}},{"$f":"+VLOOKUP($C12,#REF!,4,\"false\")","v":{"$error":"#REF!"}},{"$f":"+VLOOKUP($C12,#REF!,5,\"false\")","v":{"$error":"#REF!"}},{"$f":"+VLOOKUP($C12,#REF!,6,\"false\")","v":{"$error":"#REF!"}},{"$error":"#REF!"},{"$error":"#REF!"}]
[{"$error":"#REF!"},10,16,"8:31",{"$f":"+VLOOKUP($C13,#REF!,2,\"false\")","v":{"$error":"#REF!"}},{"$f":"+VLOOKUP($C13,#REF!,3,\"false\")","v":{"$error":"#REF!"}},{"$f":"+VLOOKUP($C13,#REF!,4,\"false\")","v":{"$error":"#REF!"}},{"$f":"+VLOOKUP($C13,#REF!,5,\"false\")","v":{"$error":"#REF!"}},{"$f":"+VLOOKUP($C13,#REF!,6,\"false\")","v":{"$error":"#REF!"}},{"$error":"#REF!"},{"$error":"#REF!"}]
[{"$error":"#REF!"},11,8,"8:32",{"$f":"+VLOOKUP($C14,#REF!,2,\"false\")","v":{"$error":"#REF!"}},{"$f":"+VLOOKUP($C14,#REF!,3,\"false\")","v":{"$error":"#REF!"}},{"$f":"+VLOOKUP($C14,#REF!,4,\"false\")","v":{"$error":"#REF!"}},{"$f":"+VLOOKUP($C14,#REF!,5,\"false\")","v":{"$error":"#REF!"}},{"$f":"+VLOOKUP($C14,#REF!,6,\"false\")","v":{"$error":"#REF!"}},{"$error":"#REF!"},{"$error":"#REF!"}]
[{"$error":"#REF!"},12,27,"8:34",{"$f":"+VLOOKUP($C15,#REF!,2,\"false\")","v":{"$error":"#REF!"}},{"$f":"+VLOOKUP($C15,#REF!,3,\"false\")","v":{"$error":"#REF!"}},{"$f":"+VLOOKUP($C15,#REF!,4,\"false\")","v":{"$error":"#REF!"}},{"$f":"+VLOOKUP($C15,#REF!,5,\"false\")","v":{"$error":"#REF!"}},{"$f":"+VLOOKUP($C15,#REF!,6,\"false\")","v":{"$error":"#REF!"}},{"$error":"#REF!"},{"$error":"#REF!"}]
[{"$error":"#REF!"},13,15,"8:43",{"$f":"+VLOOKUP($C16,#REF!,2,\"false\")","v":{"$error":"#REF!"}},{"$f":"+VLOOKUP($C16,#REF!,3,\"false\")","v":{"$error":"#REF!"}},{"$f":"+VLOOKUP($C16,#REF!,4,\"false\")","v":{"$error":"#REF!"}},{"$f":"+VLOOKUP($C16,#REF!,5,\"false\")","v":{"$error":"#REF!"}},{"$f":"+VLOOKUP($C16,#REF!,6,\"false\")","v":{"$error":"#REF!"}},{"$error":"#REF!"},{"$error":"#REF!"}]
[{"$error":"#REF!"},14,14,"8:46",{"$f":"+VLOOKUP($C17,#REF!,2,\"false\")","v":{"$error":"#REF!"}},{"$f":"+VLOOKUP($C17,#REF!,3,\"false\")","v":{"$error":"#REF!"}},{"$f":"+VLOOKUP($C17,#REF!,4,\"false\")","v":{"$error":"#REF!"}},{"$f":"+VLOOKUP($C17,#REF!,5,\"false\")","v":{"$error":"#REF!"}},{"$f":"+VLOOKUP($C17,#REF!,6,\"false\")","v":{"$error":"#REF!"}},{"$error":"#REF!"},{"$error":"#REF!"}]
[{"$error":"#REF!"},15,9,"8:51",{"$f":"+VLOOKUP($C18,#REF!,2,\"false\")","v":{"$error":"#REF!"}},{"$f":"+VLOOKUP($C18,#REF!,3,\"false\")","v":{"$error":"#REF!"}},{"$f":"+VLOOKUP($C18,#REF!,4,\"false\")","v":{"$error":"#REF!"}},{"$f":"+VLOOKUP($C18,#REF!,5,\"false\")","v":{"$error":"#REF!"}},{"$f":"+VLOOKUP($C18,#REF!,6,\"false\")","v":{"$error":"#REF!"}},{"$error":"#REF!"},{"$error":"#REF!"}]
[{"$error":"#REF!"},16,10,"8:52",{"$f":"+VLOOKUP($C19,#REF!,2,\"false\")","v":{"$error":"#REF!"}},{"$f":"+VLOOKUP($C19,#REF!,3,\"false\")","v":{"$error":"#REF!"}},{"$f":"+VLOOKUP($C19,#REF!,4,\"false\")","v":{"$error":"#REF!"}},{"$f":"+VLOOKUP($C19,#REF!,5,\"false\")","v":{"$error":"#REF!"}},{"$f":"+VLOOKUP($C19,#REF!,6,\"false\")","v":{"$error":"#REF!"}},{"$error":"#REF!"},{"$error":"#REF!"}]
[{"$error":"#REF!"},17,1,"8:56",{"$f":"+VLOOKUP($C20,#REF!,2,\"false\")","v":{"$error":"#REF!"}},{"$f":"+VLOOKUP($C20,#REF!,3,\"false\")","v":{"$error":"#REF!"}},{"$f":"+VLOOKUP($C20,#REF!,4,\"false\")","v":{"$error":"#REF!"}},{"$f":"+VLOOKUP($C20,#REF!,5,\"false\")","v":{"$error":"#REF!"}},{"$f":"+VLOOKUP($C20,#REF!,6,\"false\")","v":{"$error":"#REF!"}},{"$error":"#REF!"},{"$error":"#REF!"}]
[{"$error":"#REF!"},18,34,"9:01",{"$f":"+VLOOKUP($C21,#REF!,2,\"false\")","v":{"$error":"#REF!"}},{"$f":"+VLOOKUP($C21,#REF!,3,\"false\")","v":{"$error":"#REF!"}},{"$f":"+VLOOKUP($C21,#REF!,4,\"false\")","v":{"$error":"#REF!"}},{"$f":"+VLOOKUP($C21,#REF!,5,\"false\")","v":{"$error":"#REF!"}},{"$f":"+VLOOKUP($C21,#REF!,6,\"false\")","v":{"$error":"#REF!"}},{"$error":"#REF!"},{"$f":"+G21&\"  \"&J21","v":{"$error":"#REF!"}}]
[{"$error":"#REF!"},19,26,"9:04",{"$f":"+VLOOKUP($C22,#REF!,2,\"false\")","v":{"$error":"#REF!"}},{"$f":"+VLOOKUP($C22,#REF!,3,\"false\")","v":{"$error":"#REF!"}},{"$f":"+VLOOKUP($C22,#REF!,4,\"false\")","v":{"$error":"#REF!"}},{"$f":"+VLOOKUP($C22,#REF!,5,\"false\")","v":{"$error":"#REF!"}},{"$f":"+VLOOKUP($C22,#REF!,6,\"false\")","v":{"$error":"#REF!"}},{"$error":"#REF!"},{"$error":"#REF!"}]
[{"$error":"#REF!"},20,2,"9:06",{"$f":"+VLOOKUP($C23,#REF!,2,\"false\")","v":{"$error":"#REF!"}},{"$f":"+VLOOKUP($C23,#REF!,3,\"false\")","v":{"$error":"#REF!"}},{"$f":"+VLOOKUP($C23,#REF!,4,\"false\")","v":{"$error":"#REF!"}},{"$f":"+VLOOKUP($C23,#REF!,5,\"false\")","v":{"$error":"#REF!"}},{"$f":"+VLOOKUP($C23,#REF!,6,\"false\")","v":{"$error":"#REF!"}},{"$error":"#REF!"},{"$error":"#REF!"}]
[{"$error":"#REF!"},21,17,"9:07",{"$f":"+VLOOKUP($C24,#REF!,2,\"false\")","v":{"$error":"#REF!"}},{"$f":"+VLOOKUP($C24,#REF!,3,\"false\")","v":{"$error":"#REF!"}},{"$f":"+VLOOKUP($C24,#REF!,4,\"false\")","v":{"$error":"#REF!"}},{"$f":"+VLOOKUP($C24,#REF!,5,\"false\")","v":{"$error":"#REF!"}},{"$f":"+VLOOKUP($C24,#REF!,6,\"false\")","v":{"$error":"#REF!"}},{"$error":"#REF!"},{"$error":"#REF!"}]
[{"$error":"#REF!"},22,22,"9:16",{"$f":"+VLOOKUP($C25,#REF!,2,\"false\")","v":{"$error":"#REF!"}},{"$f":"+VLOOKUP($C25,#REF!,3,\"false\")","v":{"$error":"#REF!"}},{"$f":"+VLOOKUP($C25,#REF!,4,\"false\")","v":{"$error":"#REF!"}},{"$f":"+VLOOKUP($C25,#REF!,5,\"false\")","v":{"$error":"#REF!"}},{"$f":"+VLOOKUP($C25,#REF!,6,\"false\")","v":{"$error":"#REF!"}},{"$error":"#REF!"},{"$error":"#REF!"}]
[{"$error":"#REF!"},23,37,"9:17",{"$f":"+VLOOKUP($C26,#REF!,2,\"false\")","v":{"$error":"#REF!"}},{"$f":"+VLOOKUP($C26,#REF!,3,\"false\")","v":{"$error":"#REF!"}},{"$f":"+VLOOKUP($C26,#REF!,4,\"false\")","v":{"$error":"#REF!"}},{"$f":"+VLOOKUP($C26,#REF!,5,\"false\")","v":{"$error":"#REF!"}},{"$f":"+VLOOKUP($C26,#REF!,6,\"false\")","v":{"$error":"#REF!"}},{"$error":"#REF!"},{"$error":"#REF!"}]
[{"$f":"+K27","v":{"$error":"#REF!"}},24,28,"9:18",{"$f":"+VLOOKUP($C27,#REF!,2,\"false\")","v":{"$error":"#REF!"}},{"$f":"+VLOOKUP($C27,#REF!,3,\"false\")","v":{"$error":"#REF!"}},{"$f":"+VLOOKUP($C27,#REF!,4,\"false\")","v":{"$error":"#REF!"}},{"$f":"+VLOOKUP($C27,#REF!,5,\"false\")","v":{"$error":"#REF!"}},{"$f":"+VLOOKUP($C27,#REF!,6,\"false\")","v":{"$error":"#REF!"}},{"$f":"TEXT(SUMPRODUCT(--(G27=$G$4:$G$597),--(B27>$B$4:$B$597))+1,0)","v":{"$error":"#REF!"}},{"$f":"+G27&\"  \"&J27","v":{"$error":"#REF!"}}]
[{"$error":"#REF!"},25,11,"9:27",{"$f":"+VLOOKUP($C28,#REF!,2,\"false\")","v":{"$error":"#REF!"}},{"$f":"+VLOOKUP($C28,#REF!,3,\"false\")","v":{"$error":"#REF!"}},{"$f":"+VLOOKUP($C28,#REF!,4,\"false\")","v":{"$error":"#REF!"}},{"$f":"+VLOOKUP($C28,#REF!,5,\"false\")","v":{"$error":"#REF!"}},{"$f":"+VLOOKUP($C28,#REF!,6,\"false\")","v":{"$error":"#REF!"}},{"$error":"#REF!"},{"$error":"#REF!"}]
[{"$error":"#REF!"},26,35,"9:36",{"$f":"+VLOOKUP($C29,#REF!,2,\"false\")","v":{"$error":"#REF!"}},{"$f":"+VLOOKUP($C29,#REF!,3,\"false\")","v":{"$error":"#REF!"}},{"$f":"+VLOOKUP($C29,#REF!,4,\"false\")","v":{"$error":"#REF!"}},{"$f":"+VLOOKUP($C29,#REF!,5,\"false\")","v":{"$error":"#REF!"}},{"$f":"+VLOOKUP($C29,#REF!,6,\"false\")","v":{"$error":"#REF!"}},{"$error":"#REF!"},{"$error":"#REF!"}]
[{"$error":"#REF!"},27,23,"9:37",{"$f":"+VLOOKUP($C30,#REF!,2,\"false\")","v":{"$error":"#REF!"}},{"$f":"+VLOOKUP($C30,#REF!,3,\"false\")","v":{"$error":"#REF!"}},{"$f":"+VLOOKUP($C30,#REF!,4,\"false\")","v":{"$error":"#REF!"}},{"$f":"+VLOOKUP($C30,#REF!,5,\"false\")","v":{"$error":"#REF!"}},{"$f":"+VLOOKUP($C30,#REF!,6,\"false\")","v":{"$error":"#REF!"}},{"$error":"#REF!"},{"$error":"#REF!"}]
[{"$error":"#REF!"},28,20,"9:48",{"$f":"+VLOOKUP($C31,#REF!,2,\"false\")","v":{"$error":"#REF!"}},{"$f":"+VLOOKUP($C31,#REF!,3,\"false\")","v":{"$error":"#REF!"}},{"$f":"+VLOOKUP($C31,#REF!,4,\"false\")","v":{"$error":"#REF!"}},{"$f":"+VLOOKUP($C31,#REF!,5,\"false\")","v":{"$error":"#REF!"}},{"$f":"+VLOOKUP($C31,#REF!,6,\"false\")","v":{"$error":"#REF!"}},{"$error":"#REF!"},{"$error":"#REF!"}]
[{"$error":"#REF!"},29,25,"9:48",{"$f":"+VLOOKUP($C32,#REF!,2,\"false\")","v":{"$error":"#REF!"}},{"$f":"+VLOOKUP($C32,#REF!,3,\"false\")","v":{"$error":"#REF!"}},{"$f":"+VLOOKUP($C32,#REF!,4,\"false\")","v":{"$error":"#REF!"}},{"$f":"+VLOOKUP($C32,#REF!,5,\"false\")","v":{"$error":"#REF!"}},{"$f":"+VLOOKUP($C32,#REF!,6,\"false\")","v":{"$error":"#REF!"}},{"$error":"#REF!"},{"$error":"#REF!"}]
[{"$error":"#REF!"},30,19,"9:49",{"$f":"+VLOOKUP($C33,#REF!,2,\"false\")","v":{"$error":"#REF!"}},{"$f":"+VLOOKUP($C33,#REF!,3,\"false\")","v":{"$error":"#REF!"}},{"$f":"+VLOOKUP($C33,#REF!,4,\"false\")","v":{"$error":"#REF!"}},{"$f":"+VLOOKUP($C33,#REF!,5,\"false\")","v":{"$error":"#REF!"}},{"$f":"+VLOOKUP($C33,#REF!,6,\"false\")","v":{"$error":"#REF!"}},{"$error":"#REF!"},{"$error":"#REF!"}]
[{"$error":"#REF!"},31,29,"10:13",{"$f":"+VLOOKUP($C34,#REF!,2,\"false\")","v":{"$error":"#REF!"}},{"$f":"+VLOOKUP($C34,#REF!,3,\"false\")","v":{"$error":"#REF!"}},{"$f":"+VLOOKUP($C34,#REF!,4,\"false\")","v":{"$error":"#REF!"}},{"$f":"+VLOOKUP($C34,#REF!,5,\"false\")","v":{"$error":"#REF!"}},{"$f":"+VLOOKUP($C34,#REF!,6,\"false\")","v":{"$error":"#REF!"}},{"$error":"#REF!"},{"$error":"#REF!"}]
{"$rows_empty":72}
[null,"Pos","Bib","Time"]
[null,1,7,"7:44"]
[null,{"$f":"+B108+1","v":2},13,"7:49"]
[null,{"$f":"+B109+1","v":3},5,"8:16"]
[null,4,21,"8:18"]
[null,5,12,"8:20"]
[null,6,3,"8:21"]
[null,7,33,"8:24"]
[null,8,32,"8:27"]
[null,9,4,"8:29"]
[null,10,16,"8:31"]
[null,11,8,"8:32"]
[null,12,27,"8:34"]
[null,13,15,"8:43"]
[null,14,14,"8:46"]
[null,15,9,"8:51"]
[null,16,10,"8:52"]
[null,17,1,"8:56"]
[null,18,34,"9:01"]
[null,19,26,"9:04"]
[null,20,2,"9:06"]
[null,21,17,"9:07"]
[null,22,22,"9:16"]
[null,23,37,"9:17"]
[null,24,28,"9:18"]
[null,25,11,"9:27"]
[null,26,35,"9:36"]
[null,27,23,"9:37"]
[null,28,20,"9:48"]
[null,29,25,"9:48"]
[null,30,19,"9:49"]
[null,31,29,"10:13"]
[null,32,null,{"$error":"#VALUE!"}]
[null,33,null,{"$error":"#VALUE!"}]
[null,34,null,{"$error":"#VALUE!"}]
[null,35,null,{"$error":"#VALUE!"}]
[null,36,null,{"$error":"#VALUE!"}]
[null,37,null,{"$error":"#VALUE!"}]
[null,38,null,{"$error":"#VALUE!"}]
[null,39,null,{"$error":"#VALUE!"}]
[null,40,null,{"$error":"#VALUE!"}]
[null,41,null,{"$error":"#VALUE!"}]
[null,42,null,{"$error":"#VALUE!"}]
[null,43,null,{"$error":"#VALUE!"}]
[null,44,null,{"$error":"#VALUE!"}]
[null,45,null,{"$error":"#VALUE!"}]
[null,46,null,{"$error":"#VALUE!"}]
[null,47,null,{"$error":"#VALUE!"}]
[null,48,null,{"$error":"#VALUE!"}]
[null,49,null,{"$error":"#VALUE!"}]
[null,50,null,{"$error":"#VALUE!"}]
[null,51,null,{"$error":"#VALUE!"}]
[null,52,null,{"$error":"#VALUE!"}]
[null,53,null,{"$error":"#VALUE!"}]
[null,54,null,{"$error":"#VALUE!"}]
[null,55,null,{"$error":"#VALUE!"}]
[null,56,null,{"$error":"#VALUE!"}]
[null,57,null,{"$error":"#VALUE!"}]
[null,58,null,{"$error":"#VALUE!"}]
[null,59,null,{"$error":"#VALUE!"}]
[null,60,null,{"$error":"#VALUE!"}]
[null,61,null,{"$error":"#VALUE!"}]
[null,62,null,{"$error":"#VALUE!"}]
[null,63,null,{"$error":"#VALUE!"}]
[null,64,null,{"$error":"#VALUE!"}]
[null,65,null,{"$error":"#VALUE!"}]
[null,66,null,{"$error":"#VALUE!"}]
[null,{"$f":"+B173+1","v":67},null,{"$error":"#VALUE!"}]
[null,68,null,{"$error":"#VALUE!"}]
[null,69,null,{"$error":"#VALUE!"}]
[null,70,null,{"$error":"#VALUE!"}]
[null,71,null,{"$error":"#VALUE!"}]
[null,72,null,{"$error":"#VALUE!"}]
[null,73,null,{"$error":"#VALUE!"}]
[null,74,null,{"$error":"#VALUE!"}]
[null,75,null,{"$error":"#VALUE!"}]
[null,76,null,{"$error":"#VALUE!"}]
[null,77,null,{"$error":"#VALUE!"}]
[null,78,null,{"$error":"#VALUE!"}]
[null,79,null,{"$error":"#VALUE!"}]
[null,80,null,{"$error":"#VALUE!"}]
[null,81,null,{"$error":"#VALUE!"}]
[null,82,null,{"$error":"#VALUE!"}]
[null,83,null,{"$error":"#VALUE!"}]
[null,84,null,{"$error":"#VALUE!"}]
[null,85,null,{"$error":"#VALUE!"}]
[null,86,null,{"$error":"#VALUE!"}]
[null,87,null,{"$error":"#VALUE!"}]
[null,88,null,{"$error":"#VALUE!"}]
[null,89,null,{"$error":"#VALUE!"}]
[null,90,null,{"$error":"#VALUE!"}]
[null,91,null,{"$error":"#VALUE!"}]
[null,92,null,{"$error":"#VALUE!"}]
[null,93,null,{"$error":"#VALUE!"}]
[null,94,null,{"$error":"#VALUE!"}]
[null,95,null,{"$error":"#VALUE!"}]
[null,96,null,{"$error":"#VALUE!"}]
[null,97,null,{"$error":"#VALUE!"}]
[null,98,null,{"$error":"#VALUE!"}]
[null,99,null,{"$error":"#VALUE!"}]
[null,100,null,{"$error":"#VALUE!"}]
[{"$nulls":3},{"$error":"#VALUE!"}]
[{"$nulls":3},{"$error":"#VALUE!"}]
[{"$nulls":3},{"$error":"#VALUE!"}]
[{"$nulls":3},{"$error":"#VALUE!"}]
[{"$nulls":3},{"$error":"#VALUE!"}]
[{"$nulls":3},{"$error":"#VALUE!"}]
[{"$nulls":3},{"$error":"#VALUE!"}]
[{"$nulls":3},{"$error":"#VALUE!"}]
[{"$nulls":3},{"$error":"#VALUE!"}]
[{"$nulls":3},{"$error":"#VALUE!"}]
[{"$nulls":3},{"$error":"#VALUE!"}]
[{"$nulls":3},{"$error":"#VALUE!"}]
[{"$nulls":3},{"$error":"#VALUE!"}]
[{"$nulls":3},{"$error":"#VALUE!"}]
[{"$nulls":3},{"$error":"#VALUE!"}]
[{"$nulls":3},{"$error":"#VALUE!"}]
[{"$nulls":3},{"$error":"#VALUE!"}]
[{"$nulls":3},{"$error":"#VALUE!"}]
[{"$nulls":3},{"$error":"#VALUE!"}]
[{"$nulls":3},{"$error":"#VALUE!"}]
[{"$nulls":3},{"$error":"#VALUE!"}]
[{"$nulls":3},{"$error":"#VALUE!"}]
[{"$nulls":3},{"$error":"#VALUE!"}]
[{"$nulls":3},{"$error":"#VALUE!"}]
[{"$nulls":3},{"$error":"#VALUE!"}]
[{"$nulls":3},{"$error":"#VALUE!"}]
[{"$nulls":3},{"$error":"#VALUE!"}]
[{"$nulls":3},{"$error":"#VALUE!"}]
[{"$nulls":3},{"$error":"#VALUE!"}]
[{"$nulls":3},{"$error":"#VALUE!"}]
[{"$nulls":3},{"$error":"#VALUE!"}]
[{"$nulls":3},{"$error":"#VALUE!"}]
[{"$nulls":3},{"$error":"#VALUE!"}]
[{"$nulls":3},{"$error":"#VALUE!"}]
[{"$nulls":3},{"$error":"#VALUE!"}]
[{"$nulls":3},{"$error":"#VALUE!"}]
[{"$nulls":3},{"$error":"#VALUE!"}]
[{"$nulls":3},{"$error":"#VALUE!"}]
[{"$nulls":3},{"$error":"#VALUE!"}]
[{"$nulls":3},{"$error":"#VALUE!"}]
[{"$nulls":3},{"$error":"#VALUE!"}]
[{"$nulls":3},{"$error":"#VALUE!"}]
[{"$nulls":3},{"$error":"#VALUE!"}]
[{"$nulls":3},{"$error":"#VALUE!"}]
[{"$nulls":3},{"$error":"#VALUE!"}]
[{"$nulls":3},{"$error":"#VALUE!"}]
[{"$nulls":3},{"$error":"#VALUE!"}]
[{"$nulls":3},{"$error":"#VALUE!"}]
[{"$nulls":3},{"$error":"#VALUE!"}]
[{"$nulls":3},{"$error":"#VALUE!"}]
[{"$nulls":3},{"$error":"#VALUE!"}]
[{"$nulls":3},{"$error":"#VALUE!"}]
[{"$nulls":3},{"$error":"#VALUE!"}]
[{"$nulls":3},{"$error":"#VALUE!"}]
[{"$nulls":3},{"$error":"#VALUE!"}]
[{"$nulls":3},{"$error":"#VALUE!"}]
[{"$nulls":3},{"$error":"#VALUE!"}]
[{"$nulls":3},{"$error":"#VALUE!"}]
[{"$nulls":3},{"$error":"#VALUE!"}]
[{"$nulls":3},{"$error":"#VALUE!"}]
[{"$nulls":3},{"$error":"#VALUE!"}]
[{"$nulls":3},{"$error":"#VALUE!"}]
[{"$nulls":3},{"$error":"#VALUE!"}]
[{"$nulls":3},{"$error":"#VALUE!"}]
[{"$nulls":3},{"$error":"#VALUE!"}]
[{"$nulls":3},{"$error":"#VALUE!"}]
[{"$nulls":3},{"$error":"#VALUE!"}]
[{"$nulls":3},{"$error":"#VALUE!"}]
[{"$nulls":3},{"$error":"#VALUE!"}]
[{"$nulls":3},{"$error":"#VALUE!"}]
[{"$nulls":3},{"$error":"#VALUE!"}]
[{"$nulls":3},{"$error":"#VALUE!"}]
[{"$nulls":3},{"$error":"#VALUE!"}]
[{"$nulls":3},{"$error":"#VALUE!"}]
[{"$nulls":3},{"$error":"#VALUE!"}]
[{"$nulls":3},{"$error":"#VALUE!"}]
[{"$nulls":3},{"$error":"#VALUE!"}]
[{"$nulls":3},{"$error":"#VALUE!"}]
[{"$nulls":3},{"$error":"#VALUE!"}]
[{"$nulls":3},{"$error":"#VALUE!"}]
[{"$nulls":3},{"$error":"#VALUE!"}]
[{"$nulls":3},{"$error":"#VALUE!"}]
[{"$nulls":3},{"$error":"#VALUE!"}]
[{"$nulls":3},{"$error":"#VALUE!"}]
[{"$nulls":3},{"$error":"#VALUE!"}]
[{"$nulls":3},{"$error":"#VALUE!"}]
[{"$nulls":3},{"$error":"#VALUE!"}]
[{"$nulls":3},{"$error":"#VALUE!"}]
[{"$nulls":3},{"$error":"#VALUE!"}]
[{"$nulls":3},{"$error":"#VALUE!"}]
[{"$nulls":3},{"$error":"#VALUE!"}]
[{"$nulls":3},{"$error":"#VALUE!"}]
[{"$nulls":3},{"$error":"#VALUE!"}]
[{"$nulls":3},{"$error":"#VALUE!"}]
[{"$nulls":3},{"$error":"#VALUE!"}]
[{"$nulls":3},{"$error":"#VALUE!"}]
[{"$nulls":3},{"$error":"#VALUE!"}]
[{"$nulls":3},{"$error":"#VALUE!"}]
[{"$nulls":3},{"$error":"#VALUE!"}]
[{"$nulls":3},{"$error":"#VALUE!"}]
[{"$nulls":3},{"$error":"#VALUE!"}]
[{"$nulls":3},{"$error":"#VALUE!"}]
[{"$nulls":3},{"$error":"#VALUE!"}]
[{"$nulls":3},{"$error":"#VALUE!"}]
[{"$nulls":3},{"$error":"#VALUE!"}]
[{"$nulls":3},{"$error":"#VALUE!"}]
[{"$nulls":3},{"$error":"#VALUE!"}]
[{"$nulls":3},{"$error":"#VALUE!"}]
[{"$nulls":3},{"$error":"#VALUE!"}]
[{"$nulls":3},{"$error":"#VALUE!"}]
[{"$nulls":3},{"$error":"#VALUE!"}]
[{"$nulls":3},{"$error":"#VALUE!"}]
[{"$nulls":3},{"$error":"#VALUE!"}]
[{"$nulls":3},{"$error":"#VALUE!"}]
[{"$nulls":3},{"$error":"#VALUE!"}]
[{"$nulls":3},{"$error":"#VALUE!"}]
[{"$nulls":3},{"$error":"#VALUE!"}]
[{"$nulls":3},{"$error":"#VALUE!"}]
[{"$nulls":3},{"$error":"#VALUE!"}]
[{"$nulls":3},{"$error":"#VALUE!"}]
[{"$nulls":3},{"$error":"#VALUE!"}]
[{"$nulls":3},{"$error":"#VALUE!"}]
[{"$nulls":3},{"$error":"#VALUE!"}]
[{"$nulls":3},{"$error":"#VALUE!"}]
[{"$nulls":3},{"$error":"#VALUE!"}]
[{"$nulls":3},{"$error":"#VALUE!"}]
[{"$nulls":3},{"$error":"#VALUE!"}]
[{"$nulls":3},{"$error":"#VALUE!"}]
[{"$nulls":3},{"$error":"#VALUE!"}]
[{"$nulls":3},{"$error":"#VALUE!"}]
[{"$nulls":3},{"$error":"#VALUE!"}]
[{"$nulls":3},{"$error":"#VALUE!"}]
[{"$nulls":3},{"$error":"#VALUE!"}]
[{"$nulls":3},{"$error":"#VALUE!"}]
[{"$nulls":3},{"$error":"#VALUE!"}]
[{"$nulls":3},{"$error":"#VALUE!"}]
[{"$nulls":3},{"$error":"#VALUE!"}]
[{"$nulls":3},{"$error":"#VALUE!"}]
[{"$nulls":3},{"$error":"#VALUE!"}]
[{"$nulls":3},{"$error":"#VALUE!"}]
[{"$nulls":3},{"$error":"#VALUE!"}]
[{"$nulls":3},{"$error":"#VALUE!"}]
[{"$nulls":3},{"$error":"#VALUE!"}]
[{"$nulls":3},{"$error":"#VALUE!"}]
[{"$nulls":3},{"$error":"#VALUE!"}]
[{"$nulls":3},{"$error":"#VALUE!"}]
[{"$nulls":3},{"$error":"#VALUE!"}]
[{"$nulls":3},{"$error":"#VALUE!"}]
[{"$nulls":3},{"$error":"#VALUE!"}]
[{"$nulls":3},{"$error":"#VALUE!"}]
[{"$nulls":3},{"$error":"#VALUE!"}]
[{"$nulls":3},{"$error":"#VALUE!"}]
[{"$nulls":3},{"$error":"#VALUE!"}]
[{"$nulls":3},{"$error":"#VALUE!"}]
[{"$nulls":3},{"$error":"#VALUE!"}]
[{"$nulls":3},{"$error":"#VALUE!"}]
[{"$nulls":3},{"$error":"#VALUE!"}]
[{"$nulls":3},{"$error":"#VALUE!"}]
[{"$nulls":3},{"$error":"#VALUE!"}]
[{"$nulls":3},{"$error":"#VALUE!"}]
[{"$nulls":3},{"$error":"#VALUE!"}]
[{"$nulls":3},{"$error":"#VALUE!"}]
[{"$nulls":3},{"$error":"#VALUE!"}]
[{"$nulls":3},{"$error":"#VALUE!"}]
[{"$nulls":3},{"$error":"#VALUE!"}]
[{"$nulls":3},{"$error":"#VALUE!"}]
[{"$nulls":3},{"$error":"#VALUE!"}]
[{"$nulls":3},{"$error":"#VALUE!"}]
[{"$nulls":3},{"$error":"#VALUE!"}]
[{"$nulls":3},{"$error":"#VALUE!"}]
[{"$nulls":3},{"$error":"#VALUE!"}]
[{"$nulls":3},{"$error":"#VALUE!"}]
[{"$nulls":3},{"$error":"#VALUE!"}]
[{"$nulls":3},{"$error":"#VALUE!"}]
[{"$nulls":3},{"$error":"#VALUE!"}]
[{"$nulls":3},{"$error":"#VALUE!"}]
[{"$nulls":3},{"$error":"#VALUE!"}]
[{"$nulls":3},{"$error":"#VALUE!"}]
[{"$nulls":3},{"$error":"#VALUE!"}]
[{"$nulls":3},{"$error":"#VALUE!"}]
[{"$nulls":3},{"$error":"#VALUE!"}]
[{"$nulls":3},{"$error":"#VALUE!"}]
[{"$nulls":3},{"$error":"#VALUE!"}]
[{"$nulls":3},{"$error":"#VALUE!"}]
[{"$nulls":3},{"$error":"#VALUE!"}]
[{"$nulls":3},{"$error":"#VALUE!"}]
[{"$nulls":3},{"$error":"#VALUE!"}]
[{"$nulls":3},{"$error":"#VALUE!"}]
[{"$nulls":3},{"$error":"#VALUE!"}]
[{"$nulls":3},{"$error":"#VALUE!"}]
[{"$nulls":3},{"$error":"#VALUE!"}]
[{"$nulls":3},{"$error":"#VALUE!"}]
[{"$nulls":3},{"$error":"#VALUE!"}]
[{"$nulls":3},{"$error":"#VALUE!"}]
[{"$nulls":3},{"$error":"#VALUE!"}]
[{"$nulls":3},{"$error":"#VALUE!"}]
[{"$nulls":3},{"$error":"#VALUE!"}]
[{"$nulls":3},{"$error":"#VALUE!"}]
[{"$nulls":3},{"$error":"#VALUE!"}]
[{"$nulls":3},{"$error":"#VALUE!"}]
[{"$nulls":3},{"$error":"#VALUE!"}]
[{"$nulls":3},{"$error":"#VALUE!"}]
[{"$nulls":3},{"$error":"#VALUE!"}]
[{"$nulls":3},{"$error":"#VALUE!"}]
[{"$nulls":3},{"$error":"#VALUE!"}]
[{"$nulls":3},{"$error":"#VALUE!"}]
[{"$nulls":3},{"$error":"#VALUE!"}]
[{"$nulls":3},{"$error":"#VALUE!"}]
[{"$nulls":3},{"$error":"#VALUE!"}]
[{"$nulls":3},{"$error":"#VALUE!"}]
[{"$nulls":3},{"$error":"#VALUE!"}]
[{"$nulls":3},{"$error":"#VALUE!"}]
[{"$nulls":3},{"$error":"#VALUE!"}]
[{"$nulls":3},{"$error":"#VALUE!"}]
[{"$nulls":3},{"$error":"#VALUE!"}]
[{"$nulls":3},{"$error":"#VALUE!"}]
[{"$nulls":3},{"$error":"#VALUE!"}]
[{"$nulls":3},{"$error":"#VALUE!"}]
[{"$nulls":3},{"$error":"#VALUE!"}]
[{"$nulls":3},{"$error":"#VALUE!"}]
[{"$nulls":3},{"$error":"#VALUE!"}]
[{"$nulls":3},{"$error":"#VALUE!"}]
[{"$nulls":3},{"$error":"#VALUE!"}]
[{"$nulls":3},{"$error":"#VALUE!"}]
[{"$nulls":3},{"$error":"#VALUE!"}]
[{"$nulls":3},{"$error":"#VALUE!"}]
[{"$nulls":3},{"$error":"#VALUE!"}]
[{"$nulls":3},{"$error":"#VALUE!"}]
[{"$nulls":3},{"$error":"#VALUE!"}]
[{"$nulls":3},{"$error":"#VALUE!"}]
[{"$nulls":3},{"$error":"#VALUE!"}]
[{"$nulls":3},{"$error":"#VALUE!"}]
[{"$nulls":3},{"$error":"#VALUE!"}]
[{"$nulls":3},{"$error":"#VALUE!"}]
[{"$nulls":3},{"$error":"#VALUE!"}]
[{"$nulls":3},{"$error":"#VALUE!"}]
[{"$nulls":3},{"$error":"#VALUE!"}]
[{"$nulls":3},{"$error":"#VALUE!"}]
[{"$nulls":3},{"$error":"#VALUE!"}]
[{"$nulls":3},{"$error":"#VALUE!"}]
[{"$nulls":3},{"$error":"#VALUE!"}]
[{"$nulls":3},{"$error":"#VALUE!"}]
[{"$nulls":3},{"$error":"#VALUE!"}]
[{"$nulls":3},{"$error":"#VALUE!"}]
[{"$nulls":3},{"$error":"#VALUE!"}]
[{"$nulls":3},{"$error":"#VALUE!"}]
[{"$nulls":3},{"$error":"#VALUE!"}]
[{"$nulls":3},{"$error":"#VALUE!"}]
[{"$nulls":3},{"$error":"#VALUE!"}]
[{"$nulls":3},{"$error":"#VALUE!"}]
[{"$nulls":3},{"$error":"#VALUE!"}]
[{"$nulls":3},{"$error":"#VALUE!"}]
[{"$nulls":3},{"$error":"#VALUE!"}]
[{"$nulls":3},{"$error":"#VALUE!"}]
[{"$nulls":3},{"$error":"#VALUE!"}]
[{"$nulls":3},{"$error":"#VALUE!"}]
[{"$nulls":3},{"$error":"#VALUE!"}]
[{"$nulls":3},{"$error":"#VALUE!"}]
[{"$nulls":3},{"$error":"#VALUE!"}]
[{"$nulls":3},{"$error":"#VALUE!"}]
[{"$nulls":3},{"$error":"#VALUE!"}]
[{"$nulls":3},{"$error":"#VALUE!"}]
[{"$nulls":3},{"$error":"#VALUE!"}]
[{"$nulls":3},{"$error":"#VALUE!"}]
[{"$nulls":3},{"$error":"#VALUE!"}]
[{"$nulls":3},{"$error":"#VALUE!"}]
[{"$nulls":3},{"$error":"#VALUE!"}]
[{"$nulls":3},{"$error":"#VALUE!"}]
[{"$nulls":3},{"$error":"#VALUE!"}]
[{"$nulls":3},{"$error":"#VALUE!"}]
[{"$nulls":3},{"$error":"#VALUE!"}]
[{"$nulls":3},{"$error":"#VALUE!"}]
[{"$nulls":3},{"$error":"#VALUE!"}]
[{"$nulls":3},{"$error":"#VALUE!"}]
[{"$nulls":3},{"$error":"#VALUE!"}]
[{"$nulls":3},{"$error":"#VALUE!"}]
[{"$nulls":3},{"$error":"#VALUE!"}]
[{"$nulls":3},{"$error":"#VALUE!"}]
[{"$nulls":3},{"$error":"#VALUE!"}]
[{"$nulls":3},{"$error":"#VALUE!"}]
[{"$nulls":3},{"$error":"#VALUE!"}]
[{"$nulls":3},{"$error":"#VALUE!"}]
[{"$nulls":3},{"$error":"#VALUE!"}]
[{"$nulls":3},{"$error":"#VALUE!"}]
[{"$nulls":3},{"$error":"#VALUE!"}]
[{"$nulls":3},{"$error":"#VALUE!"}]
[{"$nulls":3},{"$error":"#VALUE!"}]
[{"$nulls":3},{"$error":"#VALUE!"}]
[{"$nulls":3},{"$error":"#VALUE!"}]
[{"$nulls":3},{"$error":"#VALUE!"}]
[{"$nulls":3},{"$error":"#VALUE!"}]
[{"$nulls":3},{"$error":"#VALUE!"}]
[{"$nulls":3},{"$error":"#VALUE!"}]
[{"$nulls":3},{"$error":"#VALUE!"}]
[{"$nulls":3},{"$error":"#VALUE!"}]
[{"$nulls":3},{"$error":"#VALUE!"}]
[{"$nulls":3},{"$error":"#VALUE!"}]
[{"$nulls":3},{"$error":"#VALUE!"}]
[{"$nulls":3},{"$error":"#VALUE!"}]
[{"$nulls":3},{"$error":"#VALUE!"}]
[{"$nulls":3},{"$error":"#VALUE!"}]
[{"$nulls":3},{"$error":"#VALUE!"}]
[{"$nulls":3},{"$error":"#VALUE!"}]
[{"$nulls":3},{"$error":"#VALUE!"}]
[{"$nulls":3},{"$error":"#VALUE!"}]
[{"$nulls":3},{"$error":"#VALUE!"}]
[{"$nulls":3},{"$error":"#VALUE!"}]
[{"$nulls":3},{"$error":"#VALUE!"}]
[{"$nulls":3},{"$error":"#VALUE!"}]
[{"$nulls":3},{"$error":"#VALUE!"}]
[{"$nulls":3},{"$error":"#VALUE!"}]
[{"$nulls":3},{"$error":"#VALUE!"}]
[{"$nulls":3},{"$error":"#VALUE!"}]
[{"$nulls":3},{"$error":"#VALUE!"}]
[{"$nulls":3},{"$error":"#VALUE!"}]
[{"$nulls":3},{"$error":"#VALUE!"}]
[{"$nulls":3},{"$error":"#VALUE!"}]
[{"$nulls":3},{"$error":"#VALUE!"}]
[{"$nulls":3},{"$error":"#VALUE!"}]
[{"$nulls":3},{"$error":"#VALUE!"}]
[{"$nulls":3},{"$error":"#VALUE!"}]
[{"$nulls":3},{"$error":"#VALUE!"}]
[{"$nulls":3},{"$error":"#VALUE!"}]
[{"$nulls":3},{"$error":"#VALUE!"}]
[{"$nulls":3},{"$error":"#VALUE!"}]
[{"$nulls":3},{"$error":"#VALUE!"}]
[{"$nulls":3},{"$error":"#VALUE!"}]
[{"$nulls":3},{"$error":"#VALUE!"}]
[{"$nulls":3},{"$error":"#VALUE!"}]
[{"$nulls":3},{"$error":"#VALUE!"}]
[{"$nulls":3},{"$error":"#VALUE!"}]
[{"$nulls":3},{"$error":"#VALUE!"}]
[{"$nulls":3},{"$error":"#VALUE!"}]
[{"$nulls":3},{"$error":"#VALUE!"}]
[{"$nulls":3},{"$error":"#VALUE!"}]
[{"$nulls":3},{"$error":"#VALUE!"}]
[{"$nulls":3},{"$error":"#VALUE!"}]
[{"$nulls":3},{"$error":"#VALUE!"}]
[{"$nulls":3},{"$error":"#VALUE!"}]
[{"$nulls":3},{"$error":"#VALUE!"}]
[{"$nulls":3},{"$error":"#VALUE!"}]
[{"$nulls":3},{"$error":"#VALUE!"}]
[{"$nulls":3},{"$error":"#VALUE!"}]
[{"$nulls":3},{"$error":"#VALUE!"}]
[{"$nulls":3},{"$error":"#VALUE!"}]
[{"$nulls":3},{"$error":"#VALUE!"}]
[{"$nulls":3},{"$error":"#VALUE!"}]
[{"$nulls":3},{"$error":"#VALUE!"}]
[{"$nulls":3},{"$error":"#VALUE!"}]
[{"$nulls":3},{"$error":"#VALUE!"}]
[{"$nulls":3},{"$error":"#VALUE!"}]
[{"$nulls":3},{"$error":"#VALUE!"}]
[{"$nulls":3},{"$error":"#VALUE!"}]
[{"$nulls":3},{"$error":"#VALUE!"}]
[{"$nulls":3},{"$error":"#VALUE!"}]
[{"$nulls":3},{"$error":"#VALUE!"}]
[{"$nulls":3},{"$error":"#VALUE!"}]
[{"$nulls":3},{"$error":"#VALUE!"}]
[{"$nulls":3},{"$error":"#VALUE!"}]
[{"$nulls":3},{"$error":"#VALUE!"}]
[{"$nulls":3},{"$error":"#VALUE!"}]
[{"$nulls":3},{"$error":"#VALUE!"}]
[{"$nulls":3},{"$error":"#VALUE!"}]
[{"$nulls":3},{"$error":"#VALUE!"}]
[{"$nulls":3},{"$error":"#VALUE!"}]
[{"$nulls":3},{"$error":"#VALUE!"}]
[{"$nulls":3},{"$error":"#VALUE!"}]
[{"$nulls":3},{"$error":"#VALUE!"}]
[{"$nulls":3},{"$error":"#VALUE!"}]
[{"$nulls":3},{"$error":"#VALUE!"}]
[{"$nulls":3},{"$error":"#VALUE!"}]
[{"$nulls":3},{"$error":"#VALUE!"}]
[{"$nulls":3},{"$error":"#VALUE!"}]
[{"$nulls":3},{"$error":"#VALUE!"}]
[{"$nulls":3},{"$error":"#VALUE!"}]
[{"$nulls":3},{"$error":"#VALUE!"}]
[{"$nulls":3},{"$error":"#VALUE!"}]
[{"$nulls":3},{"$error":"#VALUE!"}]
[{"$nulls":3},{"$error":"#VALUE!"}]
[{"$nulls":3},{"$error":"#VALUE!"}]
[{"$nulls":3},{"$error":"#VALUE!"}]
[{"$nulls":3},{"$error":"#VALUE!"}]
[{"$nulls":3},{"$error":"#VALUE!"}]
[{"$nulls":3},{"$error":"#VALUE!"}]
[{"$nulls":3},{"$error":"#VALUE!"}]
[{"$nulls":3},{"$error":"#VALUE!"}]
[{"$nulls":3},{"$error":"#VALUE!"}]
[{"$nulls":3},{"$error":"#VALUE!"}]
[{"$nulls":3},{"$error":"#VALUE!"}]
[{"$nulls":3},{"$error":"#VALUE!"}]
[{"$nulls":3},{"$error":"#VALUE!"}]
[{"$nulls":3},{"$error":"#VALUE!"}]
[{"$nulls":3},{"$error":"#VALUE!"}]
[{"$nulls":3},{"$error":"#VALUE!"}]
[{"$nulls":3},{"$error":"#VALUE!"}]

{"sheet":"U11G","index":1,"n_rows":207,"n_cols":11,"rows_kept":207,"hidden":true,"merged":[[0,1,0,6],[1,1,1,6]]}
[null,"Sussex Athletics XC Championships\nBexhill, 07/01/2023"]
[null,"U11 Girls"]
["Temp","Pos","Bib","Time","Forename","Surname","Club","Cat ","Sex","Rk","Club Rk"]
[{"$f":"+K4","v":{"$error":"#REF!"}},1,43,"8:50",{"$f":"+VLOOKUP($C4,#REF!,2,\"false\")","v":{"$error":"#REF!"}},{"$f":"+VLOOKUP($C4,#REF!,3,\"false\")","v":{"$error":"#REF!"}},{"$f":"+VLOOKUP($C4,#REF!,4,\"false\")","v":{"$error":"#REF!"}},{"$f":"+VLOOKUP($C4,#REF!,5,\"false\")","v":{"$error":"#REF!"}},{"$f":"+VLOOKUP($C4,#REF!,6,\"false\")","v":{"$error":"#REF!"}},{"$f":"TEXT(SUMPRODUCT(--(G4=$G$4:$G$597),--(B4>$B$4:$B$597))+1,0)","v":{"$error":"#REF!"}},{"$f":"+G4&\"  \"&J4","v":{"$error":"#REF!"}}]
[{"$f":"+K5","v":{"$error":"#REF!"}},{"$f":"+B4+1","v":2},38,"8:51",{"$f":"+VLOOKUP($C5,#REF!,2,\"false\")","v":{"$error":"#REF!"}},{"$f":"+VLOOKUP($C5,#REF!,3,\"false\")","v":{"$error":"#REF!"}},{"$f":"+VLOOKUP($C5,#REF!,4,\"false\")","v":{"$error":"#REF!"}},{"$f":"+VLOOKUP($C5,#REF!,5,\"false\")","v":{"$error":"#REF!"}},{"$f":"+VLOOKUP($C5,#REF!,6,\"false\")","v":{"$error":"#REF!"}},{"$f":"TEXT(SUMPRODUCT(--(G5=$G$4:$G$597),--(B5>$B$4:$B$597))+1,0)","v":{"$error":"#REF!"}},{"$f":"+G5&\"  \"&J5","v":{"$error":"#REF!"}}]
[{"$error":"#REF!"},{"$f":"+B5+1","v":3},46,"8:52",{"$f":"+VLOOKUP($C6,#REF!,2,\"false\")","v":{"$error":"#REF!"}},{"$f":"+VLOOKUP($C6,#REF!,3,\"false\")","v":{"$error":"#REF!"}},{"$f":"+VLOOKUP($C6,#REF!,4,\"false\")","v":{"$error":"#REF!"}},{"$f":"+VLOOKUP($C6,#REF!,5,\"false\")","v":{"$error":"#REF!"}},{"$f":"+VLOOKUP($C6,#REF!,6,\"false\")","v":{"$error":"#REF!"}},{"$error":"#REF!"},{"$error":"#REF!"}]
[{"$error":"#REF!"},4,48,"8:54",{"$f":"+VLOOKUP($C7,#REF!,2,\"false\")","v":{"$error":"#REF!"}},{"$f":"+VLOOKUP($C7,#REF!,3,\"false\")","v":{"$error":"#REF!"}},{"$f":"+VLOOKUP($C7,#REF!,4,\"false\")","v":{"$error":"#REF!"}},{"$f":"+VLOOKUP($C7,#REF!,5,\"false\")","v":{"$error":"#REF!"}},{"$f":"+VLOOKUP($C7,#REF!,6,\"false\")","v":{"$error":"#REF!"}},{"$error":"#REF!"},{"$error":"#REF!"}]
[{"$error":"#REF!"},5,42,"8:57",{"$f":"+VLOOKUP($C8,#REF!,2,\"false\")","v":{"$error":"#REF!"}},{"$f":"+VLOOKUP($C8,#REF!,3,\"false\")","v":{"$error":"#REF!"}},{"$f":"+VLOOKUP($C8,#REF!,4,\"false\")","v":{"$error":"#REF!"}},{"$f":"+VLOOKUP($C8,#REF!,5,\"false\")","v":{"$error":"#REF!"}},{"$f":"+VLOOKUP($C8,#REF!,6,\"false\")","v":{"$error":"#REF!"}},{"$error":"#REF!"},{"$error":"#REF!"}]
[{"$error":"#REF!"},6,54,"9:33",{"$f":"+VLOOKUP($C9,#REF!,2,\"false\")","v":{"$error":"#REF!"}},{"$f":"+VLOOKUP($C9,#REF!,3,\"false\")","v":{"$error":"#REF!"}},{"$f":"+VLOOKUP($C9,#REF!,4,\"false\")","v":{"$error":"#REF!"}},{"$f":"+VLOOKUP($C9,#REF!,5,\"false\")","v":{"$error":"#REF!"}},{"$f":"+VLOOKUP($C9,#REF!,6,\"false\")","v":{"$error":"#REF!"}},{"$error":"#REF!"},{"$error":"#REF!"}]
[{"$error":"#REF!"},7,60,"9:35",{"$f":"+VLOOKUP($C10,#REF!,2,\"false\")","v":{"$error":"#REF!"}},{"$f":"+VLOOKUP($C10,#REF!,3,\"false\")","v":{"$error":"#REF!"}},{"$f":"+VLOOKUP($C10,#REF!,4,\"false\")","v":{"$error":"#REF!"}},{"$f":"+VLOOKUP($C10,#REF!,5,\"false\")","v":{"$error":"#REF!"}},{"$f":"+VLOOKUP($C10,#REF!,6,\"false\")","v":{"$error":"#REF!"}},{"$error":"#REF!"},{"$error":"#REF!"}]
[{"$error":"#REF!"},8,52,"9:37",{"$f":"+VLOOKUP($C11,#REF!,2,\"false\")","v":{"$error":"#REF!"}},{"$f":"+VLOOKUP($C11,#REF!,3,\"false\")","v":{"$error":"#REF!"}},{"$f":"+VLOOKUP($C11,#REF!,4,\"false\")","v":{"$error":"#REF!"}},{"$f":"+VLOOKUP($C11,#REF!,5,\"false\")","v":{"$error":"#REF!"}},{"$f":"+VLOOKUP($C11,#REF!,6,\"false\")","v":{"$error":"#REF!"}},{"$error":"#REF!"},{"$error":"#REF!"}]
[{"$error":"#REF!"},9,49,"9:45",{"$f":"+VLOOKUP($C12,#REF!,2,\"false\")","v":{"$error":"#REF!"}},{"$f":"+VLOOKUP($C12,#REF!,3,\"false\")","v":{"$error":"#REF!"}},{"$f":"+VLOOKUP($C12,#REF!,4,\"false\")","v":{"$error":"#REF!"}},{"$f":"+VLOOKUP($C12,#REF!,5,\"false\")","v":{"$error":"#REF!"}},{"$f":"+VLOOKUP($C12,#REF!,6,\"false\")","v":{"$error":"#REF!"}},{"$error":"#REF!"},{"$error":"#REF!"}]
[{"$error":"#REF!"},10,56,"9:46",{"$f":"+VLOOKUP($C13,#REF!,2,\"false\")","v":{"$error":"#REF!"}},{"$f":"+VLOOKUP($C13,#REF!,3,\"false\")","v":{"$error":"#REF!"}},{"$f":"+VLOOKUP($C13,#REF!,4,\"false\")","v":{"$error":"#REF!"}},{"$f":"+VLOOKUP($C13,#REF!,5,\"false\")","v":{"$error":"#REF!"}},{"$f":"+VLOOKUP($C13,#REF!,6,\"false\")","v":{"$error":"#REF!"}},{"$error":"#REF!"},{"$error":"#REF!"}]
[{"$error":"#REF!"},11,61,"9:47",{"$f":"+VLOOKUP($C14,#REF!,2,\"false\")","v":{"$error":"#REF!"}},{"$f":"+VLOOKUP($C14,#REF!,3,\"false\")","v":{"$error":"#REF!"}},{"$f":"+VLOOKUP($C14,#REF!,4,\"false\")","v":{"$error":"#REF!"}},{"$f":"+VLOOKUP($C14,#REF!,5,\"false\")","v":{"$error":"#REF!"}},{"$f":"+VLOOKUP($C14,#REF!,6,\"false\")","v":{"$error":"#REF!"}},{"$error":"#REF!"},{"$error":"#REF!"}]
[{"$error":"#REF!"},12,57,"9:48",{"$f":"+VLOOKUP($C15,#REF!,2,\"false\")","v":{"$error":"#REF!"}},{"$f":"+VLOOKUP($C15,#REF!,3,\"false\")","v":{"$error":"#REF!"}},{"$f":"+VLOOKUP($C15,#REF!,4,\"false\")","v":{"$error":"#REF!"}},{"$f":"+VLOOKUP($C15,#REF!,5,\"false\")","v":{"$error":"#REF!"}},{"$f":"+VLOOKUP($C15,#REF!,6,\"false\")","v":{"$error":"#REF!"}},{"$error":"#REF!"},{"$error":"#REF!"}]
[{"$error":"#REF!"},13,51,"9:51",{"$f":"+VLOOKUP($C16,#REF!,2,\"false\")","v":{"$error":"#REF!"}},{"$f":"+VLOOKUP($C16,#REF!,3,\"false\")","v":{"$error":"#REF!"}},{"$f":"+VLOOKUP($C16,#REF!,4,\"false\")","v":{"$error":"#REF!"}},{"$f":"+VLOOKUP($C16,#REF!,5,\"false\")","v":{"$error":"#REF!"}},{"$f":"+VLOOKUP($C16,#REF!,6,\"false\")","v":{"$error":"#REF!"}},{"$error":"#REF!"},{"$error":"#REF!"}]
[{"$error":"#REF!"},14,44,"9:51",{"$f":"+VLOOKUP($C17,#REF!,2,\"false\")","v":{"$error":"#REF!"}},{"$f":"+VLOOKUP($C17,#REF!,3,\"false\")","v":{"$error":"#REF!"}},{"$f":"+VLOOKUP($C17,#REF!,4,\"false\")","v":{"$error":"#REF!"}},{"$f":"+VLOOKUP($C17,#REF!,5,\"false\")","v":{"$error":"#REF!"}},{"$f":"+VLOOKUP($C17,#REF!,6,\"false\")","v":{"$error":"#REF!"}},{"$error":"#REF!"},{"$error":"#REF!"}]
[{"$error":"#REF!"},15,55,"10:01",{"$f":"+VLOOKUP($C18,#REF!,2,\"false\")","v":{"$error":"#REF!"}},{"$f":"+VLOOKUP($C18,#REF!,3,\"false\")","v":{"$error":"#REF!"}},{"$f":"+VLOOKUP($C18,#REF!,4,\"false\")","v":{"$error":"#REF!"}},{"$f":"+VLOOKUP($C18,#REF!,5,\"false\")","v":{"$error":"#REF!"}},{"$f":"+VLOOKUP($C18,#REF!,6,\"false\")","v":{"$error":"#REF!"}},{"$error":"#REF!"},{"$error":"#REF!"}]
[{"$error":"#REF!"},16,41,"10:03",{"$f":"+VLOOKUP($C19,#REF!,2,\"false\")","v":{"$error":"#REF!"}},{"$f":"+VLOOKUP($C19,#REF!,3,\"false\")","v":{"$error":"#REF!"}},{"$f":"+VLOOKUP($C19,#REF!,4,\"false\")","v":{"$error":"#REF!"}},{"$f":"+VLOOKUP($C19,#REF!,5,\"false\")","v":{"$error":"#REF!"}},{"$f":"+VLOOKUP($C19,#REF!,6,\"false\")","v":{"$error":"#REF!"}},{"$error":"#REF!"},{"$error":"#REF!"}]
[{"$error":"#REF!"},17,39,"10:06",{"$f":"+VLOOKUP($C20,#REF!,2,\"false\")","v":{"$error":"#REF!"}},{"$f":"+VLOOKUP($C20,#REF!,3,\"false\")","v":{"$error":"#REF!"}},{"$f":"+VLOOKUP($C20,#REF!,4,\"false\")","v":{"$error":"#REF!"}},{"$f":"+VLOOKUP($C20,#REF!,5,\"false\")","v":{"$error":"#REF!"}},{"$f":"+VLOOKUP($C20,#REF!,6,\"false\")","v":{"$error":"#REF!"}},{"$error":"#REF!"},{"$error":"#REF!"}]
[{"$error":"#REF!"},18,53,"10:28",{"$f":"+VLOOKUP($C21,#REF!,2,\"false\")","v":{"$error":"#REF!"}},{"$f":"+VLOOKUP($C21,#REF!,3,\"false\")","v":{"$error":"#REF!"}},{"$f":"+VLOOKUP($C21,#REF!,4,\"false\")","v":{"$error":"#REF!"}},{"$f":"+VLOOKUP($C21,#REF!,5,\"false\")","v":{"$error":"#REF!"}},{"$f":"+VLOOKUP($C21,#REF!,6,\"false\")","v":{"$error":"#REF!"}},{"$error":"#REF!"},{"$f":"+G21&\"  \"&J21","v":{"$error":"#REF!"}}]
[{"$error":"#REF!"},19,50,"10:36",{"$f":"+VLOOKUP($C22,#REF!,2,\"false\")","v":{"$error":"#REF!"}},{"$f":"+VLOOKUP($C22,#REF!,3,\"false\")","v":{"$error":"#REF!"}},{"$f":"+VLOOKUP($C22,#REF!,4,\"false\")","v":{"$error":"#REF!"}},{"$f":"+VLOOKUP($C22,#REF!,5,\"false\")","v":{"$error":"#REF!"}},{"$f":"+VLOOKUP($C22,#REF!,6,\"false\")","v":{"$error":"#REF!"}},{"$error":"#REF!"},{"$f":"+G22&\"  \"&J22","v":{"$error":"#REF!"}}]
[{"$error":"#REF!"},20,523,"10:45",{"$f":"+VLOOKUP($C23,#REF!,2,\"false\")","v":{"$error":"#REF!"}},{"$f":"+VLOOKUP($C23,#REF!,3,\"false\")","v":{"$error":"#REF!"}},{"$f":"+VLOOKUP($C23,#REF!,4,\"false\")","v":{"$error":"#REF!"}},{"$f":"+VLOOKUP($C23,#REF!,5,\"false\")","v":{"$error":"#REF!"}},{"$f":"+VLOOKUP($C23,#REF!,6,\"false\")","v":{"$error":"#REF!"}},{"$error":"#REF!"},{"$f":"+G23&\"  \"&J23","v":{"$error":"#REF!"}}]
[{"$error":"#REF!"},21,59,"11:16",{"$f":"+VLOOKUP($C24,#REF!,2,\"false\")","v":{"$error":"#REF!"}},{"$f":"+VLOOKUP($C24,#REF!,3,\"false\")","v":{"$error":"#REF!"}},{"$f":"+VLOOKUP($C24,#REF!,4,\"false\")","v":{"$error":"#REF!"}},{"$f":"+VLOOKUP($C24,#REF!,5,\"false\")","v":{"$error":"#REF!"}},{"$f":"+VLOOKUP($C24,#REF!,6,\"false\")","v":{"$error":"#REF!"}},{"$error":"#REF!"},{"$f":"+G24&\"  \"&J24","v":{"$error":"#REF!"}}]
{"$rows_empty":82}
[null,"Pos","Bib","Time"]
[null,1,43,"8:50"]
[null,{"$f":"+B108+1","v":2},38,"8:51"]
[null,{"$f":"+B109+1","v":3},46,"8:52"]
[null,4,48,"8:54"]
[null,5,42,"8:57"]
[null,6,54,"9:33"]
[null,7,60,"9:35"]
[null,8,52,"9:37"]
[null,9,49,"9:45"]
[null,10,56,"9:46"]
[null,11,61,"9:47"]
[null,12,57,"9:48"]
[null,13,51,"9:51"]
[null,14,44,"9:51"]
[null,15,55,"10:01"]
[null,16,41,"10:03"]
[null,17,39,"10:06"]
[null,18,53,"10:28"]
[null,19,50,"10:36"]
[null,20,523,"10:45"]
[null,21,59,"11:16"]
[null,22]
[null,23]
[null,24]
[null,25]
[null,26]
[null,27]
[null,28]
[null,29]
[null,30]
[null,31]
[null,32]
[null,33]
[null,34]
[null,35]
[null,36]
[null,37]
[null,38]
[null,39]
[null,40]
[null,41]
[null,42]
[null,43]
[null,44]
[null,45]
[null,46]
[null,47]
[null,48]
[null,49]
[null,50]
[null,51]
[null,52]
[null,53]
[null,54]
[null,55]
[null,56]
[null,57]
[null,58]
[null,59]
[null,60]
[null,61]
[null,62]
[null,63]
[null,64]
[null,65]
[null,66]
[null,{"$f":"+B173+1","v":67}]
[null,68]
[null,69]
[null,70]
[null,71]
[null,72]
[null,73]
[null,74]
[null,75]
[null,76]
[null,77]
[null,78]
[null,79]
[null,80]
[null,81]
[null,82]
[null,83]
[null,84]
[null,85]
[null,86]
[null,87]
[null,88]
[null,89]
[null,90]
[null,91]
[null,92]
[null,93]
[null,94]
[null,95]
[null,96]
[null,97]
[null,98]
[null,99]
[null,100]

{"sheet":"U13G","index":2,"n_rows":207,"n_cols":39,"rows_kept":207,"hidden":true,"merged":[[0,1,0,6],[1,1,1,6]]}
[null,"Sussex Athletics XC Championships\nBexhill, 07/01/2023",{"$nulls":11},"26 clubs - cols N to AM"]
[null,"U13 Girls"]
["Temp","Pos","Bib","Time","Forename","Surname","Club","Cat ","Sex","Rk","Club Rk",null,null,"HY","CRA","EBR","HBS","CHI","WDH","B&H","SYN","PHX","BWK","HAS","BR&T"]
[{"$f":"+K4","v":{"$error":"#REF!"}},1,125,"12:36",{"$f":"+VLOOKUP($C4,#REF!,2,\"false\")","v":{"$error":"#REF!"}},{"$f":"+VLOOKUP($C4,#REF!,3,\"false\")","v":{"$error":"#REF!"}},{"$f":"+VLOOKUP($C4,#REF!,4,\"false\")","v":{"$error":"#REF!"}},{"$f":"+VLOOKUP($C4,#REF!,5,\"false\")","v":{"$error":"#REF!"}},{"$f":"+VLOOKUP($C4,#REF!,6,\"false\")","v":{"$error":"#REF!"}},{"$f":"TEXT(SUMPRODUCT(--(G4=$G$4:$G$597),--(B4>$B$4:$B$597))+1,0)","v":{"$error":"#REF!"}},{"$f":"+G4&\"  \"&J4","v":{"$error":"#REF!"}},null,1,{"$f":"+IF(ISNA(VLOOKUP(N$3&\"  \"&$M4,$A$3:$I$109,2,0)),\"\",VLOOKUP(N$3&\"  \"&$M4,$A$3:$I$109,2,0))","v":""},"","","","","","","","","",{"$f":"+IF(ISNA(VLOOKUP(X$3&\"  \"&$M4,$A$3:$I$109,2,0)),\"\",VLOOKUP(X$3&\"  \"&$M4,$A$3:$I$109,2,0))","v":""},"","","","","","","","","",{"$f":"+IF(ISNA(VLOOKUP(AH$3&\"  \"&$M4,$A$3:$I$109,2,0)),\"\",VLOOKUP(AH$3&\"  \"&$M4,$A$3:$I$109,2,0))","v":""},"","","","",""]
[{"$f":"+K5","v":{"$error":"#REF!"}},{"$f":"+B4+1","v":2},122,"13:12",{"$f":"+VLOOKUP($C5,#REF!,2,\"false\")","v":{"$error":"#REF!"}},{"$f":"+VLOOKUP($C5,#REF!,3,\"false\")","v":{"$error":"#REF!"}},{"$f":"+VLOOKUP($C5,#REF!,4,\"false\")","v":{"$error":"#REF!"}},{"$f":"+VLOOKUP($C5,#REF!,5,\"false\")","v":{"$error":"#REF!"}},{"$f":"+VLOOKUP($C5,#REF!,6,\"false\")","v":{"$error":"#REF!"}},{"$error":"#REF!"},{"$f":"+G5&\"  \"&J5","v":{"$error":"#REF!"}},null,2,"","","","","","","","","","","","","","","","","","","","","","","","","",""]
[{"$error":"#REF!"},{"$f":"+B5+1","v":3},120,"13:55",{"$f":"+VLOOKUP($C6,#REF!,2,\"false\")","v":{"$error":"#REF!"}},{"$f":"+VLOOKUP($C6,#REF!,3,\"false\")","v":{"$error":"#REF!"}},{"$f":"+VLOOKUP($C6,#REF!,4,\"false\")","v":{"$error":"#REF!"}},{"$f":"+VLOOKUP($C6,#REF!,5,\"false\")","v":{"$error":"#REF!"}},{"$f":"+VLOOKUP($C6,#REF!,6,\"false\")","v":{"$error":"#REF!"}},{"$error":"#REF!"},{"$error":"#REF!"},null,3,"","","","","","","","","","","","","","","","","","","","","","","","","",""]
[{"$error":"#REF!"},4,137,"14:05",{"$f":"+VLOOKUP($C7,#REF!,2,\"false\")","v":{"$error":"#REF!"}},{"$f":"+VLOOKUP($C7,#REF!,3,\"false\")","v":{"$error":"#REF!"}},{"$f":"+VLOOKUP($C7,#REF!,4,\"false\")","v":{"$error":"#REF!"}},{"$f":"+VLOOKUP($C7,#REF!,5,\"false\")","v":{"$error":"#REF!"}},{"$f":"+VLOOKUP($C7,#REF!,6,\"false\")","v":{"$error":"#REF!"}},{"$error":"#REF!"},{"$error":"#REF!"},null,null,"","","","","","","","","","","","","","","","","","","","","","","","","",""]
[{"$error":"#REF!"},5,141,"14:11",{"$f":"+VLOOKUP($C8,#REF!,2,\"false\")","v":{"$error":"#REF!"}},{"$f":"+VLOOKUP($C8,#REF!,3,\"false\")","v":{"$error":"#REF!"}},{"$f":"+VLOOKUP($C8,#REF!,4,\"false\")","v":{"$error":"#REF!"}},{"$f":"+VLOOKUP($C8,#REF!,5,\"false\")","v":{"$error":"#REF!"}},{"$f":"+VLOOKUP($C8,#REF!,6,\"false\")","v":{"$error":"#REF!"}},{"$error":"#REF!"},{"$error":"#REF!"},null,null,"","","","","","","","","","","","","","","","","","","","","","","","","",""]
[{"$error":"#REF!"},6,159,"14:11",{"$f":"+VLOOKUP($C9,#REF!,2,\"false\")","v":{"$error":"#REF!"}},{"$f":"+VLOOKUP($C9,#REF!,3,\"false\")","v":{"$error":"#REF!"}},{"$f":"+VLOOKUP($C9,#REF!,4,\"false\")","v":{"$error":"#REF!"}},{"$f":"+VLOOKUP($C9,#REF!,5,\"false\")","v":{"$error":"#REF!"}},{"$f":"+VLOOKUP($C9,#REF!,6,\"false\")","v":{"$error":"#REF!"}},{"$error":"#REF!"},{"$error":"#REF!"},null,null,"","","","","","","","","","","","","","","","","","","","","","","","","",""]
[{"$error":"#REF!"},7,138,"14:16",{"$f":"+VLOOKUP($C10,#REF!,2,\"false\")","v":{"$error":"#REF!"}},{"$f":"+VLOOKUP($C10,#REF!,3,\"false\")","v":{"$error":"#REF!"}},{"$f":"+VLOOKUP($C10,#REF!,4,\"false\")","v":{"$error":"#REF!"}},{"$f":"+VLOOKUP($C10,#REF!,5,\"false\")","v":{"$error":"#REF!"}},{"$f":"+VLOOKUP($C10,#REF!,6,\"false\")","v":{"$error":"#REF!"}},{"$error":"#REF!"},{"$error":"#REF!"},null,"Tot",{"$f":"IF(N6=\"\",1000,SUM(N4:N6))","v":1000},{"$f":"IF(O6=\"\",1000,SUM(O4:O6))","v":1000},1000,1000,1000,1000,1000,1000,1000,1000,1000,1000,1000,1000,1000,1000,1000,1000,1000,1000,1000,1000,1000,1000,1000,1000]
[{"$error":"#REF!"},8,153,"14:18",{"$f":"+VLOOKUP($C11,#REF!,2,\"false\")","v":{"$error":"#REF!"}},{"$f":"+VLOOKUP($C11,#REF!,3,\"false\")","v":{"$error":"#REF!"}},{"$f":"+VLOOKUP($C11,#REF!,4,\"false\")","v":{"$error":"#REF!"}},{"$f":"+VLOOKUP($C11,#REF!,5,\"false\")","v":{"$error":"#REF!"}},{"$f":"+VLOOKUP($C11,#REF!,6,\"false\")","v":{"$error":"#REF!"}},{"$error":"#REF!"},{"$error":"#REF!"},null,"Pos",{"$f":"RANK(N10,($N$10:$AM$10,$N$19:$AM$19,$N$28:$AM$28, $N$37:$AM$37),1)","v":1},{"$f":"RANK(O10,($N$10:$AM$10,$N$19:$AM$19,$N$28:$AM$28, $N$37:$AM$37),1)","v":1},{"$f":"RANK(P10,($N$10:$AM$10,$N$19:$AM$19,$N$28:$AM$28, $N$37:$AM$37),1)","v":1},{"$f":"RANK(Q10,($N$10:$AM$10,$N$19:$AM$19,$N$28:$AM$28, $N$37:$AM$37),1)","v":1},{"$f":"RANK(R10,($N$10:$AM$10,$N$19:$AM$19,$N$28:$AM$28, $N$37:$AM$37),1)","v":1},{"$f":"RANK(S10,($N$10:$AM$10,$N$19:$AM$19,$N$28:$AM$28, $N$37:$AM$37),1)","v":1},{"$f":"RANK(T10,($N$10:$AM$10,$N$19:$AM$19,$N$28:$AM$28, $N$37:$AM$37),1)","v":1},{"$f":"RANK(U10,($N$10:$AM$10,$N$19:$AM$19,$N$28:$AM$28, $N$37:$AM$37),1)","v":1},{"$f":"RANK(V10,($N$10:$AM$10,$N$19:$AM$19,$N$28:$AM$28, $N$37:$AM$37),1)","v":1},{"$f":"RANK(W10,($N$10:$AM$10,$N$19:$AM$19,$N$28:$AM$28, $N$37:$AM$37),1)","v":1},{"$f":"RANK(X10,($N$10:$AM$10,$N$19:$AM$19,$N$28:$AM$28, $N$37:$AM$37),1)","v":1},{"$f":"RANK(Y10,($N$10:$AM$10,$N$19:$AM$19,$N$28:$AM$28, $N$37:$AM$37),1)","v":1},{"$f":"RANK(Z10,($N$10:$AM$10,$N$19:$AM$19,$N$28:$AM$28, $N$37:$AM$37),1)","v":1},{"$f":"RANK(AA10,($N$10:$AM$10,$N$19:$AM$19,$N$28:$AM$28, $N$37:$AM$37),1)","v":1},{"$f":"RANK(AB10,($N$10:$AM$10,$N$19:$AM$19,$N$28:$AM$28, $N$37:$AM$37),1)","v":1},{"$f":"RANK(AC10,($N$10:$AM$10,$N$19:$AM$19,$N$28:$AM$28, $N$37:$AM$37),1)","v":1},{"$f":"RANK(AD10,($N$10:$AM$10,$N$19:$AM$19,$N$28:$AM$28, $N$37:$AM$37),1)","v":1},{"$f":"RANK(AE10,($N$10:$AM$10,$N$19:$AM$19,$N$28:$AM$28, $N$37:$AM$37),1)","v":1},{"$f":"RANK(AF10,($N$10:$AM$10,$N$19:$AM$19,$N$28:$AM$28, $N$37:$AM$37),1)","v":1},{"$f":"RANK(AG10,($N$10:$AM$10,$N$19:$AM$19,$N$28:$AM$28, $N$37:$AM$37),1)","v":1},{"$f":"RANK(AH10,($N$10:$AM$10,$N$19:$AM$19,$N$28:$AM$28, $N$37:$AM$37),1)","v":1},{"$f":"RANK(AI10,($N$10:$AM$10,$N$19:$AM$19,$N$28:$AM$28, $N$37:$AM$37),1)","v":1},{"$f":"RANK(AJ10,($N$10:$AM$10,$N$19:$AM$19,$N$28:$AM$28, $N$37:$AM$37),1)","v":1},{"$f":"RANK(AK10,($N$10:$AM$10,$N$19:$AM$19,$N$28:$AM$28, $N$37:$AM$37),1)","v":1},{"$f":"RANK(AL10,($N$10:$AM$10,$N$19:$AM$19,$N$28:$AM$28, $N$37:$AM$37),1)","v":1},{"$f":"RANK(AM10,($N$10:$AM$10,$N$19:$AM$19,$N$28:$AM$28, $N$37:$AM$37),1)","v":1}]
[{"$error":"#REF!"},9,132,"14:27",{"$f":"+VLOOKUP($C12,#REF!,2,\"false\")","v":{"$error":"#REF!"}},{"$f":"+VLOOKUP($C12,#REF!,3,\"false\")","v":{"$error":"#REF!"}},{"$f":"+VLOOKUP($C12,#REF!,4,\"false\")","v":{"$error":"#REF!"}},{"$f":"+VLOOKUP($C12,#REF!,5,\"false\")","v":{"$error":"#REF!"}},{"$f":"+VLOOKUP($C12,#REF!,6,\"false\")","v":{"$error":"#REF!"}},{"$error":"#REF!"},{"$error":"#REF!"}]
[{"$error":"#REF!"},10,129,"14:29",{"$f":"+VLOOKUP($C13,#REF!,2,\"false\")","v":{"$error":"#REF!"}},{"$f":"+VLOOKUP($C13,#REF!,3,\"false\")","v":{"$error":"#REF!"}},{"$f":"+VLOOKUP($C13,#REF!,4,\"false\")","v":{"$error":"#REF!"}},{"$f":"+VLOOKUP($C13,#REF!,5,\"false\")","v":{"$error":"#REF!"}},{"$f":"+VLOOKUP($C13,#REF!,6,\"false\")","v":{"$error":"#REF!"}},{"$error":"#REF!"},{"$error":"#REF!"},null,4,{"$f":"+IF(ISNA(VLOOKUP(N$3&\"  \"&$M13,$A$3:$I$109,2,0)),\"\",VLOOKUP(N$3&\"  \"&$M13,$A$3:$I$109,2,0))","v":""},"","","","","","","","","",{"$f":"+IF(ISNA(VLOOKUP(X$3&\"  \"&$M13,$A$3:$I$109,2,0)),\"\",VLOOKUP(X$3&\"  \"&$M13,$A$3:$I$109,2,0))","v":""},"","","","","","","","","",{"$f":"+IF(ISNA(VLOOKUP(AH$3&\"  \"&$M13,$A$3:$I$109,2,0)),\"\",VLOOKUP(AH$3&\"  \"&$M13,$A$3:$I$109,2,0))","v":""},"","","","",""]
[{"$error":"#REF!"},11,130,"14:31",{"$f":"+VLOOKUP($C14,#REF!,2,\"false\")","v":{"$error":"#REF!"}},{"$f":"+VLOOKUP($C14,#REF!,3,\"false\")","v":{"$error":"#REF!"}},{"$f":"+VLOOKUP($C14,#REF!,4,\"false\")","v":{"$error":"#REF!"}},{"$f":"+VLOOKUP($C14,#REF!,5,\"false\")","v":{"$error":"#REF!"}},{"$f":"+VLOOKUP($C14,#REF!,6,\"false\")","v":{"$error":"#REF!"}},{"$error":"#REF!"},{"$error":"#REF!"},null,5,"","","","","","","","","","","","","","","","","","","","","","","","","",""]
[{"$error":"#REF!"},12,123,"14:40",{"$f":"+VLOOKUP($C15,#REF!,2,\"false\")","v":{"$error":"#REF!"}},{"$f":"+VLOOKUP($C15,#REF!,3,\"false\")","v":{"$error":"#REF!"}},{"$f":"+VLOOKUP($C15,#REF!,4,\"false\")","v":{"$error":"#REF!"}},{"$f":"+VLOOKUP($C15,#REF!,5,\"false\")","v":{"$error":"#REF!"}},{"$f":"+VLOOKUP($C15,#REF!,6,\"false\")","v":{"$error":"#REF!"}},{"$error":"#REF!"},{"$error":"#REF!"},null,6,"","","","","","","","","","","","","","","","","","","","","","","","","",""]
[{"$error":"#REF!"},13,525,"14:44",{"$f":"+VLOOKUP($C16,#REF!,2,\"false\")","v":{"$error":"#REF!"}},{"$f":"+VLOOKUP($C16,#REF!,3,\"false\")","v":{"$error":"#REF!"}},{"$f":"+VLOOKUP($C16,#REF!,4,\"false\")","v":{"$error":"#REF!"}},{"$f":"+VLOOKUP($C16,#REF!,5,\"false\")","v":{"$error":"#REF!"}},{"$f":"+VLOOKUP($C16,#REF!,6,\"false\")","v":{"$error":"#REF!"}},{"$error":"#REF!"},{"$error":"#REF!"},null,null,"","","","","","","","","","","","","","","","","","","","","","","","","",""]
[{"$error":"#REF!"},14,151,"15:06",{"$f":"+VLOOKUP($C17,#REF!,2,\"false\")","v":{"$error":"#REF!"}},{"$f":"+VLOOKUP($C17,#REF!,3,\"false\")","v":{"$error":"#REF!"}},{"$f":"+VLOOKUP($C17,#REF!,4,\"false\")","v":{"$error":"#REF!"}},{"$f":"+VLOOKUP($C17,#REF!,5,\"false\")","v":{"$error":"#REF!"}},{"$f":"+VLOOKUP($C17,#REF!,6,\"false\")","v":{"$error":"#REF!"}},{"$error":"#REF!"},{"$error":"#REF!"},null,null,"","","","","","","","","","","","","","","","","","","","","","","","","",""]
[{"$error":"#REF!"},15,157,"15:11",{"$f":"+VLOOKUP($C18,#REF!,2,\"false\")","v":{"$error":"#REF!"}},{"$f":"+VLOOKUP($C18,#REF!,3,\"false\")","v":{"$error":"#REF!"}},{"$f":"+VLOOKUP($C18,#REF!,4,\"false\")","v":{"$error":"#REF!"}},{"$f":"+VLOOKUP($C18,#REF!,5,\"false\")","v":{"$error":"#REF!"}},{"$f":"+VLOOKUP($C18,#REF!,6,\"false\")","v":{"$error":"#REF!"}},{"$error":"#REF!"},{"$error":"#REF!"},null,null,"","","","","","","","","","","","","","","","","","","","","","","","","",""]
[{"$error":"#REF!"},16,118,"15:15",{"$f":"+VLOOKUP($C19,#REF!,2,\"false\")","v":{"$error":"#REF!"}},{"$f":"+VLOOKUP($C19,#REF!,3,\"false\")","v":{"$error":"#REF!"}},{"$f":"+VLOOKUP($C19,#REF!,4,\"false\")","v":{"$error":"#REF!"}},{"$f":"+VLOOKUP($C19,#REF!,5,\"false\")","v":{"$error":"#REF!"}},{"$f":"+VLOOKUP($C19,#REF!,6,\"false\")","v":{"$error":"#REF!"}},{"$error":"#REF!"},{"$error":"#REF!"},null,"Tot",{"$f":"IF(N15=\"\",1000,SUM(N13:N15))","v":1000},{"$f":"IF(O15=\"\",1000,SUM(O13:O15))","v":1000},1000,1000,1000,1000,1000,1000,1000,1000,1000,1000,1000,1000,1000,1000,1000,1000,1000,1000,1000,1000,1000,1000,1000,1000]
[{"$error":"#REF!"},17,135,"15:19",{"$f":"+VLOOKUP($C20,#REF!,2,\"false\")","v":{"$error":"#REF!"}},{"$f":"+VLOOKUP($C20,#REF!,3,\"false\")","v":{"$error":"#REF!"}},{"$f":"+VLOOKUP($C20,#REF!,4,\"false\")","v":{"$error":"#REF!"}},{"$f":"+VLOOKUP($C20,#REF!,5,\"false\")","v":{"$error":"#REF!"}},{"$f":"+VLOOKUP($C20,#REF!,6,\"false\")","v":{"$error":"#REF!"}},{"$error":"#REF!"},{"$error":"#REF!"},null,"Pos",{"$f":"RANK(N19,($N$10:$AM$10,$N$19:$AM$19,$N$28:$AM$28, $N$37:$AM$37),1)","v":1},{"$f":"RANK(O19,($N$10:$AM$10,$N$19:$AM$19,$N$28:$AM$28, $N$37:$AM$37),1)","v":1},{"$f":"RANK(P19,($N$10:$AM$10,$N$19:$AM$19,$N$28:$AM$28, $N$37:$AM$37),1)","v":1},{"$f":"RANK(Q19,($N$10:$AM$10,$N$19:$AM$19,$N$28:$AM$28, $N$37:$AM$37),1)","v":1},{"$f":"RANK(R19,($N$10:$AM$10,$N$19:$AM$19,$N$28:$AM$28, $N$37:$AM$37),1)","v":1},{"$f":"RANK(S19,($N$10:$AM$10,$N$19:$AM$19,$N$28:$AM$28, $N$37:$AM$37),1)","v":1},{"$f":"RANK(T19,($N$10:$AM$10,$N$19:$AM$19,$N$28:$AM$28, $N$37:$AM$37),1)","v":1},{"$f":"RANK(U19,($N$10:$AM$10,$N$19:$AM$19,$N$28:$AM$28, $N$37:$AM$37),1)","v":1},{"$f":"RANK(V19,($N$10:$AM$10,$N$19:$AM$19,$N$28:$AM$28, $N$37:$AM$37),1)","v":1},{"$f":"RANK(W19,($N$10:$AM$10,$N$19:$AM$19,$N$28:$AM$28, $N$37:$AM$37),1)","v":1},{"$f":"RANK(X19,($N$10:$AM$10,$N$19:$AM$19,$N$28:$AM$28, $N$37:$AM$37),1)","v":1},{"$f":"RANK(Y19,($N$10:$AM$10,$N$19:$AM$19,$N$28:$AM$28, $N$37:$AM$37),1)","v":1},{"$f":"RANK(Z19,($N$10:$AM$10,$N$19:$AM$19,$N$28:$AM$28, $N$37:$AM$37),1)","v":1},{"$f":"RANK(AA19,($N$10:$AM$10,$N$19:$AM$19,$N$28:$AM$28, $N$37:$AM$37),1)","v":1},{"$f":"RANK(AB19,($N$10:$AM$10,$N$19:$AM$19,$N$28:$AM$28, $N$37:$AM$37),1)","v":1},{"$f":"RANK(AC19,($N$10:$AM$10,$N$19:$AM$19,$N$28:$AM$28, $N$37:$AM$37),1)","v":1},{"$f":"RANK(AD19,($N$10:$AM$10,$N$19:$AM$19,$N$28:$AM$28, $N$37:$AM$37),1)","v":1},{"$f":"RANK(AE19,($N$10:$AM$10,$N$19:$AM$19,$N$28:$AM$28, $N$37:$AM$37),1)","v":1},{"$f":"RANK(AF19,($N$10:$AM$10,$N$19:$AM$19,$N$28:$AM$28, $N$37:$AM$37),1)","v":1},{"$f":"RANK(AG19,($N$10:$AM$10,$N$19:$AM$19,$N$28:$AM$28, $N$37:$AM$37),1)","v":1},{"$f":"RANK(AH19,($N$10:$AM$10,$N$19:$AM$19,$N$28:$AM$28, $N$37:$AM$37),1)","v":1},{"$f":"RANK(AI19,($N$10:$AM$10,$N$19:$AM$19,$N$28:$AM$28, $N$37:$AM$37),1)","v":1},{"$f":"RANK(AJ19,($N$10:$AM$10,$N$19:$AM$19,$N$28:$AM$28, $N$37:$AM$37),1)","v":1},{"$f":"RANK(AK19,($N$10:$AM$10,$N$19:$AM$19,$N$28:$AM$28, $N$37:$AM$37),1)","v":1},{"$f":"RANK(AL19,($N$10:$AM$10,$N$19:$AM$19,$N$28:$AM$28, $N$37:$AM$37),1)","v":1},{"$f":"RANK(AM19,($N$10:$AM$10,$N$19:$AM$19,$N$28:$AM$28, $N$37:$AM$37),1)","v":1}]
[{"$error":"#REF!"},18,158,"15:23",{"$f":"+VLOOKUP($C21,#REF!,2,\"false\")","v":{"$error":"#REF!"}},{"$f":"+VLOOKUP($C21,#REF!,3,\"false\")","v":{"$error":"#REF!"}},{"$f":"+VLOOKUP($C21,#REF!,4,\"false\")","v":{"$error":"#REF!"}},{"$f":"+VLOOKUP($C21,#REF!,5,\"false\")","v":{"$error":"#REF!"}},{"$f":"+VLOOKUP($C21,#REF!,6,\"false\")","v":{"$error":"#REF!"}},{"$error":"#REF!"},{"$f":"+G21&\"  \"&J21","v":{"$error":"#REF!"}}]
[{"$error":"#REF!"},19,131,"15:26",{"$f":"+VLOOKUP($C22,#REF!,2,\"false\")","v":{"$error":"#REF!"}},{"$f":"+VLOOKUP($C22,#REF!,3,\"false\")","v":{"$error":"#REF!"}},{"$f":"+VLOOKUP($C22,#REF!,4,\"false\")","v":{"$error":"#REF!"}},{"$f":"+VLOOKUP($C22,#REF!,5,\"false\")","v":{"$error":"#REF!"}},{"$f":"+VLOOKUP($C22,#REF!,6,\"false\")","v":{"$error":"#REF!"}},{"$error":"#REF!"},{"$error":"#REF!"},null,7,{"$f":"+IF(ISNA(VLOOKUP(N$3&\"  \"&$M22,$A$3:$I$109,2,0)),\"\",VLOOKUP(N$3&\"  \"&$M22,$A$3:$I$109,2,0))","v":""},"","","","","","","","","",{"$f":"+IF(ISNA(VLOOKUP(X$3&\"  \"&$M22,$A$3:$I$109,2,0)),\"\",VLOOKUP(X$3&\"  \"&$M22,$A$3:$I$109,2,0))","v":""},"","","","","","","","","",{"$f":"+IF(ISNA(VLOOKUP(AH$3&\"  \"&$M22,$A$3:$I$109,2,0)),\"\",VLOOKUP(AH$3&\"  \"&$M22,$A$3:$I$109,2,0))","v":""},"","","","",""]
[{"$error":"#REF!"},20,127,"15:28",{"$f":"+VLOOKUP($C23,#REF!,2,\"false\")","v":{"$error":"#REF!"}},{"$f":"+VLOOKUP($C23,#REF!,3,\"false\")","v":{"$error":"#REF!"}},{"$f":"+VLOOKUP($C23,#REF!,4,\"false\")","v":{"$error":"#REF!"}},{"$f":"+VLOOKUP($C23,#REF!,5,\"false\")","v":{"$error":"#REF!"}},{"$f":"+VLOOKUP($C23,#REF!,6,\"false\")","v":{"$error":"#REF!"}},{"$error":"#REF!"},{"$error":"#REF!"},null,8,"","","","","","","","","","","","","","","","","","","","","","","","","",""]
[{"$error":"#REF!"},21,124,"15:40",{"$f":"+VLOOKUP($C24,#REF!,2,\"false\")","v":{"$error":"#REF!"}},{"$f":"+VLOOKUP($C24,#REF!,3,\"false\")","v":{"$error":"#REF!"}},{"$f":"+VLOOKUP($C24,#REF!,4,\"false\")","v":{"$error":"#REF!"}},{"$f":"+VLOOKUP($C24,#REF!,5,\"false\")","v":{"$error":"#REF!"}},{"$f":"+VLOOKUP($C24,#REF!,6,\"false\")","v":{"$error":"#REF!"}},{"$error":"#REF!"},{"$error":"#REF!"},null,9,"","","","","","","","","","","","","","","","","","","","","","","","","",""]
[{"$error":"#REF!"},22,154,"15:42",{"$f":"+VLOOKUP($C25,#REF!,2,\"false\")","v":{"$error":"#REF!"}},{"$f":"+VLOOKUP($C25,#REF!,3,\"false\")","v":{"$error":"#REF!"}},{"$f":"+VLOOKUP($C25,#REF!,4,\"false\")","v":{"$error":"#REF!"}},{"$f":"+VLOOKUP($C25,#REF!,5,\"false\")","v":{"$error":"#REF!"}},{"$f":"+VLOOKUP($C25,#REF!,6,\"false\")","v":{"$error":"#REF!"}},{"$error":"#REF!"},{"$error":"#REF!"},null,null,"","","","","","","","","","","","","","","","","","","","","","","","","",""]
[{"$error":"#REF!"},23,146,"15:45",{"$f":"+VLOOKUP($C26,#REF!,2,\"false\")","v":{"$error":"#REF!"}},{"$f":"+VLOOKUP($C26,#REF!,3,\"false\")","v":{"$error":"#REF!"}},{"$f":"+VLOOKUP($C26,#REF!,4,\"false\")","v":{"$error":"#REF!"}},{"$f":"+VLOOKUP($C26,#REF!,5,\"false\")","v":{"$error":"#REF!"}},{"$f":"+VLOOKUP($C26,#REF!,6,\"false\")","v":{"$error":"#REF!"}},{"$error":"#REF!"},{"$error":"#REF!"},null,null,"","","","","","","","","","","","","","","","","","","","","","","","","",""]
[{"$error":"#REF!"},24,156,"15:46",{"$f":"+VLOOKUP($C27,#REF!,2,\"false\")","v":{"$error":"#REF!"}},{"$f":"+VLOOKUP($C27,#REF!,3,\"false\")","v":{"$error":"#REF!"}},{"$f":"+VLOOKUP($C27,#REF!,4,\"false\")","v":{"$error":"#REF!"}},{"$f":"+VLOOKUP($C27,#REF!,5,\"false\")","v":{"$error":"#REF!"}},{"$f":"+VLOOKUP($C27,#REF!,6,\"false\")","v":{"$error":"#REF!"}},{"$error":"#REF!"},{"$error":"#REF!"},null,null,"","","","","","","","","","","","","","","","","","","","","","","","","",""]
[{"$error":"#REF!"},25,140,"15:47",{"$f":"+VLOOKUP($C28,#REF!,2,\"false\")","v":{"$error":"#REF!"}},{"$f":"+VLOOKUP($C28,#REF!,3,\"false\")","v":{"$error":"#REF!"}},{"$f":"+VLOOKUP($C28,#REF!,4,\"false\")","v":{"$error":"#REF!"}},{"$f":"+VLOOKUP($C28,#REF!,5,\"false\")","v":{"$error":"#REF!"}},{"$f":"+VLOOKUP($C28,#REF!,6,\"false\")","v":{"$error":"#REF!"}},{"$error":"#REF!"},{"$error":"#REF!"},null,"Tot",{"$f":"IF(N24=\"\",1000,SUM(N22:N24))","v":1000},{"$f":"IF(O24=\"\",1000,SUM(O22:O24))","v":1000},1000,1000,1000,1000,1000,1000,1000,1000,1000,1000,1000,1000,1000,1000,1000,1000,1000,1000,1000,1000,1000,1000,1000,1000]
[{"$error":"#REF!"},26,161,"15:47",{"$f":"+VLOOKUP($C29,#REF!,2,\"false\")","v":{"$error":"#REF!"}},{"$f":"+VLOOKUP($C29,#REF!,3,\"false\")","v":{"$error":"#REF!"}},{"$f":"+VLOOKUP($C29,#REF!,4,\"false\")","v":{"$error":"#REF!"}},{"$f":"+VLOOKUP($C29,#REF!,5,\"false\")","v":{"$error":"#REF!"}},{"$f":"+VLOOKUP($C29,#REF!,6,\"false\")","v":{"$error":"#REF!"}},{"$error":"#REF!"},{"$error":"#REF!"},null,"Pos",{"$f":"RANK(N28,($N$10:$AM$10,$N$19:$AM$19,$N$28:$AM$28, $N$37:$AM$37),1)","v":1},{"$f":"RANK(O28,($N$10:$AM$10,$N$19:$AM$19,$N$28:$AM$28, $N$37:$AM$37),1)","v":1},{"$f":"RANK(P28,($N$10:$AM$10,$N$19:$AM$19,$N$28:$AM$28, $N$37:$AM$37),1)","v":1},{"$f":"RANK(Q28,($N$10:$AM$10,$N$19:$AM$19,$N$28:$AM$28, $N$37:$AM$37),1)","v":1},{"$f":"RANK(R28,($N$10:$AM$10,$N$19:$AM$19,$N$28:$AM$28, $N$37:$AM$37),1)","v":1},{"$f":"RANK(S28,($N$10:$AM$10,$N$19:$AM$19,$N$28:$AM$28, $N$37:$AM$37),1)","v":1},{"$f":"RANK(T28,($N$10:$AM$10,$N$19:$AM$19,$N$28:$AM$28, $N$37:$AM$37),1)","v":1},{"$f":"RANK(U28,($N$10:$AM$10,$N$19:$AM$19,$N$28:$AM$28, $N$37:$AM$37),1)","v":1},{"$f":"RANK(V28,($N$10:$AM$10,$N$19:$AM$19,$N$28:$AM$28, $N$37:$AM$37),1)","v":1},{"$f":"RANK(W28,($N$10:$AM$10,$N$19:$AM$19,$N$28:$AM$28, $N$37:$AM$37),1)","v":1},{"$f":"RANK(X28,($N$10:$AM$10,$N$19:$AM$19,$N$28:$AM$28, $N$37:$AM$37),1)","v":1},{"$f":"RANK(Y28,($N$10:$AM$10,$N$19:$AM$19,$N$28:$AM$28, $N$37:$AM$37),1)","v":1},{"$f":"RANK(Z28,($N$10:$AM$10,$N$19:$AM$19,$N$28:$AM$28, $N$37:$AM$37),1)","v":1},{"$f":"RANK(AA28,($N$10:$AM$10,$N$19:$AM$19,$N$28:$AM$28, $N$37:$AM$37),1)","v":1},{"$f":"RANK(AB28,($N$10:$AM$10,$N$19:$AM$19,$N$28:$AM$28, $N$37:$AM$37),1)","v":1},{"$f":"RANK(AC28,($N$10:$AM$10,$N$19:$AM$19,$N$28:$AM$28, $N$37:$AM$37),1)","v":1},{"$f":"RANK(AD28,($N$10:$AM$10,$N$19:$AM$19,$N$28:$AM$28, $N$37:$AM$37),1)","v":1},{"$f":"RANK(AE28,($N$10:$AM$10,$N$19:$AM$19,$N$28:$AM$28, $N$37:$AM$37),1)","v":1},{"$f":"RANK(AF28,($N$10:$AM$10,$N$19:$AM$19,$N$28:$AM$28, $N$37:$AM$37),1)","v":1},{"$f":"RANK(AG28,($N$10:$AM$10,$N$19:$AM$19,$N$28:$AM$28, $N$37:$AM$37),1)","v":1},{"$f":"RANK(AH28,($N$10:$AM$10,$N$19:$AM$19,$N$28:$AM$28, $N$37:$AM$37),1)","v":1},{"$f":"RANK(AI28,($N$10:$AM$10,$N$19:$AM$19,$N$28:$AM$28, $N$37:$AM$37),1)","v":1},{"$f":"RANK(AJ28,($N$10:$AM$10,$N$19:$AM$19,$N$28:$AM$28, $N$37:$AM$37),1)","v":1},{"$f":"RANK(AK28,($N$10:$AM$10,$N$19:$AM$19,$N$28:$AM$28, $N$37:$AM$37),1)","v":1},{"$f":"RANK(AL28,($N$10:$AM$10,$N$19:$AM$19,$N$28:$AM$28, $N$37:$AM$37),1)","v":1},{"$f":"RANK(AM28,($N$10:$AM$10,$N$19:$AM$19,$N$28:$AM$28, $N$37:$AM$37),1)","v":1}]
[{"$error":"#REF!"},27,155,"15:49",{"$f":"+VLOOKUP($C30,#REF!,2,\"false\")","v":{"$error":"#REF!"}},{"$f":"+VLOOKUP($C30,#REF!,3,\"false\")","v":{"$error":"#REF!"}},{"$f":"+VLOOKUP($C30,#REF!,4,\"false\")","v":{"$error":"#REF!"}},{"$f":"+VLOOKUP($C30,#REF!,5,\"false\")","v":{"$error":"#REF!"}},{"$f":"+VLOOKUP($C30,#REF!,6,\"false\")","v":{"$error":"#REF!"}},{"$error":"#REF!"},{"$error":"#REF!"}]
[{"$error":"#REF!"},28,144,"15:57",{"$f":"+VLOOKUP($C31,#REF!,2,\"false\")","v":{"$error":"#REF!"}},{"$f":"+VLOOKUP($C31,#REF!,3,\"false\")","v":{"$error":"#REF!"}},{"$f":"+VLOOKUP($C31,#REF!,4,\"false\")","v":{"$error":"#REF!"}},{"$f":"+VLOOKUP($C31,#REF!,5,\"false\")","v":{"$error":"#REF!"}},{"$f":"+VLOOKUP($C31,#REF!,6,\"false\")","v":{"$error":"#REF!"}},{"$error":"#REF!"},{"$error":"#REF!"},null,10,{"$f":"+IF(ISNA(VLOOKUP(N$3&\"  \"&$M31,$A$3:$I$109,2,0)),\"\",VLOOKUP(N$3&\"  \"&$M31,$A$3:$I$109,2,0))","v":""},"","","","","","","","","",{"$f":"+IF(ISNA(VLOOKUP(X$3&\"  \"&$M31,$A$3:$I$109,2,0)),\"\",VLOOKUP(X$3&\"  \"&$M31,$A$3:$I$109,2,0))","v":""},"","","","","","","","","",{"$f":"+IF(ISNA(VLOOKUP(AH$3&\"  \"&$M31,$A$3:$I$109,2,0)),\"\",VLOOKUP(AH$3&\"  \"&$M31,$A$3:$I$109,2,0))","v":""},"","","","",""]
[{"$error":"#REF!"},29,128,"16:06",{"$f":"+VLOOKUP($C32,#REF!,2,\"false\")","v":{"$error":"#REF!"}},{"$f":"+VLOOKUP($C32,#REF!,3,\"false\")","v":{"$error":"#REF!"}},{"$f":"+VLOOKUP($C32,#REF!,4,\"false\")","v":{"$error":"#REF!"}},{"$f":"+VLOOKUP($C32,#REF!,5,\"false\")","v":{"$error":"#REF!"}},{"$f":"+VLOOKUP($C32,#REF!,6,\"false\")","v":{"$error":"#REF!"}},{"$error":"#REF!"},{"$error":"#REF!"},null,11,"","","","","","","","","","","","","","","","","","","","","","","","","",""]
[{"$error":"#REF!"},30,160,"16:17",{"$f":"+VLOOKUP($C33,#REF!,2,\"false\")","v":{"$error":"#REF!"}},{"$f":"+VLOOKUP($C33,#REF!,3,\"false\")","v":{"$error":"#REF!"}},{"$f":"+VLOOKUP($C33,#REF!,4,\"false\")","v":{"$error":"#REF!"}},{"$f":"+VLOOKUP($C33,#REF!,5,\"false\")","v":{"$error":"#REF!"}},{"$f":"+VLOOKUP($C33,#REF!,6,\"false\")","v":{"$error":"#REF!"}},{"$error":"#REF!"},{"$error":"#REF!"},null,12,"","","","","","","","","","","","","","","","","","","","","","","","","",""]
[{"$error":"#REF!"},31,143,"16:22",{"$f":"+VLOOKUP($C34,#REF!,2,\"false\")","v":{"$error":"#REF!"}},{"$f":"+VLOOKUP($C34,#REF!,3,\"false\")","v":{"$error":"#REF!"}},{"$f":"+VLOOKUP($C34,#REF!,4,\"false\")","v":{"$error":"#REF!"}},{"$f":"+VLOOKUP($C34,#REF!,5,\"false\")","v":{"$error":"#REF!"}},{"$f":"+VLOOKUP($C34,#REF!,6,\"false\")","v":{"$error":"#REF!"}},{"$error":"#REF!"},{"$error":"#REF!"},null,null,"","","","","","","","","","","","","","","","","","","","","","","","","",""]
[{"$error":"#REF!"},32,133,"16:36",{"$f":"+VLOOKUP($C35,#REF!,2,\"false\")","v":{"$error":"#REF!"}},{"$f":"+VLOOKUP($C35,#REF!,3,\"false\")","v":{"$error":"#REF!"}},{"$f":"+VLOOKUP($C35,#REF!,4,\"false\")","v":{"$error":"#REF!"}},{"$f":"+VLOOKUP($C35,#REF!,5,\"false\")","v":{"$error":"#REF!"}},{"$f":"+VLOOKUP($C35,#REF!,6,\"false\")","v":{"$error":"#REF!"}},{"$error":"#REF!"},{"$error":"#REF!"},null,null,"","","","","","","","","","","","","","","","","","","","","","","","","",""]
[{"$error":"#REF!"},33,139,"16:40",{"$f":"+VLOOKUP($C36,#REF!,2,\"false\")","v":{"$error":"#REF!"}},{"$f":"+VLOOKUP($C36,#REF!,3,\"false\")","v":{"$error":"#REF!"}},{"$f":"+VLOOKUP($C36,#REF!,4,\"false\")","v":{"$error":"#REF!"}},{"$f":"+VLOOKUP($C36,#REF!,5,\"false\")","v":{"$error":"#REF!"}},{"$f":"+VLOOKUP($C36,#REF!,6,\"false\")","v":{"$error":"#REF!"}},{"$error":"#REF!"},{"$error":"#REF!"},null,null,"","","","","","","","","","","","","","","","","","","","","","","","","",""]
[{"$error":"#REF!"},34,142,"16:51",{"$f":"+VLOOKUP($C37,#REF!,2,\"false\")","v":{"$error":"#REF!"}},{"$f":"+VLOOKUP($C37,#REF!,3,\"false\")","v":{"$error":"#REF!"}},{"$f":"+VLOOKUP($C37,#REF!,4,\"false\")","v":{"$error":"#REF!"}},{"$f":"+VLOOKUP($C37,#REF!,5,\"false\")","v":{"$error":"#REF!"}},{"$f":"+VLOOKUP($C37,#REF!,6,\"false\")","v":{"$error":"#REF!"}},{"$error":"#REF!"},{"$error":"#REF!"},null,"Tot",{"$f":"IF(N33=\"\",1000,SUM(N31:N33))","v":1000},{"$f":"IF(O33=\"\",1000,SUM(O31:O33))","v":1000},1000,1000,1000,1000,1000,1000,1000,1000,1000,1000,1000,1000,1000,1000,1000,1000,1000,1000,1000,1000,1000,1000,1000,1000]
[{"$error":"#REF!"},35,149,"16:53",{"$f":"+VLOOKUP($C38,#REF!,2,\"false\")","v":{"$error":"#REF!"}},{"$f":"+VLOOKUP($C38,#REF!,3,\"false\")","v":{"$error":"#REF!"}},{"$f":"+VLOOKUP($C38,#REF!,4,\"false\")","v":{"$error":"#REF!"}},{"$f":"+VLOOKUP($C38,#REF!,5,\"false\")","v":{"$error":"#REF!"}},{"$f":"+VLOOKUP($C38,#REF!,6,\"false\")","v":{"$error":"#REF!"}},{"$error":"#REF!"},{"$error":"#REF!"},null,"Pos",{"$f":"RANK(N37,($N$10:$AM$10,$N$19:$AM$19,$N$28:$AM$28, $N$37:$AM$37),1)","v":1},{"$f":"RANK(O37,($N$10:$AM$10,$N$19:$AM$19,$N$28:$AM$28, $N$37:$AM$37),1)","v":1},{"$f":"RANK(P37,($N$10:$AM$10,$N$19:$AM$19,$N$28:$AM$28, $N$37:$AM$37),1)","v":1},{"$f":"RANK(Q37,($N$10:$AM$10,$N$19:$AM$19,$N$28:$AM$28, $N$37:$AM$37),1)","v":1},{"$f":"RANK(R37,($N$10:$AM$10,$N$19:$AM$19,$N$28:$AM$28, $N$37:$AM$37),1)","v":1},{"$f":"RANK(S37,($N$10:$AM$10,$N$19:$AM$19,$N$28:$AM$28, $N$37:$AM$37),1)","v":1},{"$f":"RANK(T37,($N$10:$AM$10,$N$19:$AM$19,$N$28:$AM$28, $N$37:$AM$37),1)","v":1},{"$f":"RANK(U37,($N$10:$AM$10,$N$19:$AM$19,$N$28:$AM$28, $N$37:$AM$37),1)","v":1},{"$f":"RANK(V37,($N$10:$AM$10,$N$19:$AM$19,$N$28:$AM$28, $N$37:$AM$37),1)","v":1},{"$f":"RANK(W37,($N$10:$AM$10,$N$19:$AM$19,$N$28:$AM$28, $N$37:$AM$37),1)","v":1},{"$f":"RANK(X37,($N$10:$AM$10,$N$19:$AM$19,$N$28:$AM$28, $N$37:$AM$37),1)","v":1},{"$f":"RANK(Y37,($N$10:$AM$10,$N$19:$AM$19,$N$28:$AM$28, $N$37:$AM$37),1)","v":1},{"$f":"RANK(Z37,($N$10:$AM$10,$N$19:$AM$19,$N$28:$AM$28, $N$37:$AM$37),1)","v":1},{"$f":"RANK(AA37,($N$10:$AM$10,$N$19:$AM$19,$N$28:$AM$28, $N$37:$AM$37),1)","v":1},{"$f":"RANK(AB37,($N$10:$AM$10,$N$19:$AM$19,$N$28:$AM$28, $N$37:$AM$37),1)","v":1},{"$f":"RANK(AC37,($N$10:$AM$10,$N$19:$AM$19,$N$28:$AM$28, $N$37:$AM$37),1)","v":1},{"$f":"RANK(AD37,($N$10:$AM$10,$N$19:$AM$19,$N$28:$AM$28, $N$37:$AM$37),1)","v":1},{"$f":"RANK(AE37,($N$10:$AM$10,$N$19:$AM$19,$N$28:$AM$28, $N$37:$AM$37),1)","v":1},{"$f":"RANK(AF37,($N$10:$AM$10,$N$19:$AM$19,$N$28:$AM$28, $N$37:$AM$37),1)","v":1},{"$f":"RANK(AG37,($N$10:$AM$10,$N$19:$AM$19,$N$28:$AM$28, $N$37:$AM$37),1)","v":1},{"$f":"RANK(AH37,($N$10:$AM$10,$N$19:$AM$19,$N$28:$AM$28, $N$37:$AM$37),1)","v":1},{"$f":"RANK(AI37,($N$10:$AM$10,$N$19:$AM$19,$N$28:$AM$28, $N$37:$AM$37),1)","v":1},{"$f":"RANK(AJ37,($N$10:$AM$10,$N$19:$AM$19,$N$28:$AM$28, $N$37:$AM$37),1)","v":1},{"$f":"RANK(AK37,($N$10:$AM$10,$N$19:$AM$19,$N$28:$AM$28, $N$37:$AM$37),1)","v":1},{"$f":"RANK(AL37,($N$10:$AM$10,$N$19:$AM$19,$N$28:$AM$28, $N$37:$AM$37),1)","v":1},{"$f":"RANK(AM37,($N$10:$AM$10,$N$19:$AM$19,$N$28:$AM$28, $N$37:$AM$37),1)","v":1}]
[{"$f":"+K39","v":{"$error":"#REF!"}},36,150,"16:58",{"$f":"+VLOOKUP($C39,#REF!,2,\"false\")","v":{"$error":"#REF!"}},{"$f":"+VLOOKUP($C39,#REF!,3,\"false\")","v":{"$error":"#REF!"}},{"$f":"+VLOOKUP($C39,#REF!,4,\"false\")","v":{"$error":"#REF!"}},{"$f":"+VLOOKUP($C39,#REF!,5,\"false\")","v":{"$error":"#REF!"}},{"$f":"+VLOOKUP($C39,#REF!,6,\"false\")","v":{"$error":"#REF!"}},{"$f":"TEXT(SUMPRODUCT(--(G39=$G$4:$G$597),--(B39>$B$4:$B$597))+1,0)","v":{"$error":"#REF!"}},{"$f":"+G39&\"  \"&J39","v":{"$error":"#REF!"}}]
[{"$error":"#REF!"},37,126,"17:12",{"$f":"+VLOOKUP($C40,#REF!,2,\"false\")","v":{"$error":"#REF!"}},{"$f":"+VLOOKUP($C40,#REF!,3,\"false\")","v":{"$error":"#REF!"}},{"$f":"+VLOOKUP($C40,#REF!,4,\"false\")","v":{"$error":"#REF!"}},{"$f":"+VLOOKUP($C40,#REF!,5,\"false\")","v":{"$error":"#REF!"}},{"$f":"+VLOOKUP($C40,#REF!,6,\"false\")","v":{"$error":"#REF!"}},{"$error":"#REF!"},{"$error":"#REF!"}]
[{"$error":"#REF!"},38,147,"17:26",{"$f":"+VLOOKUP($C41,#REF!,2,\"false\")","v":{"$error":"#REF!"}},{"$f":"+VLOOKUP($C41,#REF!,3,\"false\")","v":{"$error":"#REF!"}},{"$f":"+VLOOKUP($C41,#REF!,4,\"false\")","v":{"$error":"#REF!"}},{"$f":"+VLOOKUP($C41,#REF!,5,\"false\")","v":{"$error":"#REF!"}},{"$f":"+VLOOKUP($C41,#REF!,6,\"false\")","v":{"$error":"#REF!"}},{"$error":"#REF!"},{"$error":"#REF!"}]
[{"$error":"#REF!"},39,148,"17:38",{"$f":"+VLOOKUP($C42,#REF!,2,\"false\")","v":{"$error":"#REF!"}},{"$f":"+VLOOKUP($C42,#REF!,3,\"false\")","v":{"$error":"#REF!"}},{"$f":"+VLOOKUP($C42,#REF!,4,\"false\")","v":{"$error":"#REF!"}},{"$f":"+VLOOKUP($C42,#REF!,5,\"false\")","v":{"$error":"#REF!"}},{"$f":"+VLOOKUP($C42,#REF!,6,\"false\")","v":{"$error":"#REF!"}},{"$error":"#REF!"},{"$error":"#REF!"}]
[{"$error":"#REF!"},40,134,"17:54",{"$f":"+VLOOKUP($C43,#REF!,2,\"false\")","v":{"$error":"#REF!"}},{"$f":"+VLOOKUP($C43,#REF!,3,\"false\")","v":{"$error":"#REF!"}},{"$f":"+VLOOKUP($C43,#REF!,4,\"false\")","v":{"$error":"#REF!"}},{"$f":"+VLOOKUP($C43,#REF!,5,\"false\")","v":{"$error":"#REF!"}},{"$f":"+VLOOKUP($C43,#REF!,6,\"false\")","v":{"$error":"#REF!"}},{"$error":"#REF!"},{"$error":"#REF!"}]
[{"$error":"#REF!"},41,162,"18:30",{"$f":"+VLOOKUP($C44,#REF!,2,\"false\")","v":{"$error":"#REF!"}},{"$f":"+VLOOKUP($C44,#REF!,3,\"false\")","v":{"$error":"#REF!"}},{"$f":"+VLOOKUP($C44,#REF!,4,\"false\")","v":{"$error":"#REF!"}},{"$f":"+VLOOKUP($C44,#REF!,5,\"false\")","v":{"$error":"#REF!"}},{"$f":"+VLOOKUP($C44,#REF!,6,\"false\")","v":{"$error":"#REF!"}},{"$error":"#REF!"},{"$error":"#REF!"}]
[{"$error":"#REF!"},42,145,"19:19",{"$f":"+VLOOKUP($C45,#REF!,2,\"false\")","v":{"$error":"#REF!"}},{"$f":"+VLOOKUP($C45,#REF!,3,\"false\")","v":{"$error":"#REF!"}},{"$f":"+VLOOKUP($C45,#REF!,4,\"false\")","v":{"$error":"#REF!"}},{"$f":"+VLOOKUP($C45,#REF!,5,\"false\")","v":{"$error":"#REF!"}},{"$f":"+VLOOKUP($C45,#REF!,6,\"false\")","v":{"$error":"#REF!"}},{"$error":"#REF!"},{"$error":"#REF!"}]
{"$rows_empty":16}
[{"$nulls":5},"Surname"]
[{"$nulls":5},"Aston"]
[{"$nulls":5},"Axford"]
[{"$nulls":5},"Buchanan"]
[{"$nulls":5},"Burton"]
[{"$nulls":5},"Christopherson"]
[{"$nulls":5},"Clark"]
[{"$nulls":5},"Clayton"]
[{"$nulls":5},"Cole"]
[{"$nulls":5},"Collins"]
[{"$nulls":5},"Corbett"]
[{"$nulls":5},"Daniels"]
[{"$nulls":5},"Davis"]
[{"$nulls":5},"Diacci"]
[{"$nulls":5},"Dunford"]
[{"$nulls":5},"Ferguson"]
[{"$nulls":5},"Fox"]
[{"$nulls":5},"Gates"]
[{"$nulls":5},"Goodbourn"]
[{"$nulls":5},"Henham"]
[{"$nulls":5},"Hill"]
[{"$nulls":5},"Hopkins-Parry"]
[{"$nulls":5},"Hunneman"]
[{"$nulls":5},"Hunter"]
[{"$nulls":5},"Lennard"]
[{"$nulls":5},"McCrae"]
[{"$nulls":5},"Mclean"]
[{"$nulls":5},"Morgan"]
[{"$nulls":5},"Morrissy"]
[{"$nulls":5},"Murray"]
[{"$nulls":5},"Oâ€™Brien"]
[{"$nulls":5},"Potton"]
[{"$nulls":5},"Rowe"]
[{"$nulls":5},"Sims"]
[{"$nulls":5},"Stone"]
[{"$nulls":5},"Tewkesbury"]
[{"$nulls":5},"Tewkesbury"]
[{"$nulls":5},"Webb"]
[{"$nulls":5},"Welch",{"$nulls":7},"HY"]
[{"$nulls":5},"Wheeler",{"$nulls":7},"CRA"]
[{"$nulls":5},"Whitehouse",{"$nulls":7},"EBR"]
[{"$nulls":5},"Wilson",{"$nulls":7},"HBS"]
[{"$nulls":5},{"$error":"#N/A"},{"$nulls":7},"CHI"]
[{"$nulls":13},"WDH"]
[{"$nulls":13},"B&H"]
[null,"Pos","Bib","Time",{"$nulls":9},"SYN"]
[null,1,118,"12:36",{"$nulls":9},"PHX"]
[null,{"$f":"+B108+1","v":2},120,"13:12",{"$nulls":9},"BWK"]
[null,{"$f":"+B109+1","v":3},122,"13:55",{"$nulls":9},"HAS"]
[null,4,123,"14:05",{"$nulls":9},"BR&T"]
[null,5,124,"14:11"]
[null,6,125,"14:11"]
[null,7,126,"14:16"]
[null,8,127,"14:18"]
[null,9,128,"14:27"]
[null,10,129,"14:29"]
[null,11,130,"14:31"]
[null,12,131,"14:40"]
[null,13,132,"14:44"]
[null,14,133,"15:06"]
[null,15,134,"15:11"]
[null,16,135,"15:15"]
[null,17,137,"15:19"]
[null,18,138,"15:23"]
[null,19,139,"15:26"]
[null,20,140,"15:28"]
[null,21,141,"15:40"]
[null,22,142,"15:42"]
[null,23,143,"15:45"]
[null,24,144,"15:46"]
[null,25,145,"15:47"]
[null,26,146,"15:47"]
[null,27,147,"15:49"]
[null,28,148,"15:57"]
[null,29,149,"16:06"]
[null,30,150,"16:17"]
[null,31,151,"16:22"]
[null,32,153,"16:36"]
[null,33,154,"16:40"]
[null,34,155,"16:51"]
[null,35,156,"16:53"]
[null,36,157,"16:58"]
[null,37,158,"17:12"]
[null,38,159,"17:26"]
[null,39,160,"17:38"]
[null,40,162,"17:54"]
[null,41,525,"18:30"]
[null,42,999,"19:19"]
[null,43]
[null,44]
[null,45]
[null,46]
[null,47]
[null,48]
[null,49]
[null,50]
[null,51]
[null,52]
[null,53]
[null,54]
[null,55]
[null,56]
[null,57]
[null,58]
[null,59]
[null,60]
[null,61]
[null,62]
[null,63]
[null,64]
[null,65]
[null,66]
[null,{"$f":"+B173+1","v":67}]
[null,68]
[null,69]
[null,70]
[null,71]
[null,72]
[null,73]
[null,74]
[null,75]
[null,76]
[null,77]
[null,78]
[null,79]
[null,80]
[null,81]
[null,82]
[null,83]
[null,84]
[null,85]
[null,86]
[null,87]
[null,88]
[null,89]
[null,90]
[null,91]
[null,92]
[null,93]
[null,94]
[null,95]
[null,96]
[null,97]
[null,98]
[null,99]
[null,100]

{"sheet":"U13B","index":3,"n_rows":207,"n_cols":39,"rows_kept":207,"hidden":true,"merged":[[0,1,0,6],[1,1,1,6]]}
[null,"Sussex Athletics XC Championships\nBexhill, 07/01/2023",{"$nulls":11},"26 clubs - cols N to AM"]
[null,"U13 Boys"]
["Temp","Pos","Bib","Time","Forename","Surname","Club","Cat ","Sex","Rk","Club Rk",null,null,"B&H","LEW","CHI","POR","PHX","EBR","BWK","HY","HAS","CRA","WDH","HBS"]
[{"$f":"+K4","v":{"$error":"#REF!"}},1,97,"12:11",{"$f":"+VLOOKUP($C4,#REF!,2,\"false\")","v":{"$error":"#REF!"}},{"$f":"+VLOOKUP($C4,#REF!,3,\"false\")","v":{"$error":"#REF!"}},{"$f":"+VLOOKUP($C4,#REF!,4,\"false\")","v":{"$error":"#REF!"}},{"$f":"+VLOOKUP($C4,#REF!,5,\"false\")","v":{"$error":"#REF!"}},{"$f":"+VLOOKUP($C4,#REF!,6,\"false\")","v":{"$error":"#REF!"}},{"$f":"TEXT(SUMPRODUCT(--(G4=$G$4:$G$597),--(B4>$B$4:$B$597))+1,0)","v":{"$error":"#REF!"}},{"$f":"+G4&\"  \"&J4","v":{"$error":"#REF!"}},null,1,{"$f":"+IF(ISNA(VLOOKUP(N$3&\"  \"&$M4,$A$3:$I$109,2,0)),\"\",VLOOKUP(N$3&\"  \"&$M4,$A$3:$I$109,2,0))","v":""},"","","","","","","","","",{"$f":"+IF(ISNA(VLOOKUP(X$3&\"  \"&$M4,$A$3:$I$109,2,0)),\"\",VLOOKUP(X$3&\"  \"&$M4,$A$3:$I$109,2,0))","v":""},"","","","","","","","","",{"$f":"+IF(ISNA(VLOOKUP(AH$3&\"  \"&$M4,$A$3:$I$109,2,0)),\"\",VLOOKUP(AH$3&\"  \"&$M4,$A$3:$I$109,2,0))","v":""},"","","","",""]
[{"$f":"+K5","v":{"$error":"#REF!"}},{"$f":"+B4+1","v":2},107,"12:40",{"$f":"+VLOOKUP($C5,#REF!,2,\"false\")","v":{"$error":"#REF!"}},{"$f":"+VLOOKUP($C5,#REF!,3,\"false\")","v":{"$error":"#REF!"}},{"$f":"+VLOOKUP($C5,#REF!,4,\"false\")","v":{"$error":"#REF!"}},{"$f":"+VLOOKUP($C5,#REF!,5,\"false\")","v":{"$error":"#REF!"}},{"$f":"+VLOOKUP($C5,#REF!,6,\"false\")","v":{"$error":"#REF!"}},{"$error":"#REF!"},{"$f":"+G5&\"  \"&J5","v":{"$error":"#REF!"}},null,2,"","","","","","","","","","","","","","","","","","","","","","","","","",""]
[{"$error":"#REF!"},{"$f":"+B5+1","v":3},69,"12:47",{"$f":"+VLOOKUP($C6,#REF!,2,\"false\")","v":{"$error":"#REF!"}},{"$f":"+VLOOKUP($C6,#REF!,3,\"false\")","v":{"$error":"#REF!"}},{"$f":"+VLOOKUP($C6,#REF!,4,\"false\")","v":{"$error":"#REF!"}},{"$f":"+VLOOKUP($C6,#REF!,5,\"false\")","v":{"$error":"#REF!"}},{"$f":"+VLOOKUP($C6,#REF!,6,\"false\")","v":{"$error":"#REF!"}},{"$error":"#REF!"},{"$error":"#REF!"},null,3,"","","","","","","","","","","","","","","","","","","","","","","","","",""]
[{"$error":"#REF!"},4,116,"12:49",{"$f":"+VLOOKUP($C7,#REF!,2,\"false\")","v":{"$error":"#REF!"}},{"$f":"+VLOOKUP($C7,#REF!,3,\"false\")","v":{"$error":"#REF!"}},{"$f":"+VLOOKUP($C7,#REF!,4,\"false\")","v":{"$error":"#REF!"}},{"$f":"+VLOOKUP($C7,#REF!,5,\"false\")","v":{"$error":"#REF!"}},{"$f":"+VLOOKUP($C7,#REF!,6,\"false\")","v":{"$error":"#REF!"}},{"$error":"#REF!"},{"$error":"#REF!"},null,null,"","","","","","","","","","","","","","","","","","","","","","","","","",""]
[{"$error":"#REF!"},5,62,"13:08",{"$f":"+VLOOKUP($C8,#REF!,2,\"false\")","v":{"$error":"#REF!"}},{"$f":"+VLOOKUP($C8,#REF!,3,\"false\")","v":{"$error":"#REF!"}},{"$f":"+VLOOKUP($C8,#REF!,4,\"false\")","v":{"$error":"#REF!"}},{"$f":"+VLOOKUP($C8,#REF!,5,\"false\")","v":{"$error":"#REF!"}},{"$f":"+VLOOKUP($C8,#REF!,6,\"false\")","v":{"$error":"#REF!"}},{"$error":"#REF!"},{"$error":"#REF!"},null,null,"","","","","","","","","","","","","","","","","","","","","","","","","",""]
[{"$error":"#REF!"},6,111,"13:20",{"$f":"+VLOOKUP($C9,#REF!,2,\"false\")","v":{"$error":"#REF!"}},{"$f":"+VLOOKUP($C9,#REF!,3,\"false\")","v":{"$error":"#REF!"}},{"$f":"+VLOOKUP($C9,#REF!,4,\"false\")","v":{"$error":"#REF!"}},{"$f":"+VLOOKUP($C9,#REF!,5,\"false\")","v":{"$error":"#REF!"}},{"$f":"+VLOOKUP($C9,#REF!,6,\"false\")","v":{"$error":"#REF!"}},{"$error":"#REF!"},{"$error":"#REF!"},null,null,"","","","","","","","","","","","","","","","","","","","","","","","","",""]
[{"$error":"#REF!"},7,75,"13:27",{"$f":"+VLOOKUP($C10,#REF!,2,\"false\")","v":{"$error":"#REF!"}},{"$f":"+VLOOKUP($C10,#REF!,3,\"false\")","v":{"$error":"#REF!"}},{"$f":"+VLOOKUP($C10,#REF!,4,\"false\")","v":{"$error":"#REF!"}},{"$f":"+VLOOKUP($C10,#REF!,5,\"false\")","v":{"$error":"#REF!"}},{"$f":"+VLOOKUP($C10,#REF!,6,\"false\")","v":{"$error":"#REF!"}},{"$error":"#REF!"},{"$error":"#REF!"},null,"Tot",{"$f":"IF(N6=\"\",1000,SUM(N4:N6))","v":1000},{"$f":"IF(O6=\"\",1000,SUM(O4:O6))","v":1000},1000,1000,1000,1000,1000,1000,1000,1000,1000,1000,1000,1000,1000,1000,1000,1000,1000,1000,1000,1000,1000,1000,1000,1000]
[{"$error":"#REF!"},8,81,"13:29",{"$f":"+VLOOKUP($C11,#REF!,2,\"false\")","v":{"$error":"#REF!"}},{"$f":"+VLOOKUP($C11,#REF!,3,\"false\")","v":{"$error":"#REF!"}},{"$f":"+VLOOKUP($C11,#REF!,4,\"false\")","v":{"$error":"#REF!"}},{"$f":"+VLOOKUP($C11,#REF!,5,\"false\")","v":{"$error":"#REF!"}},{"$f":"+VLOOKUP($C11,#REF!,6,\"false\")","v":{"$error":"#REF!"}},{"$error":"#REF!"},{"$error":"#REF!"},null,"Pos",{"$f":"RANK(N10,($N$10:$AM$10,$N$19:$AM$19,$N$28:$AM$28, $N$37:$AM$37),1)","v":1},{"$f":"RANK(O10,($N$10:$AM$10,$N$19:$AM$19,$N$28:$AM$28, $N$37:$AM$37),1)","v":1},{"$f":"RANK(P10,($N$10:$AM$10,$N$19:$AM$19,$N$28:$AM$28, $N$37:$AM$37),1)","v":1},{"$f":"RANK(Q10,($N$10:$AM$10,$N$19:$AM$19,$N$28:$AM$28, $N$37:$AM$37),1)","v":1},{"$f":"RANK(R10,($N$10:$AM$10,$N$19:$AM$19,$N$28:$AM$28, $N$37:$AM$37),1)","v":1},{"$f":"RANK(S10,($N$10:$AM$10,$N$19:$AM$19,$N$28:$AM$28, $N$37:$AM$37),1)","v":1},{"$f":"RANK(T10,($N$10:$AM$10,$N$19:$AM$19,$N$28:$AM$28, $N$37:$AM$37),1)","v":1},{"$f":"RANK(U10,($N$10:$AM$10,$N$19:$AM$19,$N$28:$AM$28, $N$37:$AM$37),1)","v":1},{"$f":"RANK(V10,($N$10:$AM$10,$N$19:$AM$19,$N$28:$AM$28, $N$37:$AM$37),1)","v":1},{"$f":"RANK(W10,($N$10:$AM$10,$N$19:$AM$19,$N$28:$AM$28, $N$37:$AM$37),1)","v":1},{"$f":"RANK(X10,($N$10:$AM$10,$N$19:$AM$19,$N$28:$AM$28, $N$37:$AM$37),1)","v":1},{"$f":"RANK(Y10,($N$10:$AM$10,$N$19:$AM$19,$N$28:$AM$28, $N$37:$AM$37),1)","v":1},{"$f":"RANK(Z10,($N$10:$AM$10,$N$19:$AM$19,$N$28:$AM$28, $N$37:$AM$37),1)","v":1},{"$f":"RANK(AA10,($N$10:$AM$10,$N$19:$AM$19,$N$28:$AM$28, $N$37:$AM$37),1)","v":1},{"$f":"RANK(AB10,($N$10:$AM$10,$N$19:$AM$19,$N$28:$AM$28, $N$37:$AM$37),1)","v":1},{"$f":"RANK(AC10,($N$10:$AM$10,$N$19:$AM$19,$N$28:$AM$28, $N$37:$AM$37),1)","v":1},{"$f":"RANK(AD10,($N$10:$AM$10,$N$19:$AM$19,$N$28:$AM$28, $N$37:$AM$37),1)","v":1},{"$f":"RANK(AE10,($N$10:$AM$10,$N$19:$AM$19,$N$28:$AM$28, $N$37:$AM$37),1)","v":1},{"$f":"RANK(AF10,($N$10:$AM$10,$N$19:$AM$19,$N$28:$AM$28, $N$37:$AM$37),1)","v":1},{"$f":"RANK(AG10,($N$10:$AM$10,$N$19:$AM$19,$N$28:$AM$28, $N$37:$AM$37),1)","v":1},{"$f":"RANK(AH10,($N$10:$AM$10,$N$19:$AM$19,$N$28:$AM$28, $N$37:$AM$37),1)","v":1},{"$f":"RANK(AI10,($N$10:$AM$10,$N$19:$AM$19,$N$28:$AM$28, $N$37:$AM$37),1)","v":1},{"$f":"RANK(AJ10,($N$10:$AM$10,$N$19:$AM$19,$N$28:$AM$28, $N$37:$AM$37),1)","v":1},{"$f":"RANK(AK10,($N$10:$AM$10,$N$19:$AM$19,$N$28:$AM$28, $N$37:$AM$37),1)","v":1},{"$f":"RANK(AL10,($N$10:$AM$10,$N$19:$AM$19,$N$28:$AM$28, $N$37:$AM$37),1)","v":1},{"$f":"RANK(AM10,($N$10:$AM$10,$N$19:$AM$19,$N$28:$AM$28, $N$37:$AM$37),1)","v":1}]
[{"$error":"#REF!"},9,66,"13:30",{"$f":"+VLOOKUP($C12,#REF!,2,\"false\")","v":{"$error":"#REF!"}},{"$f":"+VLOOKUP($C12,#REF!,3,\"false\")","v":{"$error":"#REF!"}},{"$f":"+VLOOKUP($C12,#REF!,4,\"false\")","v":{"$error":"#REF!"}},{"$f":"+VLOOKUP($C12,#REF!,5,\"false\")","v":{"$error":"#REF!"}},{"$f":"+VLOOKUP($C12,#REF!,6,\"false\")","v":{"$error":"#REF!"}},{"$error":"#REF!"},{"$error":"#REF!"}]
[{"$error":"#REF!"},10,99,"13:30",{"$f":"+VLOOKUP($C13,#REF!,2,\"false\")","v":{"$error":"#REF!"}},{"$f":"+VLOOKUP($C13,#REF!,3,\"false\")","v":{"$error":"#REF!"}},{"$f":"+VLOOKUP($C13,#REF!,4,\"false\")","v":{"$error":"#REF!"}},{"$f":"+VLOOKUP($C13,#REF!,5,\"false\")","v":{"$error":"#REF!"}},{"$f":"+VLOOKUP($C13,#REF!,6,\"false\")","v":{"$error":"#REF!"}},{"$error":"#REF!"},{"$error":"#REF!"},null,4,{"$f":"+IF(ISNA(VLOOKUP(N$3&\"  \"&$M13,$A$3:$I$109,2,0)),\"\",VLOOKUP(N$3&\"  \"&$M13,$A$3:$I$109,2,0))","v":""},"","","","","","","","","",{"$f":"+IF(ISNA(VLOOKUP(X$3&\"  \"&$M13,$A$3:$I$109,2,0)),\"\",VLOOKUP(X$3&\"  \"&$M13,$A$3:$I$109,2,0))","v":""},"","","","","","","","","",{"$f":"+IF(ISNA(VLOOKUP(AH$3&\"  \"&$M13,$A$3:$I$109,2,0)),\"\",VLOOKUP(AH$3&\"  \"&$M13,$A$3:$I$109,2,0))","v":""},"","","","",""]
[{"$error":"#REF!"},11,77,"13:53",{"$f":"+VLOOKUP($C14,#REF!,2,\"false\")","v":{"$error":"#REF!"}},{"$f":"+VLOOKUP($C14,#REF!,3,\"false\")","v":{"$error":"#REF!"}},{"$f":"+VLOOKUP($C14,#REF!,4,\"false\")","v":{"$error":"#REF!"}},{"$f":"+VLOOKUP($C14,#REF!,5,\"false\")","v":{"$error":"#REF!"}},{"$f":"+VLOOKUP($C14,#REF!,6,\"false\")","v":{"$error":"#REF!"}},{"$error":"#REF!"},{"$error":"#REF!"},null,5,"","","","","","","","","","","","","","","","","","","","","","","","","",""]
[{"$error":"#REF!"},12,84,"13:59",{"$f":"+VLOOKUP($C15,#REF!,2,\"false\")","v":{"$error":"#REF!"}},{"$f":"+VLOOKUP($C15,#REF!,3,\"false\")","v":{"$error":"#REF!"}},{"$f":"+VLOOKUP($C15,#REF!,4,\"false\")","v":{"$error":"#REF!"}},{"$f":"+VLOOKUP($C15,#REF!,5,\"false\")","v":{"$error":"#REF!"}},{"$f":"+VLOOKUP($C15,#REF!,6,\"false\")","v":{"$error":"#REF!"}},{"$error":"#REF!"},{"$error":"#REF!"},null,6,"","","","","","","","","","","","","","","","","","","","","","","","","",""]
[{"$error":"#REF!"},13,110,"14:00",{"$f":"+VLOOKUP($C16,#REF!,2,\"false\")","v":{"$error":"#REF!"}},{"$f":"+VLOOKUP($C16,#REF!,3,\"false\")","v":{"$error":"#REF!"}},{"$f":"+VLOOKUP($C16,#REF!,4,\"false\")","v":{"$error":"#REF!"}},{"$f":"+VLOOKUP($C16,#REF!,5,\"false\")","v":{"$error":"#REF!"}},{"$f":"+VLOOKUP($C16,#REF!,6,\"false\")","v":{"$error":"#REF!"}},{"$error":"#REF!"},{"$error":"#REF!"},null,null,"","","","","","","","","","","","","","","","","","","","","","","","","",""]
[{"$error":"#REF!"},14,105,"14:02",{"$f":"+VLOOKUP($C17,#REF!,2,\"false\")","v":{"$error":"#REF!"}},{"$f":"+VLOOKUP($C17,#REF!,3,\"false\")","v":{"$error":"#REF!"}},{"$f":"+VLOOKUP($C17,#REF!,4,\"false\")","v":{"$error":"#REF!"}},{"$f":"+VLOOKUP($C17,#REF!,5,\"false\")","v":{"$error":"#REF!"}},{"$f":"+VLOOKUP($C17,#REF!,6,\"false\")","v":{"$error":"#REF!"}},{"$error":"#REF!"},{"$error":"#REF!"},null,null,"","","","","","","","","","","","","","","","","","","","","","","","","",""]
[{"$error":"#REF!"},15,83,"14:06",{"$f":"+VLOOKUP($C18,#REF!,2,\"false\")","v":{"$error":"#REF!"}},{"$f":"+VLOOKUP($C18,#REF!,3,\"false\")","v":{"$error":"#REF!"}},{"$f":"+VLOOKUP($C18,#REF!,4,\"false\")","v":{"$error":"#REF!"}},{"$f":"+VLOOKUP($C18,#REF!,5,\"false\")","v":{"$error":"#REF!"}},{"$f":"+VLOOKUP($C18,#REF!,6,\"false\")","v":{"$error":"#REF!"}},{"$error":"#REF!"},{"$error":"#REF!"},null,null,"","","","","","","","","","","","","","","","","","","","","","","","","",""]
[{"$error":"#REF!"},16,94,"14:07",{"$f":"+VLOOKUP($C19,#REF!,2,\"false\")","v":{"$error":"#REF!"}},{"$f":"+VLOOKUP($C19,#REF!,3,\"false\")","v":{"$error":"#REF!"}},{"$f":"+VLOOKUP($C19,#REF!,4,\"false\")","v":{"$error":"#REF!"}},{"$f":"+VLOOKUP($C19,#REF!,5,\"false\")","v":{"$error":"#REF!"}},{"$f":"+VLOOKUP($C19,#REF!,6,\"false\")","v":{"$error":"#REF!"}},{"$error":"#REF!"},{"$error":"#REF!"},null,"Tot",{"$f":"IF(N15=\"\",1000,SUM(N13:N15))","v":1000},{"$f":"IF(O15=\"\",1000,SUM(O13:O15))","v":1000},1000,1000,1000,1000,1000,1000,1000,1000,1000,1000,1000,1000,1000,1000,1000,1000,1000,1000,1000,1000,1000,1000,1000,1000]
[{"$error":"#REF!"},17,95,"14:08",{"$f":"+VLOOKUP($C20,#REF!,2,\"false\")","v":{"$error":"#REF!"}},{"$f":"+VLOOKUP($C20,#REF!,3,\"false\")","v":{"$error":"#REF!"}},{"$f":"+VLOOKUP($C20,#REF!,4,\"false\")","v":{"$error":"#REF!"}},{"$f":"+VLOOKUP($C20,#REF!,5,\"false\")","v":{"$error":"#REF!"}},{"$f":"+VLOOKUP($C20,#REF!,6,\"false\")","v":{"$error":"#REF!"}},{"$error":"#REF!"},{"$error":"#REF!"},null,"Pos",{"$f":"RANK(N19,($N$10:$AM$10,$N$19:$AM$19,$N$28:$AM$28, $N$37:$AM$37),1)","v":1},{"$f":"RANK(O19,($N$10:$AM$10,$N$19:$AM$19,$N$28:$AM$28, $N$37:$AM$37),1)","v":1},{"$f":"RANK(P19,($N$10:$AM$10,$N$19:$AM$19,$N$28:$AM$28, $N$37:$AM$37),1)","v":1},{"$f":"RANK(Q19,($N$10:$AM$10,$N$19:$AM$19,$N$28:$AM$28, $N$37:$AM$37),1)","v":1},{"$f":"RANK(R19,($N$10:$AM$10,$N$19:$AM$19,$N$28:$AM$28, $N$37:$AM$37),1)","v":1},{"$f":"RANK(S19,($N$10:$AM$10,$N$19:$AM$19,$N$28:$AM$28, $N$37:$AM$37),1)","v":1},{"$f":"RANK(T19,($N$10:$AM$10,$N$19:$AM$19,$N$28:$AM$28, $N$37:$AM$37),1)","v":1},{"$f":"RANK(U19,($N$10:$AM$10,$N$19:$AM$19,$N$28:$AM$28, $N$37:$AM$37),1)","v":1},{"$f":"RANK(V19,($N$10:$AM$10,$N$19:$AM$19,$N$28:$AM$28, $N$37:$AM$37),1)","v":1},{"$f":"RANK(W19,($N$10:$AM$10,$N$19:$AM$19,$N$28:$AM$28, $N$37:$AM$37),1)","v":1},{"$f":"RANK(X19,($N$10:$AM$10,$N$19:$AM$19,$N$28:$AM$28, $N$37:$AM$37),1)","v":1},{"$f":"RANK(Y19,($N$10:$AM$10,$N$19:$AM$19,$N$28:$AM$28, $N$37:$AM$37),1)","v":1},{"$f":"RANK(Z19,($N$10:$AM$10,$N$19:$AM$19,$N$28:$AM$28, $N$37:$AM$37),1)","v":1},{"$f":"RANK(AA19,($N$10:$AM$10,$N$19:$AM$19,$N$28:$AM$28, $N$37:$AM$37),1)","v":1},{"$f":"RANK(AB19,($N$10:$AM$10,$N$19:$AM$19,$N$28:$AM$28, $N$37:$AM$37),1)","v":1},{"$f":"RANK(AC19,($N$10:$AM$10,$N$19:$AM$19,$N$28:$AM$28, $N$37:$AM$37),1)","v":1},{"$f":"RANK(AD19,($N$10:$AM$10,$N$19:$AM$19,$N$28:$AM$28, $N$37:$AM$37),1)","v":1},{"$f":"RANK(AE19,($N$10:$AM$10,$N$19:$AM$19,$N$28:$AM$28, $N$37:$AM$37),1)","v":1},{"$f":"RANK(AF19,($N$10:$AM$10,$N$19:$AM$19,$N$28:$AM$28, $N$37:$AM$37),1)","v":1},{"$f":"RANK(AG19,($N$10:$AM$10,$N$19:$AM$19,$N$28:$AM$28, $N$37:$AM$37),1)","v":1},{"$f":"RANK(AH19,($N$10:$AM$10,$N$19:$AM$19,$N$28:$AM$28, $N$37:$AM$37),1)","v":1},{"$f":"RANK(AI19,($N$10:$AM$10,$N$19:$AM$19,$N$28:$AM$28, $N$37:$AM$37),1)","v":1},{"$f":"RANK(AJ19,($N$10:$AM$10,$N$19:$AM$19,$N$28:$AM$28, $N$37:$AM$37),1)","v":1},{"$f":"RANK(AK19,($N$10:$AM$10,$N$19:$AM$19,$N$28:$AM$28, $N$37:$AM$37),1)","v":1},{"$f":"RANK(AL19,($N$10:$AM$10,$N$19:$AM$19,$N$28:$AM$28, $N$37:$AM$37),1)","v":1},{"$f":"RANK(AM19,($N$10:$AM$10,$N$19:$AM$19,$N$28:$AM$28, $N$37:$AM$37),1)","v":1}]
[{"$error":"#REF!"},18,72,"14:12",{"$f":"+VLOOKUP($C21,#REF!,2,\"false\")","v":{"$error":"#REF!"}},{"$f":"+VLOOKUP($C21,#REF!,3,\"false\")","v":{"$error":"#REF!"}},{"$f":"+VLOOKUP($C21,#REF!,4,\"false\")","v":{"$error":"#REF!"}},{"$f":"+VLOOKUP($C21,#REF!,5,\"false\")","v":{"$error":"#REF!"}},{"$f":"+VLOOKUP($C21,#REF!,6,\"false\")","v":{"$error":"#REF!"}},{"$error":"#REF!"},{"$f":"+G21&\"  \"&J21","v":{"$error":"#REF!"}}]
[{"$error":"#REF!"},19,63,"14:12",{"$f":"+VLOOKUP($C22,#REF!,2,\"false\")","v":{"$error":"#REF!"}},{"$f":"+VLOOKUP($C22,#REF!,3,\"false\")","v":{"$error":"#REF!"}},{"$f":"+VLOOKUP($C22,#REF!,4,\"false\")","v":{"$error":"#REF!"}},{"$f":"+VLOOKUP($C22,#REF!,5,\"false\")","v":{"$error":"#REF!"}},{"$f":"+VLOOKUP($C22,#REF!,6,\"false\")","v":{"$error":"#REF!"}},{"$error":"#REF!"},{"$error":"#REF!"},null,7,{"$f":"+IF(ISNA(VLOOKUP(N$3&\"  \"&$M22,$A$3:$I$109,2,0)),\"\",VLOOKUP(N$3&\"  \"&$M22,$A$3:$I$109,2,0))","v":""},"","","","","","","","","",{"$f":"+IF(ISNA(VLOOKUP(X$3&\"  \"&$M22,$A$3:$I$109,2,0)),\"\",VLOOKUP(X$3&\"  \"&$M22,$A$3:$I$109,2,0))","v":""},"","","","","","","","","",{"$f":"+IF(ISNA(VLOOKUP(AH$3&\"  \"&$M22,$A$3:$I$109,2,0)),\"\",VLOOKUP(AH$3&\"  \"&$M22,$A$3:$I$109,2,0))","v":""},"","","","",""]
[{"$error":"#REF!"},20,76,"14:16",{"$f":"+VLOOKUP($C23,#REF!,2,\"false\")","v":{"$error":"#REF!"}},{"$f":"+VLOOKUP($C23,#REF!,3,\"false\")","v":{"$error":"#REF!"}},{"$f":"+VLOOKUP($C23,#REF!,4,\"false\")","v":{"$error":"#REF!"}},{"$f":"+VLOOKUP($C23,#REF!,5,\"false\")","v":{"$error":"#REF!"}},{"$f":"+VLOOKUP($C23,#REF!,6,\"false\")","v":{"$error":"#REF!"}},{"$error":"#REF!"},{"$error":"#REF!"},null,8,"","","","","","","","","","","","","","","","","","","","","","","","","",""]
[{"$error":"#REF!"},21,117,"14:22",{"$f":"+VLOOKUP($C24,#REF!,2,\"false\")","v":{"$error":"#REF!"}},{"$f":"+VLOOKUP($C24,#REF!,3,\"false\")","v":{"$error":"#REF!"}},{"$f":"+VLOOKUP($C24,#REF!,4,\"false\")","v":{"$error":"#REF!"}},{"$f":"+VLOOKUP($C24,#REF!,5,\"false\")","v":{"$error":"#REF!"}},{"$f":"+VLOOKUP($C24,#REF!,6,\"false\")","v":{"$error":"#REF!"}},{"$error":"#REF!"},{"$error":"#REF!"},null,9,"","","","","","","","","","","","","","","","","","","","","","","","","",""]
[{"$error":"#REF!"},22,100,"14:24",{"$f":"+VLOOKUP($C25,#REF!,2,\"false\")","v":{"$error":"#REF!"}},{"$f":"+VLOOKUP($C25,#REF!,3,\"false\")","v":{"$error":"#REF!"}},{"$f":"+VLOOKUP($C25,#REF!,4,\"false\")","v":{"$error":"#REF!"}},{"$f":"+VLOOKUP($C25,#REF!,5,\"false\")","v":{"$error":"#REF!"}},{"$f":"+VLOOKUP($C25,#REF!,6,\"false\")","v":{"$error":"#REF!"}},{"$error":"#REF!"},{"$error":"#REF!"},null,null,"","","","","","","","","","","","","","","","","","","","","","","","","",""]
[{"$error":"#REF!"},23,108,"14:25",{"$f":"+VLOOKUP($C26,#REF!,2,\"false\")","v":{"$error":"#REF!"}},{"$f":"+VLOOKUP($C26,#REF!,3,\"false\")","v":{"$error":"#REF!"}},{"$f":"+VLOOKUP($C26,#REF!,4,\"false\")","v":{"$error":"#REF!"}},{"$f":"+VLOOKUP($C26,#REF!,5,\"false\")","v":{"$error":"#REF!"}},{"$f":"+VLOOKUP($C26,#REF!,6,\"false\")","v":{"$error":"#REF!"}},{"$error":"#REF!"},{"$error":"#REF!"},null,null,"","","","","","","","","","","","","","","","","","","","","","","","","",""]
[{"$error":"#REF!"},24,64,"14:26",{"$f":"+VLOOKUP($C27,#REF!,2,\"false\")","v":{"$error":"#REF!"}},{"$f":"+VLOOKUP($C27,#REF!,3,\"false\")","v":{"$error":"#REF!"}},{"$f":"+VLOOKUP($C27,#REF!,4,\"false\")","v":{"$error":"#REF!"}},{"$f":"+VLOOKUP($C27,#REF!,5,\"false\")","v":{"$error":"#REF!"}},{"$f":"+VLOOKUP($C27,#REF!,6,\"false\")","v":{"$error":"#REF!"}},{"$error":"#REF!"},{"$error":"#REF!"},null,null,"","","","","","","","","","","","","","","","","","","","","","","","","",""]
[{"$error":"#REF!"},25,78,"14:27",{"$f":"+VLOOKUP($C28,#REF!,2,\"false\")","v":{"$error":"#REF!"}},{"$f":"+VLOOKUP($C28,#REF!,3,\"false\")","v":{"$error":"#REF!"}},{"$f":"+VLOOKUP($C28,#REF!,4,\"false\")","v":{"$error":"#REF!"}},{"$f":"+VLOOKUP($C28,#REF!,5,\"false\")","v":{"$error":"#REF!"}},{"$f":"+VLOOKUP($C28,#REF!,6,\"false\")","v":{"$error":"#REF!"}},{"$error":"#REF!"},{"$error":"#REF!"},null,"Tot",{"$f":"IF(N24=\"\",1000,SUM(N22:N24))","v":1000},{"$f":"IF(O24=\"\",1000,SUM(O22:O24))","v":1000},1000,1000,1000,1000,1000,1000,1000,1000,1000,1000,1000,1000,1000,1000,1000,1000,1000,1000,1000,1000,1000,1000,1000,1000]
[{"$error":"#REF!"},26,115,"14:29",{"$f":"+VLOOKUP($C29,#REF!,2,\"false\")","v":{"$error":"#REF!"}},{"$f":"+VLOOKUP($C29,#REF!,3,\"false\")","v":{"$error":"#REF!"}},{"$f":"+VLOOKUP($C29,#REF!,4,\"false\")","v":{"$error":"#REF!"}},{"$f":"+VLOOKUP($C29,#REF!,5,\"false\")","v":{"$error":"#REF!"}},{"$f":"+VLOOKUP($C29,#REF!,6,\"false\")","v":{"$error":"#REF!"}},{"$error":"#REF!"},{"$error":"#REF!"},null,"Pos",{"$f":"RANK(N28,($N$10:$AM$10,$N$19:$AM$19,$N$28:$AM$28, $N$37:$AM$37),1)","v":1},{"$f":"RANK(O28,($N$10:$AM$10,$N$19:$AM$19,$N$28:$AM$28, $N$37:$AM$37),1)","v":1},{"$f":"RANK(P28,($N$10:$AM$10,$N$19:$AM$19,$N$28:$AM$28, $N$37:$AM$37),1)","v":1},{"$f":"RANK(Q28,($N$10:$AM$10,$N$19:$AM$19,$N$28:$AM$28, $N$37:$AM$37),1)","v":1},{"$f":"RANK(R28,($N$10:$AM$10,$N$19:$AM$19,$N$28:$AM$28, $N$37:$AM$37),1)","v":1},{"$f":"RANK(S28,($N$10:$AM$10,$N$19:$AM$19,$N$28:$AM$28, $N$37:$AM$37),1)","v":1},{"$f":"RANK(T28,($N$10:$AM$10,$N$19:$AM$19,$N$28:$AM$28, $N$37:$AM$37),1)","v":1},{"$f":"RANK(U28,($N$10:$AM$10,$N$19:$AM$19,$N$28:$AM$28, $N$37:$AM$37),1)","v":1},{"$f":"RANK(V28,($N$10:$AM$10,$N$19:$AM$19,$N$28:$AM$28, $N$37:$AM$37),1)","v":1},{"$f":"RANK(W28,($N$10:$AM$10,$N$19:$AM$19,$N$28:$AM$28, $N$37:$AM$37),1)","v":1},{"$f":"RANK(X28,($N$10:$AM$10,$N$19:$AM$19,$N$28:$AM$28, $N$37:$AM$37),1)","v":1},{"$f":"RANK(Y28,($N$10:$AM$10,$N$19:$AM$19,$N$28:$AM$28, $N$37:$AM$37),1)","v":1},{"$f":"RANK(Z28,($N$10:$AM$10,$N$19:$AM$19,$N$28:$AM$28, $N$37:$AM$37),1)","v":1},{"$f":"RANK(AA28,($N$10:$AM$10,$N$19:$AM$19,$N$28:$AM$28, $N$37:$AM$37),1)","v":1},{"$f":"RANK(AB28,($N$10:$AM$10,$N$19:$AM$19,$N$28:$AM$28, $N$37:$AM$37),1)","v":1},{"$f":"RANK(AC28,($N$10:$AM$10,$N$19:$AM$19,$N$28:$AM$28, $N$37:$AM$37),1)","v":1},{"$f":"RANK(AD28,($N$10:$AM$10,$N$19:$AM$19,$N$28:$AM$28, $N$37:$AM$37),1)","v":1},{"$f":"RANK(AE28,($N$10:$AM$10,$N$19:$AM$19,$N$28:$AM$28, $N$37:$AM$37),1)","v":1},{"$f":"RANK(AF28,($N$10:$AM$10,$N$19:$AM$19,$N$28:$AM$28, $N$37:$AM$37),1)","v":1},{"$f":"RANK(AG28,($N$10:$AM$10,$N$19:$AM$19,$N$28:$AM$28, $N$37:$AM$37),1)","v":1},{"$f":"RANK(AH28,($N$10:$AM$10,$N$19:$AM$19,$N$28:$AM$28, $N$37:$AM$37),1)","v":1},{"$f":"RANK(AI28,($N$10:$AM$10,$N$19:$AM$19,$N$28:$AM$28, $N$37:$AM$37),1)","v":1},{"$f":"RANK(AJ28,($N$10:$AM$10,$N$19:$AM$19,$N$28:$AM$28, $N$37:$AM$37),1)","v":1},{"$f":"RANK(AK28,($N$10:$AM$10,$N$19:$AM$19,$N$28:$AM$28, $N$37:$AM$37),1)","v":1},{"$f":"RANK(AL28,($N$10:$AM$10,$N$19:$AM$19,$N$28:$AM$28, $N$37:$AM$37),1)","v":1},{"$f":"RANK(AM28,($N$10:$AM$10,$N$19:$AM$19,$N$28:$AM$28, $N$37:$AM$37),1)","v":1}]
[{"$error":"#REF!"},27,91,"14:37",{"$f":"+VLOOKUP($C30,#REF!,2,\"false\")","v":{"$error":"#REF!"}},{"$f":"+VLOOKUP($C30,#REF!,3,\"false\")","v":{"$error":"#REF!"}},{"$f":"+VLOOKUP($C30,#REF!,4,\"false\")","v":{"$error":"#REF!"}},{"$f":"+VLOOKUP($C30,#REF!,5,\"false\")","v":{"$error":"#REF!"}},{"$f":"+VLOOKUP($C30,#REF!,6,\"false\")","v":{"$error":"#REF!"}},{"$error":"#REF!"},{"$error":"#REF!"}]
[{"$error":"#REF!"},28,79,"14:43",{"$f":"+VLOOKUP($C31,#REF!,2,\"false\")","v":{"$error":"#REF!"}},{"$f":"+VLOOKUP($C31,#REF!,3,\"false\")","v":{"$error":"#REF!"}},{"$f":"+VLOOKUP($C31,#REF!,4,\"false\")","v":{"$error":"#REF!"}},{"$f":"+VLOOKUP($C31,#REF!,5,\"false\")","v":{"$error":"#REF!"}},{"$f":"+VLOOKUP($C31,#REF!,6,\"false\")","v":{"$error":"#REF!"}},{"$error":"#REF!"},{"$error":"#REF!"},null,10,{"$f":"+IF(ISNA(VLOOKUP(N$3&\"  \"&$M31,$A$3:$I$109,2,0)),\"\",VLOOKUP(N$3&\"  \"&$M31,$A$3:$I$109,2,0))","v":""},"","","","","","","","","",{"$f":"+IF(ISNA(VLOOKUP(X$3&\"  \"&$M31,$A$3:$I$109,2,0)),\"\",VLOOKUP(X$3&\"  \"&$M31,$A$3:$I$109,2,0))","v":""},"","","","","","","","","",{"$f":"+IF(ISNA(VLOOKUP(AH$3&\"  \"&$M31,$A$3:$I$109,2,0)),\"\",VLOOKUP(AH$3&\"  \"&$M31,$A$3:$I$109,2,0))","v":""},"","","","",""]
[{"$error":"#REF!"},29,90,"14:47",{"$f":"+VLOOKUP($C32,#REF!,2,\"false\")","v":{"$error":"#REF!"}},{"$f":"+VLOOKUP($C32,#REF!,3,\"false\")","v":{"$error":"#REF!"}},{"$f":"+VLOOKUP($C32,#REF!,4,\"false\")","v":{"$error":"#REF!"}},{"$f":"+VLOOKUP($C32,#REF!,5,\"false\")","v":{"$error":"#REF!"}},{"$f":"+VLOOKUP($C32,#REF!,6,\"false\")","v":{"$error":"#REF!"}},{"$error":"#REF!"},{"$error":"#REF!"},null,11,"","","","","","","","","","","","","","","","","","","","","","","","","",""]
[{"$error":"#REF!"},30,113,"14:51",{"$f":"+VLOOKUP($C33,#REF!,2,\"false\")","v":{"$error":"#REF!"}},{"$f":"+VLOOKUP($C33,#REF!,3,\"false\")","v":{"$error":"#REF!"}},{"$f":"+VLOOKUP($C33,#REF!,4,\"false\")","v":{"$error":"#REF!"}},{"$f":"+VLOOKUP($C33,#REF!,5,\"false\")","v":{"$error":"#REF!"}},{"$f":"+VLOOKUP($C33,#REF!,6,\"false\")","v":{"$error":"#REF!"}},{"$error":"#REF!"},{"$error":"#REF!"},null,12,"","","","","","","","","","","","","","","","","","","","","","","","","",""]
[{"$f":"+K34","v":{"$error":"#REF!"}},31,68,"15:05",{"$f":"+VLOOKUP($C34,#REF!,2,\"false\")","v":{"$error":"#REF!"}},{"$f":"+VLOOKUP($C34,#REF!,3,\"false\")","v":{"$error":"#REF!"}},{"$f":"+VLOOKUP($C34,#REF!,4,\"false\")","v":{"$error":"#REF!"}},{"$f":"+VLOOKUP($C34,#REF!,5,\"false\")","v":{"$error":"#REF!"}},{"$f":"+VLOOKUP($C34,#REF!,6,\"false\")","v":{"$error":"#REF!"}},{"$f":"TEXT(SUMPRODUCT(--(G34=$G$4:$G$597),--(B34>$B$4:$B$597))+1,0)","v":{"$error":"#REF!"}},{"$f":"+G34&\"  \"&J34","v":{"$error":"#REF!"}},null,null,"","","","","","","","","","","","","","","","","","","","","","","","","",""]
[{"$error":"#REF!"},32,114,"15:10",{"$f":"+VLOOKUP($C35,#REF!,2,\"false\")","v":{"$error":"#REF!"}},{"$f":"+VLOOKUP($C35,#REF!,3,\"false\")","v":{"$error":"#REF!"}},{"$f":"+VLOOKUP($C35,#REF!,4,\"false\")","v":{"$error":"#REF!"}},{"$f":"+VLOOKUP($C35,#REF!,5,\"false\")","v":{"$error":"#REF!"}},{"$f":"+VLOOKUP($C35,#REF!,6,\"false\")","v":{"$error":"#REF!"}},{"$error":"#REF!"},{"$error":"#REF!"},null,null,"","","","","","","","","","","","","","","","","","","","","","","","","",""]
[{"$error":"#REF!"},33,85,"15:11",{"$f":"+VLOOKUP($C36,#REF!,2,\"false\")","v":{"$error":"#REF!"}},{"$f":"+VLOOKUP($C36,#REF!,3,\"false\")","v":{"$error":"#REF!"}},{"$f":"+VLOOKUP($C36,#REF!,4,\"false\")","v":{"$error":"#REF!"}},{"$f":"+VLOOKUP($C36,#REF!,5,\"false\")","v":{"$error":"#REF!"}},{"$f":"+VLOOKUP($C36,#REF!,6,\"false\")","v":{"$error":"#REF!"}},{"$error":"#REF!"},{"$error":"#REF!"},null,null,"","","","","","","","","","","","","","","","","","","","","","","","","",""]
[{"$error":"#REF!"},34,101,"15:12",{"$f":"+VLOOKUP($C37,#REF!,2,\"false\")","v":{"$error":"#REF!"}},{"$f":"+VLOOKUP($C37,#REF!,3,\"false\")","v":{"$error":"#REF!"}},{"$f":"+VLOOKUP($C37,#REF!,4,\"false\")","v":{"$error":"#REF!"}},{"$f":"+VLOOKUP($C37,#REF!,5,\"false\")","v":{"$error":"#REF!"}},{"$f":"+VLOOKUP($C37,#REF!,6,\"false\")","v":{"$error":"#REF!"}},{"$error":"#REF!"},{"$error":"#REF!"},null,"Tot",{"$f":"IF(N33=\"\",1000,SUM(N31:N33))","v":1000},{"$f":"IF(O33=\"\",1000,SUM(O31:O33))","v":1000},1000,1000,1000,1000,1000,1000,1000,1000,1000,1000,1000,1000,1000,1000,1000,1000,1000,1000,1000,1000,1000,1000,1000,1000]
[{"$error":"#REF!"},35,96,"15:12",{"$f":"+VLOOKUP($C38,#REF!,2,\"false\")","v":{"$error":"#REF!"}},{"$f":"+VLOOKUP($C38,#REF!,3,\"false\")","v":{"$error":"#REF!"}},{"$f":"+VLOOKUP($C38,#REF!,4,\"false\")","v":{"$error":"#REF!"}},{"$f":"+VLOOKUP($C38,#REF!,5,\"false\")","v":{"$error":"#REF!"}},{"$f":"+VLOOKUP($C38,#REF!,6,\"false\")","v":{"$error":"#REF!"}},{"$error":"#REF!"},{"$error":"#REF!"},null,"Pos",{"$f":"RANK(N37,($N$10:$AM$10,$N$19:$AM$19,$N$28:$AM$28, $N$37:$AM$37),1)","v":1},{"$f":"RANK(O37,($N$10:$AM$10,$N$19:$AM$19,$N$28:$AM$28, $N$37:$AM$37),1)","v":1},{"$f":"RANK(P37,($N$10:$AM$10,$N$19:$AM$19,$N$28:$AM$28, $N$37:$AM$37),1)","v":1},{"$f":"RANK(Q37,($N$10:$AM$10,$N$19:$AM$19,$N$28:$AM$28, $N$37:$AM$37),1)","v":1},{"$f":"RANK(R37,($N$10:$AM$10,$N$19:$AM$19,$N$28:$AM$28, $N$37:$AM$37),1)","v":1},{"$f":"RANK(S37,($N$10:$AM$10,$N$19:$AM$19,$N$28:$AM$28, $N$37:$AM$37),1)","v":1},{"$f":"RANK(T37,($N$10:$AM$10,$N$19:$AM$19,$N$28:$AM$28, $N$37:$AM$37),1)","v":1},{"$f":"RANK(U37,($N$10:$AM$10,$N$19:$AM$19,$N$28:$AM$28, $N$37:$AM$37),1)","v":1},{"$f":"RANK(V37,($N$10:$AM$10,$N$19:$AM$19,$N$28:$AM$28, $N$37:$AM$37),1)","v":1},{"$f":"RANK(W37,($N$10:$AM$10,$N$19:$AM$19,$N$28:$AM$28, $N$37:$AM$37),1)","v":1},{"$f":"RANK(X37,($N$10:$AM$10,$N$19:$AM$19,$N$28:$AM$28, $N$37:$AM$37),1)","v":1},{"$f":"RANK(Y37,($N$10:$AM$10,$N$19:$AM$19,$N$28:$AM$28, $N$37:$AM$37),1)","v":1},{"$f":"RANK(Z37,($N$10:$AM$10,$N$19:$AM$19,$N$28:$AM$28, $N$37:$AM$37),1)","v":1},{"$f":"RANK(AA37,($N$10:$AM$10,$N$19:$AM$19,$N$28:$AM$28, $N$37:$AM$37),1)","v":1},{"$f":"RANK(AB37,($N$10:$AM$10,$N$19:$AM$19,$N$28:$AM$28, $N$37:$AM$37),1)","v":1},{"$f":"RANK(AC37,($N$10:$AM$10,$N$19:$AM$19,$N$28:$AM$28, $N$37:$AM$37),1)","v":1},{"$f":"RANK(AD37,($N$10:$AM$10,$N$19:$AM$19,$N$28:$AM$28, $N$37:$AM$37),1)","v":1},{"$f":"RANK(AE37,($N$10:$AM$10,$N$19:$AM$19,$N$28:$AM$28, $N$37:$AM$37),1)","v":1},{"$f":"RANK(AF37,($N$10:$AM$10,$N$19:$AM$19,$N$28:$AM$28, $N$37:$AM$37),1)","v":1},{"$f":"RANK(AG37,($N$10:$AM$10,$N$19:$AM$19,$N$28:$AM$28, $N$37:$AM$37),1)","v":1},{"$f":"RANK(AH37,($N$10:$AM$10,$N$19:$AM$19,$N$28:$AM$28, $N$37:$AM$37),1)","v":1},{"$f":"RANK(AI37,($N$10:$AM$10,$N$19:$AM$19,$N$28:$AM$28, $N$37:$AM$37),1)","v":1},{"$f":"RANK(AJ37,($N$10:$AM$10,$N$19:$AM$19,$N$28:$AM$28, $N$37:$AM$37),1)","v":1},{"$f":"RANK(AK37,($N$10:$AM$10,$N$19:$AM$19,$N$28:$AM$28, $N$37:$AM$37),1)","v":1},{"$f":"RANK(AL37,($N$10:$AM$10,$N$19:$AM$19,$N$28:$AM$28, $N$37:$AM$37),1)","v":1},{"$f":"RANK(AM37,($N$10:$AM$10,$N$19:$AM$19,$N$28:$AM$28, $N$37:$AM$37),1)","v":1}]
[{"$error":"#REF!"},36,102,"15:13",{"$f":"+VLOOKUP($C39,#REF!,2,\"false\")","v":{"$error":"#REF!"}},{"$f":"+VLOOKUP($C39,#REF!,3,\"false\")","v":{"$error":"#REF!"}},{"$f":"+VLOOKUP($C39,#REF!,4,\"false\")","v":{"$error":"#REF!"}},{"$f":"+VLOOKUP($C39,#REF!,5,\"false\")","v":{"$error":"#REF!"}},{"$f":"+VLOOKUP($C39,#REF!,6,\"false\")","v":{"$error":"#REF!"}},{"$error":"#REF!"},{"$error":"#REF!"}]
[{"$error":"#REF!"},37,88,"15:14",{"$f":"+VLOOKUP($C40,#REF!,2,\"false\")","v":{"$error":"#REF!"}},{"$f":"+VLOOKUP($C40,#REF!,3,\"false\")","v":{"$error":"#REF!"}},{"$f":"+VLOOKUP($C40,#REF!,4,\"false\")","v":{"$error":"#REF!"}},{"$f":"+VLOOKUP($C40,#REF!,5,\"false\")","v":{"$error":"#REF!"}},{"$f":"+VLOOKUP($C40,#REF!,6,\"false\")","v":{"$error":"#REF!"}},{"$error":"#REF!"},{"$error":"#REF!"}]
[{"$error":"#REF!"},38,92,"15:31",{"$f":"+VLOOKUP($C41,#REF!,2,\"false\")","v":{"$error":"#REF!"}},{"$f":"+VLOOKUP($C41,#REF!,3,\"false\")","v":{"$error":"#REF!"}},{"$f":"+VLOOKUP($C41,#REF!,4,\"false\")","v":{"$error":"#REF!"}},{"$f":"+VLOOKUP($C41,#REF!,5,\"false\")","v":{"$error":"#REF!"}},{"$f":"+VLOOKUP($C41,#REF!,6,\"false\")","v":{"$error":"#REF!"}},{"$error":"#REF!"},{"$error":"#REF!"}]
[{"$error":"#REF!"},39,87,"15:46",{"$f":"+VLOOKUP($C42,#REF!,2,\"false\")","v":{"$error":"#REF!"}},{"$f":"+VLOOKUP($C42,#REF!,3,\"false\")","v":{"$error":"#REF!"}},{"$f":"+VLOOKUP($C42,#REF!,4,\"false\")","v":{"$error":"#REF!"}},{"$f":"+VLOOKUP($C42,#REF!,5,\"false\")","v":{"$error":"#REF!"}},{"$f":"+VLOOKUP($C42,#REF!,6,\"false\")","v":{"$error":"#REF!"}},{"$error":"#REF!"},{"$error":"#REF!"}]
[{"$error":"#REF!"},40,82,"15:47",{"$f":"+VLOOKUP($C43,#REF!,2,\"false\")","v":{"$error":"#REF!"}},{"$f":"+VLOOKUP($C43,#REF!,3,\"false\")","v":{"$error":"#REF!"}},{"$f":"+VLOOKUP($C43,#REF!,4,\"false\")","v":{"$error":"#REF!"}},{"$f":"+VLOOKUP($C43,#REF!,5,\"false\")","v":{"$error":"#REF!"}},{"$f":"+VLOOKUP($C43,#REF!,6,\"false\")","v":{"$error":"#REF!"}},{"$error":"#REF!"},{"$error":"#REF!"}]
[{"$error":"#REF!"},41,93,"16:00",{"$f":"+VLOOKUP($C44,#REF!,2,\"false\")","v":{"$error":"#REF!"}},{"$f":"+VLOOKUP($C44,#REF!,3,\"false\")","v":{"$error":"#REF!"}},{"$f":"+VLOOKUP($C44,#REF!,4,\"false\")","v":{"$error":"#REF!"}},{"$f":"+VLOOKUP($C44,#REF!,5,\"false\")","v":{"$error":"#REF!"}},{"$f":"+VLOOKUP($C44,#REF!,6,\"false\")","v":{"$error":"#REF!"}},{"$error":"#REF!"},{"$error":"#REF!"}]
[{"$error":"#REF!"},42,74,"16:10",{"$f":"+VLOOKUP($C45,#REF!,2,\"false\")","v":{"$error":"#REF!"}},{"$f":"+VLOOKUP($C45,#REF!,3,\"false\")","v":{"$error":"#REF!"}},{"$f":"+VLOOKUP($C45,#REF!,4,\"false\")","v":{"$error":"#REF!"}},{"$f":"+VLOOKUP($C45,#REF!,5,\"false\")","v":{"$error":"#REF!"}},{"$f":"+VLOOKUP($C45,#REF!,6,\"false\")","v":{"$error":"#REF!"}},{"$error":"#REF!"},{"$error":"#REF!"}]
[{"$error":"#REF!"},43,106,"16:15",{"$f":"+VLOOKUP($C46,#REF!,2,\"false\")","v":{"$error":"#REF!"}},{"$f":"+VLOOKUP($C46,#REF!,3,\"false\")","v":{"$error":"#REF!"}},{"$f":"+VLOOKUP($C46,#REF!,4,\"false\")","v":{"$error":"#REF!"}},{"$f":"+VLOOKUP($C46,#REF!,5,\"false\")","v":{"$error":"#REF!"}},{"$f":"+VLOOKUP($C46,#REF!,6,\"false\")","v":{"$error":"#REF!"}},{"$error":"#REF!"},{"$error":"#REF!"}]
[{"$error":"#REF!"},44,112,"16:52",{"$f":"+VLOOKUP($C47,#REF!,2,\"false\")","v":{"$error":"#REF!"}},{"$f":"+VLOOKUP($C47,#REF!,3,\"false\")","v":{"$error":"#REF!"}},{"$f":"+VLOOKUP($C47,#REF!,4,\"false\")","v":{"$error":"#REF!"}},{"$f":"+VLOOKUP($C47,#REF!,5,\"false\")","v":{"$error":"#REF!"}},{"$f":"+VLOOKUP($C47,#REF!,6,\"false\")","v":{"$error":"#REF!"}},{"$error":"#REF!"},{"$error":"#REF!"}]
[{"$error":"#REF!"},45,103,"17:09",{"$f":"+VLOOKUP($C48,#REF!,2,\"false\")","v":{"$error":"#REF!"}},{"$f":"+VLOOKUP($C48,#REF!,3,\"false\")","v":{"$error":"#REF!"}},{"$f":"+VLOOKUP($C48,#REF!,4,\"false\")","v":{"$error":"#REF!"}},{"$f":"+VLOOKUP($C48,#REF!,5,\"false\")","v":{"$error":"#REF!"}},{"$f":"+VLOOKUP($C48,#REF!,6,\"false\")","v":{"$error":"#REF!"}},{"$error":"#REF!"},{"$error":"#REF!"}]
[{"$error":"#REF!"},46,86,"17:19",{"$f":"+VLOOKUP($C49,#REF!,2,\"false\")","v":{"$error":"#REF!"}},{"$f":"+VLOOKUP($C49,#REF!,3,\"false\")","v":{"$error":"#REF!"}},{"$f":"+VLOOKUP($C49,#REF!,4,\"false\")","v":{"$error":"#REF!"}},{"$f":"+VLOOKUP($C49,#REF!,5,\"false\")","v":{"$error":"#REF!"}},{"$f":"+VLOOKUP($C49,#REF!,6,\"false\")","v":{"$error":"#REF!"}},{"$error":"#REF!"},{"$error":"#REF!"}]
[{"$error":"#REF!"},47,524,"18:04",{"$f":"+VLOOKUP($C50,#REF!,2,\"false\")","v":{"$error":"#REF!"}},{"$f":"+VLOOKUP($C50,#REF!,3,\"false\")","v":{"$error":"#REF!"}},{"$f":"+VLOOKUP($C50,#REF!,4,\"false\")","v":{"$error":"#REF!"}},{"$f":"+VLOOKUP($C50,#REF!,5,\"false\")","v":{"$error":"#REF!"}},{"$f":"+VLOOKUP($C50,#REF!,6,\"false\")","v":{"$error":"#REF!"}},{"$error":"#REF!"},{"$error":"#REF!"}]
[{"$f":"+K51","v":{"$error":"#REF!"}},48,104,"19:04",{"$f":"+VLOOKUP($C51,#REF!,2,\"false\")","v":{"$error":"#REF!"}},{"$f":"+VLOOKUP($C51,#REF!,3,\"false\")","v":{"$error":"#REF!"}},{"$f":"+VLOOKUP($C51,#REF!,4,\"false\")","v":{"$error":"#REF!"}},{"$f":"+VLOOKUP($C51,#REF!,5,\"false\")","v":{"$error":"#REF!"}},{"$f":"+VLOOKUP($C51,#REF!,6,\"false\")","v":{"$error":"#REF!"}},{"$f":"TEXT(SUMPRODUCT(--(G51=$G$4:$G$597),--(B51>$B$4:$B$597))+1,0)","v":{"$error":"#REF!"}},{"$f":"+G51&\"  \"&J51","v":{"$error":"#REF!"}}]
{"$rows_empty":48}
[{"$nulls":13},"B&H"]
[{"$nulls":13},"LEW"]
[{"$nulls":13},"CHI"]
[{"$nulls":13},"POR"]
[{"$nulls":13},"PHX"]
[{"$nulls":13},"EBR"]
[{"$nulls":13},"BWK"]
[null,"Pos","Bib","Time",{"$nulls":9},"HY"]
[null,1,97,"12:11",{"$nulls":9},"HAS"]
[null,{"$f":"+B108+1","v":2},107,"12:40",{"$nulls":9},"CRA"]
[null,{"$f":"+B109+1","v":3},69,"12:47",{"$nulls":9},"WDH"]
[null,4,116,"12:49",{"$nulls":9},"HBS"]
[null,5,62,"13:08"]
[null,6,111,"13:20"]
[null,7,75,"13:27"]
[null,8,81,"13:29"]
[null,9,66,"13:30"]
[null,10,99,"13:30"]
[null,11,77,"13:53"]
[null,12,84,"13:59"]
[null,13,110,"14:00"]
[null,14,105,"14:02"]
[null,15,83,"14:06"]
[null,16,94,"14:07"]
[null,17,95,"14:08"]
[null,18,72,"14:12"]
[null,19,63,"14:12"]
[null,20,76,"14:16"]
[null,21,117,"14:22"]
[null,22,100,"14:24"]
[null,23,108,"14:25"]
[null,24,64,"14:26"]
[null,25,78,"14:27"]
[null,26,115,"14:29"]
[null,27,91,"14:37"]
[null,28,79,"14:43"]
[null,29,90,"14:47"]
[null,30,113,"14:51"]
[null,31,68,"15:05"]
[null,32,114,"15:10"]
[null,33,85,"15:11"]
[null,34,101,"15:12"]
[null,35,96,"15:12"]
[null,36,102,"15:13"]
[null,37,88,"15:14"]
[null,38,92,"15:31"]
[null,39,87,"15:46"]
[null,40,82,"15:47"]
[null,41,93,"16:00"]
[null,42,74,"16:10"]
[null,43,106,"16:15"]
[null,44,112,"16:52"]
[null,45,103,"17:09"]
[null,46,86,"17:19"]
[null,47,524,"18:04"]
[null,48,104,"19:04"]
[null,49]
[null,50]
[null,51]
[null,52]
[null,53]
[null,54]
[null,55]
[null,56]
[null,57]
[null,58]
[null,59]
[null,60]
[null,61]
[null,62]
[null,63]
[null,64]
[null,65]
[null,66]
[null,{"$f":"+B173+1","v":67}]
[null,68]
[null,69]
[null,70]
[null,71]
[null,72]
[null,73]
[null,74]
[null,75]
[null,76]
[null,77]
[null,78]
[null,79]
[null,80]
[null,81]
[null,82]
[null,83]
[null,84]
[null,85]
[null,86]
[null,87]
[null,88]
[null,89]
[null,90]
[null,91]
[null,92]
[null,93]
[null,94]
[null,95]
[null,96]
[null,97]
[null,98]
[null,99]
[null,100]

{"sheet":"U15G","index":4,"n_rows":198,"n_cols":39,"rows_kept":198,"hidden":true,"merged":[[0,1,0,6],[1,1,1,6]]}
[null,"Sussex Athletics XC Championships\nBexhill, 07/01/2023",{"$nulls":11},"26 clubs - cols N to AM"]
[null,"U15 Girls"]
["Temp","Pos","Bib","Time","Forename","Surname","Club","Cat ","Sex","Rk","Club Rk",null,null,"EBR","LEW","CHI","CRA","SYN","WDH","B&H","BWK","PHX","HY","HBS","HAS"]
[{"$f":"+K4","v":{"$error":"#REF!"}},1,521,"16:25",{"$f":"+VLOOKUP($C4,#REF!,2,\"false\")","v":{"$error":"#REF!"}},{"$f":"+VLOOKUP($C4,#REF!,3,\"false\")","v":{"$error":"#REF!"}},{"$f":"+VLOOKUP($C4,#REF!,4,\"false\")","v":{"$error":"#REF!"}},{"$f":"+VLOOKUP($C4,#REF!,5,\"false\")","v":{"$error":"#REF!"}},{"$f":"+VLOOKUP($C4,#REF!,6,\"false\")","v":{"$error":"#REF!"}},{"$f":"TEXT(SUMPRODUCT(--(G4=$G$4:$G$588),--(B4>$B$4:$B$588))+1,0)","v":{"$error":"#REF!"}},{"$f":"+G4&\"  \"&J4","v":{"$error":"#REF!"}},null,1,{"$f":"+IF(ISNA(VLOOKUP(N$3&\"  \"&$M4,$A$3:$I$100,2,0)),\"\",VLOOKUP(N$3&\"  \"&$M4,$A$3:$I$100,2,0))","v":""},"","","","","","","","","",{"$f":"+IF(ISNA(VLOOKUP(X$3&\"  \"&$M4,$A$3:$I$100,2,0)),\"\",VLOOKUP(X$3&\"  \"&$M4,$A$3:$I$100,2,0))","v":""},"","","","","","","","","",{"$f":"+IF(ISNA(VLOOKUP(AH$3&\"  \"&$M4,$A$3:$I$100,2,0)),\"\",VLOOKUP(AH$3&\"  \"&$M4,$A$3:$I$100,2,0))","v":""},"","","","",""]
[{"$f":"+K5","v":{"$error":"#REF!"}},{"$f":"+B4+1","v":2},217,"16:32",{"$f":"+VLOOKUP($C5,#REF!,2,\"false\")","v":{"$error":"#REF!"}},{"$f":"+VLOOKUP($C5,#REF!,3,\"false\")","v":{"$error":"#REF!"}},{"$f":"+VLOOKUP($C5,#REF!,4,\"false\")","v":{"$error":"#REF!"}},{"$f":"+VLOOKUP($C5,#REF!,5,\"false\")","v":{"$error":"#REF!"}},{"$f":"+VLOOKUP($C5,#REF!,6,\"false\")","v":{"$error":"#REF!"}},{"$error":"#REF!"},{"$f":"+G5&\"  \"&J5","v":{"$error":"#REF!"}},null,2,"","","","","","","","","","","","","","","","","","","","","","","","","",""]
[{"$error":"#REF!"},{"$f":"+B5+1","v":3},212,"16:33",{"$f":"+VLOOKUP($C6,#REF!,2,\"false\")","v":{"$error":"#REF!"}},{"$f":"+VLOOKUP($C6,#REF!,3,\"false\")","v":{"$error":"#REF!"}},{"$f":"+VLOOKUP($C6,#REF!,4,\"false\")","v":{"$error":"#REF!"}},{"$f":"+VLOOKUP($C6,#REF!,5,\"false\")","v":{"$error":"#REF!"}},{"$f":"+VLOOKUP($C6,#REF!,6,\"false\")","v":{"$error":"#REF!"}},{"$error":"#REF!"},{"$error":"#REF!"},null,3,"","","","","","","","","","","","","","","","","","","","","","","","","",""]
[{"$error":"#REF!"},4,201,"16:37",{"$f":"+VLOOKUP($C7,#REF!,2,\"false\")","v":{"$error":"#REF!"}},{"$f":"+VLOOKUP($C7,#REF!,3,\"false\")","v":{"$error":"#REF!"}},{"$f":"+VLOOKUP($C7,#REF!,4,\"false\")","v":{"$error":"#REF!"}},{"$f":"+VLOOKUP($C7,#REF!,5,\"false\")","v":{"$error":"#REF!"}},{"$f":"+VLOOKUP($C7,#REF!,6,\"false\")","v":{"$error":"#REF!"}},{"$error":"#REF!"},{"$error":"#REF!"},null,null,"","","","","","","","","","","","","","","","","","","","","","","","","",""]
[{"$error":"#REF!"},5,214,"16:52",{"$f":"+VLOOKUP($C8,#REF!,2,\"false\")","v":{"$error":"#REF!"}},{"$f":"+VLOOKUP($C8,#REF!,3,\"false\")","v":{"$error":"#REF!"}},{"$f":"+VLOOKUP($C8,#REF!,4,\"false\")","v":{"$error":"#REF!"}},{"$f":"+VLOOKUP($C8,#REF!,5,\"false\")","v":{"$error":"#REF!"}},{"$f":"+VLOOKUP($C8,#REF!,6,\"false\")","v":{"$error":"#REF!"}},{"$error":"#REF!"},{"$error":"#REF!"},null,null,"","","","","","","","","","","","","","","","","","","","","","","","","",""]
[{"$error":"#REF!"},6,245,"16:57",{"$f":"+VLOOKUP($C9,#REF!,2,\"false\")","v":{"$error":"#REF!"}},{"$f":"+VLOOKUP($C9,#REF!,3,\"false\")","v":{"$error":"#REF!"}},{"$f":"+VLOOKUP($C9,#REF!,4,\"false\")","v":{"$error":"#REF!"}},{"$f":"+VLOOKUP($C9,#REF!,5,\"false\")","v":{"$error":"#REF!"}},{"$f":"+VLOOKUP($C9,#REF!,6,\"false\")","v":{"$error":"#REF!"}},{"$error":"#REF!"},{"$error":"#REF!"},null,null,"","","","","","","","","","","","","","","","","","","","","","","","","",""]
[{"$error":"#REF!"},7,237,"17:00",{"$f":"+VLOOKUP($C10,#REF!,2,\"false\")","v":{"$error":"#REF!"}},{"$f":"+VLOOKUP($C10,#REF!,3,\"false\")","v":{"$error":"#REF!"}},{"$f":"+VLOOKUP($C10,#REF!,4,\"false\")","v":{"$error":"#REF!"}},{"$f":"+VLOOKUP($C10,#REF!,5,\"false\")","v":{"$error":"#REF!"}},{"$f":"+VLOOKUP($C10,#REF!,6,\"false\")","v":{"$error":"#REF!"}},{"$error":"#REF!"},{"$error":"#REF!"},null,"Tot",{"$f":"IF(N6=\"\",1000,SUM(N4:N6))","v":1000},{"$f":"IF(O6=\"\",1000,SUM(O4:O6))","v":1000},1000,1000,1000,1000,1000,1000,1000,1000,1000,1000,1000,1000,1000,1000,1000,1000,1000,1000,1000,1000,1000,1000,1000,1000]
[{"$error":"#REF!"},8,218,"17:06",{"$f":"+VLOOKUP($C11,#REF!,2,\"false\")","v":{"$error":"#REF!"}},{"$f":"+VLOOKUP($C11,#REF!,3,\"false\")","v":{"$error":"#REF!"}},{"$f":"+VLOOKUP($C11,#REF!,4,\"false\")","v":{"$error":"#REF!"}},{"$f":"+VLOOKUP($C11,#REF!,5,\"false\")","v":{"$error":"#REF!"}},{"$f":"+VLOOKUP($C11,#REF!,6,\"false\")","v":{"$error":"#REF!"}},{"$error":"#REF!"},{"$error":"#REF!"},null,"Pos",{"$f":"RANK(N10,($N$10:$AM$10,$N$19:$AM$19,$N$28:$AM$28, $N$37:$AM$37),1)","v":1},{"$f":"RANK(O10,($N$10:$AM$10,$N$19:$AM$19,$N$28:$AM$28, $N$37:$AM$37),1)","v":1},{"$f":"RANK(P10,($N$10:$AM$10,$N$19:$AM$19,$N$28:$AM$28, $N$37:$AM$37),1)","v":1},{"$f":"RANK(Q10,($N$10:$AM$10,$N$19:$AM$19,$N$28:$AM$28, $N$37:$AM$37),1)","v":1},{"$f":"RANK(R10,($N$10:$AM$10,$N$19:$AM$19,$N$28:$AM$28, $N$37:$AM$37),1)","v":1},{"$f":"RANK(S10,($N$10:$AM$10,$N$19:$AM$19,$N$28:$AM$28, $N$37:$AM$37),1)","v":1},{"$f":"RANK(T10,($N$10:$AM$10,$N$19:$AM$19,$N$28:$AM$28, $N$37:$AM$37),1)","v":1},{"$f":"RANK(U10,($N$10:$AM$10,$N$19:$AM$19,$N$28:$AM$28, $N$37:$AM$37),1)","v":1},{"$f":"RANK(V10,($N$10:$AM$10,$N$19:$AM$19,$N$28:$AM$28, $N$37:$AM$37),1)","v":1},{"$f":"RANK(W10,($N$10:$AM$10,$N$19:$AM$19,$N$28:$AM$28, $N$37:$AM$37),1)","v":1},{"$f":"RANK(X10,($N$10:$AM$10,$N$19:$AM$19,$N$28:$AM$28, $N$37:$AM$37),1)","v":1},{"$f":"RANK(Y10,($N$10:$AM$10,$N$19:$AM$19,$N$28:$AM$28, $N$37:$AM$37),1)","v":1},{"$f":"RANK(Z10,($N$10:$AM$10,$N$19:$AM$19,$N$28:$AM$28, $N$37:$AM$37),1)","v":1},{"$f":"RANK(AA10,($N$10:$AM$10,$N$19:$AM$19,$N$28:$AM$28, $N$37:$AM$37),1)","v":1},{"$f":"RANK(AB10,($N$10:$AM$10,$N$19:$AM$19,$N$28:$AM$28, $N$37:$AM$37),1)","v":1},{"$f":"RANK(AC10,($N$10:$AM$10,$N$19:$AM$19,$N$28:$AM$28, $N$37:$AM$37),1)","v":1},{"$f":"RANK(AD10,($N$10:$AM$10,$N$19:$AM$19,$N$28:$AM$28, $N$37:$AM$37),1)","v":1},{"$f":"RANK(AE10,($N$10:$AM$10,$N$19:$AM$19,$N$28:$AM$28, $N$37:$AM$37),1)","v":1},{"$f":"RANK(AF10,($N$10:$AM$10,$N$19:$AM$19,$N$28:$AM$28, $N$37:$AM$37),1)","v":1},{"$f":"RANK(AG10,($N$10:$AM$10,$N$19:$AM$19,$N$28:$AM$28, $N$37:$AM$37),1)","v":1},{"$f":"RANK(AH10,($N$10:$AM$10,$N$19:$AM$19,$N$28:$AM$28, $N$37:$AM$37),1)","v":1},{"$f":"RANK(AI10,($N$10:$AM$10,$N$19:$AM$19,$N$28:$AM$28, $N$37:$AM$37),1)","v":1},{"$f":"RANK(AJ10,($N$10:$AM$10,$N$19:$AM$19,$N$28:$AM$28, $N$37:$AM$37),1)","v":1},{"$f":"RANK(AK10,($N$10:$AM$10,$N$19:$AM$19,$N$28:$AM$28, $N$37:$AM$37),1)","v":1},{"$f":"RANK(AL10,($N$10:$AM$10,$N$19:$AM$19,$N$28:$AM$28, $N$37:$AM$37),1)","v":1},{"$f":"RANK(AM10,($N$10:$AM$10,$N$19:$AM$19,$N$28:$AM$28, $N$37:$AM$37),1)","v":1}]
[{"$error":"#REF!"},9,232,"17:24",{"$f":"+VLOOKUP($C12,#REF!,2,\"false\")","v":{"$error":"#REF!"}},{"$f":"+VLOOKUP($C12,#REF!,3,\"false\")","v":{"$error":"#REF!"}},{"$f":"+VLOOKUP($C12,#REF!,4,\"false\")","v":{"$error":"#REF!"}},{"$f":"+VLOOKUP($C12,#REF!,5,\"false\")","v":{"$error":"#REF!"}},{"$f":"+VLOOKUP($C12,#REF!,6,\"false\")","v":{"$error":"#REF!"}},{"$error":"#REF!"},{"$error":"#REF!"}]
[{"$error":"#REF!"},10,207,"17:31",{"$f":"+VLOOKUP($C13,#REF!,2,\"false\")","v":{"$error":"#REF!"}},{"$f":"+VLOOKUP($C13,#REF!,3,\"false\")","v":{"$error":"#REF!"}},{"$f":"+VLOOKUP($C13,#REF!,4,\"false\")","v":{"$error":"#REF!"}},{"$f":"+VLOOKUP($C13,#REF!,5,\"false\")","v":{"$error":"#REF!"}},{"$f":"+VLOOKUP($C13,#REF!,6,\"false\")","v":{"$error":"#REF!"}},{"$error":"#REF!"},{"$error":"#REF!"},null,4,{"$f":"+IF(ISNA(VLOOKUP(N$3&\"  \"&$M13,$A$3:$I$100,2,0)),\"\",VLOOKUP(N$3&\"  \"&$M13,$A$3:$I$100,2,0))","v":""},"","","","","","","","","",{"$f":"+IF(ISNA(VLOOKUP(X$3&\"  \"&$M13,$A$3:$I$100,2,0)),\"\",VLOOKUP(X$3&\"  \"&$M13,$A$3:$I$100,2,0))","v":""},"","","","","","","","","",{"$f":"+IF(ISNA(VLOOKUP(AH$3&\"  \"&$M13,$A$3:$I$100,2,0)),\"\",VLOOKUP(AH$3&\"  \"&$M13,$A$3:$I$100,2,0))","v":""},"","","","",""]
[{"$error":"#REF!"},11,220,"17:52",{"$f":"+VLOOKUP($C14,#REF!,2,\"false\")","v":{"$error":"#REF!"}},{"$f":"+VLOOKUP($C14,#REF!,3,\"false\")","v":{"$error":"#REF!"}},{"$f":"+VLOOKUP($C14,#REF!,4,\"false\")","v":{"$error":"#REF!"}},{"$f":"+VLOOKUP($C14,#REF!,5,\"false\")","v":{"$error":"#REF!"}},{"$f":"+VLOOKUP($C14,#REF!,6,\"false\")","v":{"$error":"#REF!"}},{"$error":"#REF!"},{"$error":"#REF!"},null,5,"","","","","","","","","","","","","","","","","","","","","","","","","",""]
[{"$error":"#REF!"},12,227,"17:55",{"$f":"+VLOOKUP($C15,#REF!,2,\"false\")","v":{"$error":"#REF!"}},{"$f":"+VLOOKUP($C15,#REF!,3,\"false\")","v":{"$error":"#REF!"}},{"$f":"+VLOOKUP($C15,#REF!,4,\"false\")","v":{"$error":"#REF!"}},{"$f":"+VLOOKUP($C15,#REF!,5,\"false\")","v":{"$error":"#REF!"}},{"$f":"+VLOOKUP($C15,#REF!,6,\"false\")","v":{"$error":"#REF!"}},{"$error":"#REF!"},{"$error":"#REF!"},null,6,"","","","","","","","","","","","","","","","","","","","","","","","","",""]
[{"$error":"#REF!"},13,222,"18:06",{"$f":"+VLOOKUP($C16,#REF!,2,\"false\")","v":{"$error":"#REF!"}},{"$f":"+VLOOKUP($C16,#REF!,3,\"false\")","v":{"$error":"#REF!"}},{"$f":"+VLOOKUP($C16,#REF!,4,\"false\")","v":{"$error":"#REF!"}},{"$f":"+VLOOKUP($C16,#REF!,5,\"false\")","v":{"$error":"#REF!"}},{"$f":"+VLOOKUP($C16,#REF!,6,\"false\")","v":{"$error":"#REF!"}},{"$error":"#REF!"},{"$error":"#REF!"},null,null,"","","","","","","","","","","","","","","","","","","","","","","","","",""]
[{"$error":"#REF!"},14,211,"18:09",{"$f":"+VLOOKUP($C17,#REF!,2,\"false\")","v":{"$error":"#REF!"}},{"$f":"+VLOOKUP($C17,#REF!,3,\"false\")","v":{"$error":"#REF!"}},{"$f":"+VLOOKUP($C17,#REF!,4,\"false\")","v":{"$error":"#REF!"}},{"$f":"+VLOOKUP($C17,#REF!,5,\"false\")","v":{"$error":"#REF!"}},{"$f":"+VLOOKUP($C17,#REF!,6,\"false\")","v":{"$error":"#REF!"}},{"$error":"#REF!"},{"$error":"#REF!"},null,null,"","","","","","","","","","","","","","","","","","","","","","","","","",""]
[{"$error":"#REF!"},15,224,"18:15",{"$f":"+VLOOKUP($C18,#REF!,2,\"false\")","v":{"$error":"#REF!"}},{"$f":"+VLOOKUP($C18,#REF!,3,\"false\")","v":{"$error":"#REF!"}},{"$f":"+VLOOKUP($C18,#REF!,4,\"false\")","v":{"$error":"#REF!"}},{"$f":"+VLOOKUP($C18,#REF!,5,\"false\")","v":{"$error":"#REF!"}},{"$f":"+VLOOKUP($C18,#REF!,6,\"false\")","v":{"$error":"#REF!"}},{"$error":"#REF!"},{"$error":"#REF!"},null,null,"","","","","","","","","","","","","","","","","","","","","","","","","",""]
[{"$error":"#REF!"},16,241,"18:22",{"$f":"+VLOOKUP($C19,#REF!,2,\"false\")","v":{"$error":"#REF!"}},{"$f":"+VLOOKUP($C19,#REF!,3,\"false\")","v":{"$error":"#REF!"}},{"$f":"+VLOOKUP($C19,#REF!,4,\"false\")","v":{"$error":"#REF!"}},{"$f":"+VLOOKUP($C19,#REF!,5,\"false\")","v":{"$error":"#REF!"}},{"$f":"+VLOOKUP($C19,#REF!,6,\"false\")","v":{"$error":"#REF!"}},{"$error":"#REF!"},{"$error":"#REF!"},null,"Tot",{"$f":"IF(N15=\"\",1000,SUM(N13:N15))","v":1000},{"$f":"IF(O15=\"\",1000,SUM(O13:O15))","v":1000},1000,1000,1000,1000,1000,1000,1000,1000,1000,1000,1000,1000,1000,1000,1000,1000,1000,1000,1000,1000,1000,1000,1000,1000]
[{"$error":"#REF!"},17,223,"18:38",{"$f":"+VLOOKUP($C20,#REF!,2,\"false\")","v":{"$error":"#REF!"}},{"$f":"+VLOOKUP($C20,#REF!,3,\"false\")","v":{"$error":"#REF!"}},{"$f":"+VLOOKUP($C20,#REF!,4,\"false\")","v":{"$error":"#REF!"}},{"$f":"+VLOOKUP($C20,#REF!,5,\"false\")","v":{"$error":"#REF!"}},{"$f":"+VLOOKUP($C20,#REF!,6,\"false\")","v":{"$error":"#REF!"}},{"$error":"#REF!"},{"$error":"#REF!"},null,"Pos",{"$f":"RANK(N19,($N$10:$AM$10,$N$19:$AM$19,$N$28:$AM$28, $N$37:$AM$37),1)","v":1},{"$f":"RANK(O19,($N$10:$AM$10,$N$19:$AM$19,$N$28:$AM$28, $N$37:$AM$37),1)","v":1},{"$f":"RANK(P19,($N$10:$AM$10,$N$19:$AM$19,$N$28:$AM$28, $N$37:$AM$37),1)","v":1},{"$f":"RANK(Q19,($N$10:$AM$10,$N$19:$AM$19,$N$28:$AM$28, $N$37:$AM$37),1)","v":1},{"$f":"RANK(R19,($N$10:$AM$10,$N$19:$AM$19,$N$28:$AM$28, $N$37:$AM$37),1)","v":1},{"$f":"RANK(S19,($N$10:$AM$10,$N$19:$AM$19,$N$28:$AM$28, $N$37:$AM$37),1)","v":1},{"$f":"RANK(T19,($N$10:$AM$10,$N$19:$AM$19,$N$28:$AM$28, $N$37:$AM$37),1)","v":1},{"$f":"RANK(U19,($N$10:$AM$10,$N$19:$AM$19,$N$28:$AM$28, $N$37:$AM$37),1)","v":1},{"$f":"RANK(V19,($N$10:$AM$10,$N$19:$AM$19,$N$28:$AM$28, $N$37:$AM$37),1)","v":1},{"$f":"RANK(W19,($N$10:$AM$10,$N$19:$AM$19,$N$28:$AM$28, $N$37:$AM$37),1)","v":1},{"$f":"RANK(X19,($N$10:$AM$10,$N$19:$AM$19,$N$28:$AM$28, $N$37:$AM$37),1)","v":1},{"$f":"RANK(Y19,($N$10:$AM$10,$N$19:$AM$19,$N$28:$AM$28, $N$37:$AM$37),1)","v":1},{"$f":"RANK(Z19,($N$10:$AM$10,$N$19:$AM$19,$N$28:$AM$28, $N$37:$AM$37),1)","v":1},{"$f":"RANK(AA19,($N$10:$AM$10,$N$19:$AM$19,$N$28:$AM$28, $N$37:$AM$37),1)","v":1},{"$f":"RANK(AB19,($N$10:$AM$10,$N$19:$AM$19,$N$28:$AM$28, $N$37:$AM$37),1)","v":1},{"$f":"RANK(AC19,($N$10:$AM$10,$N$19:$AM$19,$N$28:$AM$28, $N$37:$AM$37),1)","v":1},{"$f":"RANK(AD19,($N$10:$AM$10,$N$19:$AM$19,$N$28:$AM$28, $N$37:$AM$37),1)","v":1},{"$f":"RANK(AE19,($N$10:$AM$10,$N$19:$AM$19,$N$28:$AM$28, $N$37:$AM$37),1)","v":1},{"$f":"RANK(AF19,($N$10:$AM$10,$N$19:$AM$19,$N$28:$AM$28, $N$37:$AM$37),1)","v":1},{"$f":"RANK(AG19,($N$10:$AM$10,$N$19:$AM$19,$N$28:$AM$28, $N$37:$AM$37),1)","v":1},{"$f":"RANK(AH19,($N$10:$AM$10,$N$19:$AM$19,$N$28:$AM$28, $N$37:$AM$37),1)","v":1},{"$f":"RANK(AI19,($N$10:$AM$10,$N$19:$AM$19,$N$28:$AM$28, $N$37:$AM$37),1)","v":1},{"$f":"RANK(AJ19,($N$10:$AM$10,$N$19:$AM$19,$N$28:$AM$28, $N$37:$AM$37),1)","v":1},{"$f":"RANK(AK19,($N$10:$AM$10,$N$19:$AM$19,$N$28:$AM$28, $N$37:$AM$37),1)","v":1},{"$f":"RANK(AL19,($N$10:$AM$10,$N$19:$AM$19,$N$28:$AM$28, $N$37:$AM$37),1)","v":1},{"$f":"RANK(AM19,($N$10:$AM$10,$N$19:$AM$19,$N$28:$AM$28, $N$37:$AM$37),1)","v":1}]
[{"$error":"#REF!"},18,230,"18:44",{"$f":"+VLOOKUP($C21,#REF!,2,\"false\")","v":{"$error":"#REF!"}},{"$f":"+VLOOKUP($C21,#REF!,3,\"false\")","v":{"$error":"#REF!"}},{"$f":"+VLOOKUP($C21,#REF!,4,\"false\")","v":{"$error":"#REF!"}},{"$f":"+VLOOKUP($C21,#REF!,5,\"false\")","v":{"$error":"#REF!"}},{"$f":"+VLOOKUP($C21,#REF!,6,\"false\")","v":{"$error":"#REF!"}},{"$error":"#REF!"},{"$f":"+G21&\"  \"&J21","v":{"$error":"#REF!"}}]
[{"$error":"#REF!"},19,240,"18:48",{"$f":"+VLOOKUP($C22,#REF!,2,\"false\")","v":{"$error":"#REF!"}},{"$f":"+VLOOKUP($C22,#REF!,3,\"false\")","v":{"$error":"#REF!"}},{"$f":"+VLOOKUP($C22,#REF!,4,\"false\")","v":{"$error":"#REF!"}},{"$f":"+VLOOKUP($C22,#REF!,5,\"false\")","v":{"$error":"#REF!"}},{"$f":"+VLOOKUP($C22,#REF!,6,\"false\")","v":{"$error":"#REF!"}},{"$error":"#REF!"},{"$error":"#REF!"},null,7,{"$f":"+IF(ISNA(VLOOKUP(N$3&\"  \"&$M22,$A$3:$I$100,2,0)),\"\",VLOOKUP(N$3&\"  \"&$M22,$A$3:$I$100,2,0))","v":""},"","","","","","","","","",{"$f":"+IF(ISNA(VLOOKUP(X$3&\"  \"&$M22,$A$3:$I$100,2,0)),\"\",VLOOKUP(X$3&\"  \"&$M22,$A$3:$I$100,2,0))","v":""},"","","","","","","","","",{"$f":"+IF(ISNA(VLOOKUP(AH$3&\"  \"&$M22,$A$3:$I$100,2,0)),\"\",VLOOKUP(AH$3&\"  \"&$M22,$A$3:$I$100,2,0))","v":""},"","","","",""]
[{"$error":"#REF!"},20,239,"19:01",{"$f":"+VLOOKUP($C23,#REF!,2,\"false\")","v":{"$error":"#REF!"}},{"$f":"+VLOOKUP($C23,#REF!,3,\"false\")","v":{"$error":"#REF!"}},{"$f":"+VLOOKUP($C23,#REF!,4,\"false\")","v":{"$error":"#REF!"}},{"$f":"+VLOOKUP($C23,#REF!,5,\"false\")","v":{"$error":"#REF!"}},{"$f":"+VLOOKUP($C23,#REF!,6,\"false\")","v":{"$error":"#REF!"}},{"$error":"#REF!"},{"$error":"#REF!"},null,8,"","","","","","","","","","","","","","","","","","","","","","","","","",""]
[{"$error":"#REF!"},21,210,"19:06",{"$f":"+VLOOKUP($C24,#REF!,2,\"false\")","v":{"$error":"#REF!"}},{"$f":"+VLOOKUP($C24,#REF!,3,\"false\")","v":{"$error":"#REF!"}},{"$f":"+VLOOKUP($C24,#REF!,4,\"false\")","v":{"$error":"#REF!"}},{"$f":"+VLOOKUP($C24,#REF!,5,\"false\")","v":{"$error":"#REF!"}},{"$f":"+VLOOKUP($C24,#REF!,6,\"false\")","v":{"$error":"#REF!"}},{"$error":"#REF!"},{"$error":"#REF!"},null,9,"","","","","","","","","","","","","","","","","","","","","","","","","",""]
[{"$error":"#REF!"},22,213,"19:16",{"$f":"+VLOOKUP($C25,#REF!,2,\"false\")","v":{"$error":"#REF!"}},{"$f":"+VLOOKUP($C25,#REF!,3,\"false\")","v":{"$error":"#REF!"}},{"$f":"+VLOOKUP($C25,#REF!,4,\"false\")","v":{"$error":"#REF!"}},{"$f":"+VLOOKUP($C25,#REF!,5,\"false\")","v":{"$error":"#REF!"}},{"$f":"+VLOOKUP($C25,#REF!,6,\"false\")","v":{"$error":"#REF!"}},{"$error":"#REF!"},{"$error":"#REF!"},null,null,"","","","","","","","","","","","","","","","","","","","","","","","","",""]
[{"$error":"#REF!"},23,204,"19:19",{"$f":"+VLOOKUP($C26,#REF!,2,\"false\")","v":{"$error":"#REF!"}},{"$f":"+VLOOKUP($C26,#REF!,3,\"false\")","v":{"$error":"#REF!"}},{"$f":"+VLOOKUP($C26,#REF!,4,\"false\")","v":{"$error":"#REF!"}},{"$f":"+VLOOKUP($C26,#REF!,5,\"false\")","v":{"$error":"#REF!"}},{"$f":"+VLOOKUP($C26,#REF!,6,\"false\")","v":{"$error":"#REF!"}},{"$error":"#REF!"},{"$error":"#REF!"},null,null,"","","","","","","","","","","","","","","","","","","","","","","","","",""]
[{"$error":"#REF!"},24,206,"19:24",{"$f":"+VLOOKUP($C27,#REF!,2,\"false\")","v":{"$error":"#REF!"}},{"$f":"+VLOOKUP($C27,#REF!,3,\"false\")","v":{"$error":"#REF!"}},{"$f":"+VLOOKUP($C27,#REF!,4,\"false\")","v":{"$error":"#REF!"}},{"$f":"+VLOOKUP($C27,#REF!,5,\"false\")","v":{"$error":"#REF!"}},{"$f":"+VLOOKUP($C27,#REF!,6,\"false\")","v":{"$error":"#REF!"}},{"$error":"#REF!"},{"$error":"#REF!"},null,null,"","","","","","","","","","","","","","","","","","","","","","","","","",""]
[{"$error":"#REF!"},25,231,"19:33",{"$f":"+VLOOKUP($C28,#REF!,2,\"false\")","v":{"$error":"#REF!"}},{"$f":"+VLOOKUP($C28,#REF!,3,\"false\")","v":{"$error":"#REF!"}},{"$f":"+VLOOKUP($C28,#REF!,4,\"false\")","v":{"$error":"#REF!"}},{"$f":"+VLOOKUP($C28,#REF!,5,\"false\")","v":{"$error":"#REF!"}},{"$f":"+VLOOKUP($C28,#REF!,6,\"false\")","v":{"$error":"#REF!"}},{"$error":"#REF!"},{"$error":"#REF!"},null,"Tot",{"$f":"IF(N24=\"\",1000,SUM(N22:N24))","v":1000},{"$f":"IF(O24=\"\",1000,SUM(O22:O24))","v":1000},1000,1000,1000,1000,1000,1000,1000,1000,1000,1000,1000,1000,1000,1000,1000,1000,1000,1000,1000,1000,1000,1000,1000,1000]
[{"$error":"#REF!"},26,247,"19:35",{"$f":"+VLOOKUP($C29,#REF!,2,\"false\")","v":{"$error":"#REF!"}},{"$f":"+VLOOKUP($C29,#REF!,3,\"false\")","v":{"$error":"#REF!"}},{"$f":"+VLOOKUP($C29,#REF!,4,\"false\")","v":{"$error":"#REF!"}},{"$f":"+VLOOKUP($C29,#REF!,5,\"false\")","v":{"$error":"#REF!"}},{"$f":"+VLOOKUP($C29,#REF!,6,\"false\")","v":{"$error":"#REF!"}},{"$error":"#REF!"},{"$error":"#REF!"},null,"Pos",{"$f":"RANK(N28,($N$10:$AM$10,$N$19:$AM$19,$N$28:$AM$28, $N$37:$AM$37),1)","v":1},{"$f":"RANK(O28,($N$10:$AM$10,$N$19:$AM$19,$N$28:$AM$28, $N$37:$AM$37),1)","v":1},{"$f":"RANK(P28,($N$10:$AM$10,$N$19:$AM$19,$N$28:$AM$28, $N$37:$AM$37),1)","v":1},{"$f":"RANK(Q28,($N$10:$AM$10,$N$19:$AM$19,$N$28:$AM$28, $N$37:$AM$37),1)","v":1},{"$f":"RANK(R28,($N$10:$AM$10,$N$19:$AM$19,$N$28:$AM$28, $N$37:$AM$37),1)","v":1},{"$f":"RANK(S28,($N$10:$AM$10,$N$19:$AM$19,$N$28:$AM$28, $N$37:$AM$37),1)","v":1},{"$f":"RANK(T28,($N$10:$AM$10,$N$19:$AM$19,$N$28:$AM$28, $N$37:$AM$37),1)","v":1},{"$f":"RANK(U28,($N$10:$AM$10,$N$19:$AM$19,$N$28:$AM$28, $N$37:$AM$37),1)","v":1},{"$f":"RANK(V28,($N$10:$AM$10,$N$19:$AM$19,$N$28:$AM$28, $N$37:$AM$37),1)","v":1},{"$f":"RANK(W28,($N$10:$AM$10,$N$19:$AM$19,$N$28:$AM$28, $N$37:$AM$37),1)","v":1},{"$f":"RANK(X28,($N$10:$AM$10,$N$19:$AM$19,$N$28:$AM$28, $N$37:$AM$37),1)","v":1},{"$f":"RANK(Y28,($N$10:$AM$10,$N$19:$AM$19,$N$28:$AM$28, $N$37:$AM$37),1)","v":1},{"$f":"RANK(Z28,($N$10:$AM$10,$N$19:$AM$19,$N$28:$AM$28, $N$37:$AM$37),1)","v":1},{"$f":"RANK(AA28,($N$10:$AM$10,$N$19:$AM$19,$N$28:$AM$28, $N$37:$AM$37),1)","v":1},{"$f":"RANK(AB28,($N$10:$AM$10,$N$19:$AM$19,$N$28:$AM$28, $N$37:$AM$37),1)","v":1},{"$f":"RANK(AC28,($N$10:$AM$10,$N$19:$AM$19,$N$28:$AM$28, $N$37:$AM$37),1)","v":1},{"$f":"RANK(AD28,($N$10:$AM$10,$N$19:$AM$19,$N$28:$AM$28, $N$37:$AM$37),1)","v":1},{"$f":"RANK(AE28,($N$10:$AM$10,$N$19:$AM$19,$N$28:$AM$28, $N$37:$AM$37),1)","v":1},{"$f":"RANK(AF28,($N$10:$AM$10,$N$19:$AM$19,$N$28:$AM$28, $N$37:$AM$37),1)","v":1},{"$f":"RANK(AG28,($N$10:$AM$10,$N$19:$AM$19,$N$28:$AM$28, $N$37:$AM$37),1)","v":1},{"$f":"RANK(AH28,($N$10:$AM$10,$N$19:$AM$19,$N$28:$AM$28, $N$37:$AM$37),1)","v":1},{"$f":"RANK(AI28,($N$10:$AM$10,$N$19:$AM$19,$N$28:$AM$28, $N$37:$AM$37),1)","v":1},{"$f":"RANK(AJ28,($N$10:$AM$10,$N$19:$AM$19,$N$28:$AM$28, $N$37:$AM$37),1)","v":1},{"$f":"RANK(AK28,($N$10:$AM$10,$N$19:$AM$19,$N$28:$AM$28, $N$37:$AM$37),1)","v":1},{"$f":"RANK(AL28,($N$10:$AM$10,$N$19:$AM$19,$N$28:$AM$28, $N$37:$AM$37),1)","v":1},{"$f":"RANK(AM28,($N$10:$AM$10,$N$19:$AM$19,$N$28:$AM$28, $N$37:$AM$37),1)","v":1}]
[{"$error":"#REF!"},27,249,"19:42",{"$f":"+VLOOKUP($C30,#REF!,2,\"false\")","v":{"$error":"#REF!"}},{"$f":"+VLOOKUP($C30,#REF!,3,\"false\")","v":{"$error":"#REF!"}},{"$f":"+VLOOKUP($C30,#REF!,4,\"false\")","v":{"$error":"#REF!"}},{"$f":"+VLOOKUP($C30,#REF!,5,\"false\")","v":{"$error":"#REF!"}},{"$f":"+VLOOKUP($C30,#REF!,6,\"false\")","v":{"$error":"#REF!"}},{"$error":"#REF!"},{"$error":"#REF!"}]
[{"$error":"#REF!"},28,209,"19:48",{"$f":"+VLOOKUP($C31,#REF!,2,\"false\")","v":{"$error":"#REF!"}},{"$f":"+VLOOKUP($C31,#REF!,3,\"false\")","v":{"$error":"#REF!"}},{"$f":"+VLOOKUP($C31,#REF!,4,\"false\")","v":{"$error":"#REF!"}},{"$f":"+VLOOKUP($C31,#REF!,5,\"false\")","v":{"$error":"#REF!"}},{"$f":"+VLOOKUP($C31,#REF!,6,\"false\")","v":{"$error":"#REF!"}},{"$error":"#REF!"},{"$error":"#REF!"},null,10,{"$f":"+IF(ISNA(VLOOKUP(N$3&\"  \"&$M31,$A$3:$I$100,2,0)),\"\",VLOOKUP(N$3&\"  \"&$M31,$A$3:$I$100,2,0))","v":""},"","","","","","","","","",{"$f":"+IF(ISNA(VLOOKUP(X$3&\"  \"&$M31,$A$3:$I$100,2,0)),\"\",VLOOKUP(X$3&\"  \"&$M31,$A$3:$I$100,2,0))","v":""},"","","","","","","","","",{"$f":"+IF(ISNA(VLOOKUP(AH$3&\"  \"&$M31,$A$3:$I$100,2,0)),\"\",VLOOKUP(AH$3&\"  \"&$M31,$A$3:$I$100,2,0))","v":""},"","","","",""]
[{"$error":"#REF!"},29,205,"19:51",{"$f":"+VLOOKUP($C32,#REF!,2,\"false\")","v":{"$error":"#REF!"}},{"$f":"+VLOOKUP($C32,#REF!,3,\"false\")","v":{"$error":"#REF!"}},{"$f":"+VLOOKUP($C32,#REF!,4,\"false\")","v":{"$error":"#REF!"}},{"$f":"+VLOOKUP($C32,#REF!,5,\"false\")","v":{"$error":"#REF!"}},{"$f":"+VLOOKUP($C32,#REF!,6,\"false\")","v":{"$error":"#REF!"}},{"$error":"#REF!"},{"$error":"#REF!"},null,11,"","","","","","","","","","","","","","","","","","","","","","","","","",""]
[{"$f":"+K33","v":{"$error":"#REF!"}},30,225,"20:08",{"$f":"+VLOOKUP($C33,#REF!,2,\"false\")","v":{"$error":"#REF!"}},{"$f":"+VLOOKUP($C33,#REF!,3,\"false\")","v":{"$error":"#REF!"}},{"$f":"+VLOOKUP($C33,#REF!,4,\"false\")","v":{"$error":"#REF!"}},{"$f":"+VLOOKUP($C33,#REF!,5,\"false\")","v":{"$error":"#REF!"}},{"$f":"+VLOOKUP($C33,#REF!,6,\"false\")","v":{"$error":"#REF!"}},{"$error":"#REF!"},{"$f":"+G33&\"  \"&J33","v":{"$error":"#REF!"}},null,12,"","","","","","","","","","","","","","","","","","","","","","","","","",""]
[{"$error":"#REF!"},31,235,"20:12",{"$f":"+VLOOKUP($C34,#REF!,2,\"false\")","v":{"$error":"#REF!"}},{"$f":"+VLOOKUP($C34,#REF!,3,\"false\")","v":{"$error":"#REF!"}},{"$f":"+VLOOKUP($C34,#REF!,4,\"false\")","v":{"$error":"#REF!"}},{"$f":"+VLOOKUP($C34,#REF!,5,\"false\")","v":{"$error":"#REF!"}},{"$f":"+VLOOKUP($C34,#REF!,6,\"false\")","v":{"$error":"#REF!"}},{"$error":"#REF!"},{"$error":"#REF!"},null,null,"","","","","","","","","","","","","","","","","","","","","","","","","",""]
[{"$error":"#REF!"},32,244,"20:12",{"$f":"+VLOOKUP($C35,#REF!,2,\"false\")","v":{"$error":"#REF!"}},{"$f":"+VLOOKUP($C35,#REF!,3,\"false\")","v":{"$error":"#REF!"}},{"$f":"+VLOOKUP($C35,#REF!,4,\"false\")","v":{"$error":"#REF!"}},{"$f":"+VLOOKUP($C35,#REF!,5,\"false\")","v":{"$error":"#REF!"}},{"$f":"+VLOOKUP($C35,#REF!,6,\"false\")","v":{"$error":"#REF!"}},{"$error":"#REF!"},{"$error":"#REF!"},null,null,"","","","","","","","","","","","","","","","","","","","","","","","","",""]
[{"$error":"#REF!"},33,219,"20:16",{"$f":"+VLOOKUP($C36,#REF!,2,\"false\")","v":{"$error":"#REF!"}},{"$f":"+VLOOKUP($C36,#REF!,3,\"false\")","v":{"$error":"#REF!"}},{"$f":"+VLOOKUP($C36,#REF!,4,\"false\")","v":{"$error":"#REF!"}},{"$f":"+VLOOKUP($C36,#REF!,5,\"false\")","v":{"$error":"#REF!"}},{"$f":"+VLOOKUP($C36,#REF!,6,\"false\")","v":{"$error":"#REF!"}},{"$error":"#REF!"},{"$error":"#REF!"},null,null,"","","","","","","","","","","","","","","","","","","","","","","","","",""]
[{"$error":"#REF!"},34,221,"20:26",{"$f":"+VLOOKUP($C37,#REF!,2,\"false\")","v":{"$error":"#REF!"}},{"$f":"+VLOOKUP($C37,#REF!,3,\"false\")","v":{"$error":"#REF!"}},{"$f":"+VLOOKUP($C37,#REF!,4,\"false\")","v":{"$error":"#REF!"}},{"$f":"+VLOOKUP($C37,#REF!,5,\"false\")","v":{"$error":"#REF!"}},{"$f":"+VLOOKUP($C37,#REF!,6,\"false\")","v":{"$error":"#REF!"}},{"$error":"#REF!"},{"$error":"#REF!"},null,"Tot",{"$f":"IF(N33=\"\",1000,SUM(N31:N33))","v":1000},{"$f":"IF(O33=\"\",1000,SUM(O31:O33))","v":1000},1000,1000,1000,1000,1000,1000,1000,1000,1000,1000,1000,1000,1000,1000,1000,1000,1000,1000,1000,1000,1000,1000,1000,1000]
[{"$error":"#REF!"},35,238,"20:35",{"$f":"+VLOOKUP($C38,#REF!,2,\"false\")","v":{"$error":"#REF!"}},{"$f":"+VLOOKUP($C38,#REF!,3,\"false\")","v":{"$error":"#REF!"}},{"$f":"+VLOOKUP($C38,#REF!,4,\"false\")","v":{"$error":"#REF!"}},{"$f":"+VLOOKUP($C38,#REF!,5,\"false\")","v":{"$error":"#REF!"}},{"$f":"+VLOOKUP($C38,#REF!,6,\"false\")","v":{"$error":"#REF!"}},{"$error":"#REF!"},{"$error":"#REF!"},null,"Pos",{"$f":"RANK(N37,($N$10:$AM$10,$N$19:$AM$19,$N$28:$AM$28, $N$37:$AM$37),1)","v":1},{"$f":"RANK(O37,($N$10:$AM$10,$N$19:$AM$19,$N$28:$AM$28, $N$37:$AM$37),1)","v":1},{"$f":"RANK(P37,($N$10:$AM$10,$N$19:$AM$19,$N$28:$AM$28, $N$37:$AM$37),1)","v":1},{"$f":"RANK(Q37,($N$10:$AM$10,$N$19:$AM$19,$N$28:$AM$28, $N$37:$AM$37),1)","v":1},{"$f":"RANK(R37,($N$10:$AM$10,$N$19:$AM$19,$N$28:$AM$28, $N$37:$AM$37),1)","v":1},{"$f":"RANK(S37,($N$10:$AM$10,$N$19:$AM$19,$N$28:$AM$28, $N$37:$AM$37),1)","v":1},{"$f":"RANK(T37,($N$10:$AM$10,$N$19:$AM$19,$N$28:$AM$28, $N$37:$AM$37),1)","v":1},{"$f":"RANK(U37,($N$10:$AM$10,$N$19:$AM$19,$N$28:$AM$28, $N$37:$AM$37),1)","v":1},{"$f":"RANK(V37,($N$10:$AM$10,$N$19:$AM$19,$N$28:$AM$28, $N$37:$AM$37),1)","v":1},{"$f":"RANK(W37,($N$10:$AM$10,$N$19:$AM$19,$N$28:$AM$28, $N$37:$AM$37),1)","v":1},{"$f":"RANK(X37,($N$10:$AM$10,$N$19:$AM$19,$N$28:$AM$28, $N$37:$AM$37),1)","v":1},{"$f":"RANK(Y37,($N$10:$AM$10,$N$19:$AM$19,$N$28:$AM$28, $N$37:$AM$37),1)","v":1},{"$f":"RANK(Z37,($N$10:$AM$10,$N$19:$AM$19,$N$28:$AM$28, $N$37:$AM$37),1)","v":1},{"$f":"RANK(AA37,($N$10:$AM$10,$N$19:$AM$19,$N$28:$AM$28, $N$37:$AM$37),1)","v":1},{"$f":"RANK(AB37,($N$10:$AM$10,$N$19:$AM$19,$N$28:$AM$28, $N$37:$AM$37),1)","v":1},{"$f":"RANK(AC37,($N$10:$AM$10,$N$19:$AM$19,$N$28:$AM$28, $N$37:$AM$37),1)","v":1},{"$f":"RANK(AD37,($N$10:$AM$10,$N$19:$AM$19,$N$28:$AM$28, $N$37:$AM$37),1)","v":1},{"$f":"RANK(AE37,($N$10:$AM$10,$N$19:$AM$19,$N$28:$AM$28, $N$37:$AM$37),1)","v":1},{"$f":"RANK(AF37,($N$10:$AM$10,$N$19:$AM$19,$N$28:$AM$28, $N$37:$AM$37),1)","v":1},{"$f":"RANK(AG37,($N$10:$AM$10,$N$19:$AM$19,$N$28:$AM$28, $N$37:$AM$37),1)","v":1},{"$f":"RANK(AH37,($N$10:$AM$10,$N$19:$AM$19,$N$28:$AM$28, $N$37:$AM$37),1)","v":1},{"$f":"RANK(AI37,($N$10:$AM$10,$N$19:$AM$19,$N$28:$AM$28, $N$37:$AM$37),1)","v":1},{"$f":"RANK(AJ37,($N$10:$AM$10,$N$19:$AM$19,$N$28:$AM$28, $N$37:$AM$37),1)","v":1},{"$f":"RANK(AK37,($N$10:$AM$10,$N$19:$AM$19,$N$28:$AM$28, $N$37:$AM$37),1)","v":1},{"$f":"RANK(AL37,($N$10:$AM$10,$N$19:$AM$19,$N$28:$AM$28, $N$37:$AM$37),1)","v":1},{"$f":"RANK(AM37,($N$10:$AM$10,$N$19:$AM$19,$N$28:$AM$28, $N$37:$AM$37),1)","v":1}]
[{"$f":"+K39","v":{"$error":"#REF!"}},36,234,"20:45",{"$f":"+VLOOKUP($C39,#REF!,2,\"false\")","v":{"$error":"#REF!"}},{"$f":"+VLOOKUP($C39,#REF!,3,\"false\")","v":{"$error":"#REF!"}},{"$f":"+VLOOKUP($C39,#REF!,4,\"false\")","v":{"$error":"#REF!"}},{"$f":"+VLOOKUP($C39,#REF!,5,\"false\")","v":{"$error":"#REF!"}},{"$f":"+VLOOKUP($C39,#REF!,6,\"false\")","v":{"$error":"#REF!"}},{"$error":"#REF!"},{"$f":"+G39&\"  \"&J39","v":{"$error":"#REF!"}}]
[{"$f":"+K40","v":{"$error":"#REF!"}},37,248,"21:00",{"$f":"+VLOOKUP($C40,#REF!,2,\"false\")","v":{"$error":"#REF!"}},{"$f":"+VLOOKUP($C40,#REF!,3,\"false\")","v":{"$error":"#REF!"}},{"$f":"+VLOOKUP($C40,#REF!,4,\"false\")","v":{"$error":"#REF!"}},{"$f":"+VLOOKUP($C40,#REF!,5,\"false\")","v":{"$error":"#REF!"}},{"$f":"+VLOOKUP($C40,#REF!,6,\"false\")","v":{"$error":"#REF!"}},{"$error":"#REF!"},{"$f":"+G40&\"  \"&J40","v":{"$error":"#REF!"}}]
[{"$f":"+K41","v":{"$error":"#REF!"}},38,246,"21:17",{"$f":"+VLOOKUP($C41,#REF!,2,\"false\")","v":{"$error":"#REF!"}},{"$f":"+VLOOKUP($C41,#REF!,3,\"false\")","v":{"$error":"#REF!"}},{"$f":"+VLOOKUP($C41,#REF!,4,\"false\")","v":{"$error":"#REF!"}},{"$f":"+VLOOKUP($C41,#REF!,5,\"false\")","v":{"$error":"#REF!"}},{"$f":"+VLOOKUP($C41,#REF!,6,\"false\")","v":{"$error":"#REF!"}},{"$error":"#REF!"},{"$f":"+G41&\"  \"&J41","v":{"$error":"#REF!"}}]
{"$rows_empty":56}
[null,"Pos","Bib","Time"]
[null,1,521,"16:25"]
[null,{"$f":"+B99+1","v":2},217,"16:32",{"$nulls":9},"EBR"]
[null,{"$f":"+B100+1","v":3},212,"16:33",{"$nulls":9},"LEW"]
[null,4,201,"16:37",{"$nulls":9},"CHI"]
[null,5,214,"16:52",{"$nulls":9},"CRA"]
[null,6,245,"16:57",{"$nulls":9},"SYN"]
[null,7,237,"17:00",{"$nulls":9},"WDH"]
[null,8,218,"17:06",{"$nulls":9},"B&H"]
[null,9,232,"17:24",{"$nulls":9},"BWK"]
[null,10,207,"17:31",{"$nulls":9},"PHX"]
[null,11,220,"17:52",{"$nulls":9},"HY"]
[null,12,227,"17:55",{"$nulls":9},"HBS"]
[null,13,222,"18:06",{"$nulls":9},"HAS"]
[null,14,211,"18:09"]
[null,15,224,"18:15"]
[null,16,241,"18:22"]
[null,17,223,"18:38"]
[null,18,230,"18:44"]
[null,19,240,"18:48"]
[null,20,239,"19:01"]
[null,21,210,"19:06"]
[null,22,213,"19:16"]
[null,23,204,"19:19"]
[null,24,206,"19:24"]
[null,25,231,"19:33"]
[null,26,247,"19:35"]
[null,27,249,"19:42"]
[null,28,209,"19:48"]
[null,29,205,"19:51"]
[null,30,225,"20:08"]
[null,31,235,"20:12"]
[null,32,244,"20:12"]
[null,33,219,"20:16"]
[null,34,221,"20:26"]
[null,35,238,"20:35"]
[null,36,234,"20:45"]
[null,37,248,"21:00"]
[null,38,246,"21:17"]
[null,39]
[null,40]
[null,41]
[null,42]
[null,43]
[null,44]
[null,45]
[null,46]
[null,47]
[null,48]
[null,49]
[null,50]
[null,51]
[null,52]
[null,53]
[null,54]
[null,55]
[null,56]
[null,57]
[null,58]
[null,59]
[null,60]
[null,61]
[null,62]
[null,63]
[null,64]
[null,65]
[null,66]
[null,{"$f":"+B164+1","v":67}]
[null,68]
[null,69]
[null,70]
[null,71]
[null,72]
[null,73]
[null,74]
[null,75]
[null,76]
[null,77]
[null,78]
[null,79]
[null,80]
[null,81]
[null,82]
[null,83]
[null,84]
[null,85]
[null,86]
[null,87]
[null,88]
[null,89]
[null,90]
[null,91]
[null,92]
[null,93]
[null,94]
[null,95]
[null,96]
[null,97]
[null,98]
[null,99]
[null,100]

{"sheet":"U15B","index":5,"n_rows":207,"n_cols":39,"rows_kept":207,"hidden":true,"merged":[[0,1,0,6],[1,1,1,6]]}
[null,"Sussex Athletics XC Championships\nBexhill, 07/01/2023",{"$nulls":11},"26 clubs - cols N to AM"]
[null,"U15 Boys"]
["Temp","Pos","Bib","Time","Forename","Surname","Club","Cat ","Sex","Rk","Club Rk",null,null,"B&H","BWK","EBR","HHH","HBS","PHX","CHI","LEW","CRA","WDH","HY"]
[{"$f":"+K4","v":{"$error":"#REF!"}},1,192,"14:01",{"$f":"+VLOOKUP($C4,#REF!,2,\"false\")","v":{"$error":"#REF!"}},{"$f":"+VLOOKUP($C4,#REF!,3,\"false\")","v":{"$error":"#REF!"}},{"$f":"+VLOOKUP($C4,#REF!,4,\"false\")","v":{"$error":"#REF!"}},{"$f":"+VLOOKUP($C4,#REF!,5,\"false\")","v":{"$error":"#REF!"}},{"$f":"+VLOOKUP($C4,#REF!,6,\"false\")","v":{"$error":"#REF!"}},{"$f":"TEXT(SUMPRODUCT(--(G4=$G$4:$G$597),--(B4>$B$4:$B$597))+1,0)","v":{"$error":"#REF!"}},{"$f":"+G4&\"  \"&J4","v":{"$error":"#REF!"}},null,1,{"$f":"+IF(ISNA(VLOOKUP(N$3&\"  \"&$M4,$A$3:$I$109,2,0)),\"\",VLOOKUP(N$3&\"  \"&$M4,$A$3:$I$109,2,0))","v":""},"","","","","","","","","",{"$f":"+IF(ISNA(VLOOKUP(X$3&\"  \"&$M4,$A$3:$I$109,2,0)),\"\",VLOOKUP(X$3&\"  \"&$M4,$A$3:$I$109,2,0))","v":""},"","","","","","","","","",{"$f":"+IF(ISNA(VLOOKUP(AH$3&\"  \"&$M4,$A$3:$I$109,2,0)),\"\",VLOOKUP(AH$3&\"  \"&$M4,$A$3:$I$109,2,0))","v":""},"","","","",""]
[{"$f":"+K5","v":{"$error":"#REF!"}},{"$f":"+B4+1","v":2},176,"14:40",{"$f":"+VLOOKUP($C5,#REF!,2,\"false\")","v":{"$error":"#REF!"}},{"$f":"+VLOOKUP($C5,#REF!,3,\"false\")","v":{"$error":"#REF!"}},{"$f":"+VLOOKUP($C5,#REF!,4,\"false\")","v":{"$error":"#REF!"}},{"$f":"+VLOOKUP($C5,#REF!,5,\"false\")","v":{"$error":"#REF!"}},{"$f":"+VLOOKUP($C5,#REF!,6,\"false\")","v":{"$error":"#REF!"}},{"$error":"#REF!"},{"$f":"+G5&\"  \"&J5","v":{"$error":"#REF!"}},null,2,"","","","","","","","","","","","","","","","","","","","","","","","","",""]
[{"$error":"#REF!"},{"$f":"+B5+1","v":3},180,"14:44",{"$f":"+VLOOKUP($C6,#REF!,2,\"false\")","v":{"$error":"#REF!"}},{"$f":"+VLOOKUP($C6,#REF!,3,\"false\")","v":{"$error":"#REF!"}},{"$f":"+VLOOKUP($C6,#REF!,4,\"false\")","v":{"$error":"#REF!"}},{"$f":"+VLOOKUP($C6,#REF!,5,\"false\")","v":{"$error":"#REF!"}},{"$f":"+VLOOKUP($C6,#REF!,6,\"false\")","v":{"$error":"#REF!"}},{"$error":"#REF!"},{"$error":"#REF!"},null,3,"","","","","","","","","","","","","","","","","","","","","","","","","",""]
[{"$error":"#REF!"},4,186,"14:47",{"$f":"+VLOOKUP($C7,#REF!,2,\"false\")","v":{"$error":"#REF!"}},{"$f":"+VLOOKUP($C7,#REF!,3,\"false\")","v":{"$error":"#REF!"}},{"$f":"+VLOOKUP($C7,#REF!,4,\"false\")","v":{"$error":"#REF!"}},{"$f":"+VLOOKUP($C7,#REF!,5,\"false\")","v":{"$error":"#REF!"}},{"$f":"+VLOOKUP($C7,#REF!,6,\"false\")","v":{"$error":"#REF!"}},{"$error":"#REF!"},{"$error":"#REF!"},null,null,"","","","","","","","","","","","","","","","","","","","","","","","","",""]
[{"$error":"#REF!"},5,172,"15:02",{"$f":"+VLOOKUP($C8,#REF!,2,\"false\")","v":{"$error":"#REF!"}},{"$f":"+VLOOKUP($C8,#REF!,3,\"false\")","v":{"$error":"#REF!"}},{"$f":"+VLOOKUP($C8,#REF!,4,\"false\")","v":{"$error":"#REF!"}},{"$f":"+VLOOKUP($C8,#REF!,5,\"false\")","v":{"$error":"#REF!"}},{"$f":"+VLOOKUP($C8,#REF!,6,\"false\")","v":{"$error":"#REF!"}},{"$error":"#REF!"},{"$error":"#REF!"},null,null,"","","","","","","","","","","","","","","","","","","","","","","","","",""]
[{"$error":"#REF!"},6,177,"15:08",{"$f":"+VLOOKUP($C9,#REF!,2,\"false\")","v":{"$error":"#REF!"}},{"$f":"+VLOOKUP($C9,#REF!,3,\"false\")","v":{"$error":"#REF!"}},{"$f":"+VLOOKUP($C9,#REF!,4,\"false\")","v":{"$error":"#REF!"}},{"$f":"+VLOOKUP($C9,#REF!,5,\"false\")","v":{"$error":"#REF!"}},{"$f":"+VLOOKUP($C9,#REF!,6,\"false\")","v":{"$error":"#REF!"}},{"$error":"#REF!"},{"$error":"#REF!"},null,null,"","","","","","","","","","","","","","","","","","","","","","","","","",""]
[{"$error":"#REF!"},7,163,"15:12",{"$f":"+VLOOKUP($C10,#REF!,2,\"false\")","v":{"$error":"#REF!"}},{"$f":"+VLOOKUP($C10,#REF!,3,\"false\")","v":{"$error":"#REF!"}},{"$f":"+VLOOKUP($C10,#REF!,4,\"false\")","v":{"$error":"#REF!"}},{"$f":"+VLOOKUP($C10,#REF!,5,\"false\")","v":{"$error":"#REF!"}},{"$f":"+VLOOKUP($C10,#REF!,6,\"false\")","v":{"$error":"#REF!"}},{"$error":"#REF!"},{"$error":"#REF!"},null,"Tot",{"$f":"IF(N6=\"\",1000,SUM(N4:N6))","v":1000},{"$f":"IF(O6=\"\",1000,SUM(O4:O6))","v":1000},1000,1000,1000,1000,1000,1000,1000,1000,1000,1000,1000,1000,1000,1000,1000,1000,1000,1000,1000,1000,1000,1000,1000,1000]
[{"$error":"#REF!"},8,170,"15:48",{"$f":"+VLOOKUP($C11,#REF!,2,\"false\")","v":{"$error":"#REF!"}},{"$f":"+VLOOKUP($C11,#REF!,3,\"false\")","v":{"$error":"#REF!"}},{"$f":"+VLOOKUP($C11,#REF!,4,\"false\")","v":{"$error":"#REF!"}},{"$f":"+VLOOKUP($C11,#REF!,5,\"false\")","v":{"$error":"#REF!"}},{"$f":"+VLOOKUP($C11,#REF!,6,\"false\")","v":{"$error":"#REF!"}},{"$error":"#REF!"},{"$error":"#REF!"},null,"Pos",{"$f":"RANK(N10,($N$10:$AM$10,$N$19:$AM$19,$N$28:$AM$28, $N$37:$AM$37),1)","v":1},{"$f":"RANK(O10,($N$10:$AM$10,$N$19:$AM$19,$N$28:$AM$28, $N$37:$AM$37),1)","v":1},{"$f":"RANK(P10,($N$10:$AM$10,$N$19:$AM$19,$N$28:$AM$28, $N$37:$AM$37),1)","v":1},{"$f":"RANK(Q10,($N$10:$AM$10,$N$19:$AM$19,$N$28:$AM$28, $N$37:$AM$37),1)","v":1},{"$f":"RANK(R10,($N$10:$AM$10,$N$19:$AM$19,$N$28:$AM$28, $N$37:$AM$37),1)","v":1},{"$f":"RANK(S10,($N$10:$AM$10,$N$19:$AM$19,$N$28:$AM$28, $N$37:$AM$37),1)","v":1},{"$f":"RANK(T10,($N$10:$AM$10,$N$19:$AM$19,$N$28:$AM$28, $N$37:$AM$37),1)","v":1},{"$f":"RANK(U10,($N$10:$AM$10,$N$19:$AM$19,$N$28:$AM$28, $N$37:$AM$37),1)","v":1},{"$f":"RANK(V10,($N$10:$AM$10,$N$19:$AM$19,$N$28:$AM$28, $N$37:$AM$37),1)","v":1},{"$f":"RANK(W10,($N$10:$AM$10,$N$19:$AM$19,$N$28:$AM$28, $N$37:$AM$37),1)","v":1},{"$f":"RANK(X10,($N$10:$AM$10,$N$19:$AM$19,$N$28:$AM$28, $N$37:$AM$37),1)","v":1},{"$f":"RANK(Y10,($N$10:$AM$10,$N$19:$AM$19,$N$28:$AM$28, $N$37:$AM$37),1)","v":1},{"$f":"RANK(Z10,($N$10:$AM$10,$N$19:$AM$19,$N$28:$AM$28, $N$37:$AM$37),1)","v":1},{"$f":"RANK(AA10,($N$10:$AM$10,$N$19:$AM$19,$N$28:$AM$28, $N$37:$AM$37),1)","v":1},{"$f":"RANK(AB10,($N$10:$AM$10,$N$19:$AM$19,$N$28:$AM$28, $N$37:$AM$37),1)","v":1},{"$f":"RANK(AC10,($N$10:$AM$10,$N$19:$AM$19,$N$28:$AM$28, $N$37:$AM$37),1)","v":1},{"$f":"RANK(AD10,($N$10:$AM$10,$N$19:$AM$19,$N$28:$AM$28, $N$37:$AM$37),1)","v":1},{"$f":"RANK(AE10,($N$10:$AM$10,$N$19:$AM$19,$N$28:$AM$28, $N$37:$AM$37),1)","v":1},{"$f":"RANK(AF10,($N$10:$AM$10,$N$19:$AM$19,$N$28:$AM$28, $N$37:$AM$37),1)","v":1},{"$f":"RANK(AG10,($N$10:$AM$10,$N$19:$AM$19,$N$28:$AM$28, $N$37:$AM$37),1)","v":1},{"$f":"RANK(AH10,($N$10:$AM$10,$N$19:$AM$19,$N$28:$AM$28, $N$37:$AM$37),1)","v":1},{"$f":"RANK(AI10,($N$10:$AM$10,$N$19:$AM$19,$N$28:$AM$28, $N$37:$AM$37),1)","v":1},{"$f":"RANK(AJ10,($N$10:$AM$10,$N$19:$AM$19,$N$28:$AM$28, $N$37:$AM$37),1)","v":1},{"$f":"RANK(AK10,($N$10:$AM$10,$N$19:$AM$19,$N$28:$AM$28, $N$37:$AM$37),1)","v":1},{"$f":"RANK(AL10,($N$10:$AM$10,$N$19:$AM$19,$N$28:$AM$28, $N$37:$AM$37),1)","v":1},{"$f":"RANK(AM10,($N$10:$AM$10,$N$19:$AM$19,$N$28:$AM$28, $N$37:$AM$37),1)","v":1}]
[{"$error":"#REF!"},9,187,"15:54",{"$f":"+VLOOKUP($C12,#REF!,2,\"false\")","v":{"$error":"#REF!"}},{"$f":"+VLOOKUP($C12,#REF!,3,\"false\")","v":{"$error":"#REF!"}},{"$f":"+VLOOKUP($C12,#REF!,4,\"false\")","v":{"$error":"#REF!"}},{"$f":"+VLOOKUP($C12,#REF!,5,\"false\")","v":{"$error":"#REF!"}},{"$f":"+VLOOKUP($C12,#REF!,6,\"false\")","v":{"$error":"#REF!"}},{"$error":"#REF!"},{"$error":"#REF!"}]
[{"$error":"#REF!"},10,164,"15:58",{"$f":"+VLOOKUP($C13,#REF!,2,\"false\")","v":{"$error":"#REF!"}},{"$f":"+VLOOKUP($C13,#REF!,3,\"false\")","v":{"$error":"#REF!"}},{"$f":"+VLOOKUP($C13,#REF!,4,\"false\")","v":{"$error":"#REF!"}},{"$f":"+VLOOKUP($C13,#REF!,5,\"false\")","v":{"$error":"#REF!"}},{"$f":"+VLOOKUP($C13,#REF!,6,\"false\")","v":{"$error":"#REF!"}},{"$error":"#REF!"},{"$error":"#REF!"},null,4,{"$f":"+IF(ISNA(VLOOKUP(N$3&\"  \"&$M13,$A$3:$I$109,2,0)),\"\",VLOOKUP(N$3&\"  \"&$M13,$A$3:$I$109,2,0))","v":""},"","","","","","","","","",{"$f":"+IF(ISNA(VLOOKUP(X$3&\"  \"&$M13,$A$3:$I$109,2,0)),\"\",VLOOKUP(X$3&\"  \"&$M13,$A$3:$I$109,2,0))","v":""},"","","","","","","","","",{"$f":"+IF(ISNA(VLOOKUP(AH$3&\"  \"&$M13,$A$3:$I$109,2,0)),\"\",VLOOKUP(AH$3&\"  \"&$M13,$A$3:$I$109,2,0))","v":""},"","","","",""]
[{"$error":"#REF!"},11,181,"15:59",{"$f":"+VLOOKUP($C14,#REF!,2,\"false\")","v":{"$error":"#REF!"}},{"$f":"+VLOOKUP($C14,#REF!,3,\"false\")","v":{"$error":"#REF!"}},{"$f":"+VLOOKUP($C14,#REF!,4,\"false\")","v":{"$error":"#REF!"}},{"$f":"+VLOOKUP($C14,#REF!,5,\"false\")","v":{"$error":"#REF!"}},{"$f":"+VLOOKUP($C14,#REF!,6,\"false\")","v":{"$error":"#REF!"}},{"$error":"#REF!"},{"$error":"#REF!"},null,5,"","","","","","","","","","","","","","","","","","","","","","","","","",""]
[{"$error":"#REF!"},12,191,"16:00",{"$f":"+VLOOKUP($C15,#REF!,2,\"false\")","v":{"$error":"#REF!"}},{"$f":"+VLOOKUP($C15,#REF!,3,\"false\")","v":{"$error":"#REF!"}},{"$f":"+VLOOKUP($C15,#REF!,4,\"false\")","v":{"$error":"#REF!"}},{"$f":"+VLOOKUP($C15,#REF!,5,\"false\")","v":{"$error":"#REF!"}},{"$f":"+VLOOKUP($C15,#REF!,6,\"false\")","v":{"$error":"#REF!"}},{"$error":"#REF!"},{"$error":"#REF!"},null,6,"","","","","","","","","","","","","","","","","","","","","","","","","",""]
[{"$error":"#REF!"},13,178,"16:04",{"$f":"+VLOOKUP($C16,#REF!,2,\"false\")","v":{"$error":"#REF!"}},{"$f":"+VLOOKUP($C16,#REF!,3,\"false\")","v":{"$error":"#REF!"}},{"$f":"+VLOOKUP($C16,#REF!,4,\"false\")","v":{"$error":"#REF!"}},{"$f":"+VLOOKUP($C16,#REF!,5,\"false\")","v":{"$error":"#REF!"}},{"$f":"+VLOOKUP($C16,#REF!,6,\"false\")","v":{"$error":"#REF!"}},{"$error":"#REF!"},{"$error":"#REF!"},null,null,"","","","","","","","","","","","","","","","","","","","","","","","","",""]
[{"$error":"#REF!"},14,196,"16:09",{"$f":"+VLOOKUP($C17,#REF!,2,\"false\")","v":{"$error":"#REF!"}},{"$f":"+VLOOKUP($C17,#REF!,3,\"false\")","v":{"$error":"#REF!"}},{"$f":"+VLOOKUP($C17,#REF!,4,\"false\")","v":{"$error":"#REF!"}},{"$f":"+VLOOKUP($C17,#REF!,5,\"false\")","v":{"$error":"#REF!"}},{"$f":"+VLOOKUP($C17,#REF!,6,\"false\")","v":{"$error":"#REF!"}},{"$error":"#REF!"},{"$error":"#REF!"},null,null,"","","","","","","","","","","","","","","","","","","","","","","","","",""]
[{"$error":"#REF!"},15,167,"16:16",{"$f":"+VLOOKUP($C18,#REF!,2,\"false\")","v":{"$error":"#REF!"}},{"$f":"+VLOOKUP($C18,#REF!,3,\"false\")","v":{"$error":"#REF!"}},{"$f":"+VLOOKUP($C18,#REF!,4,\"false\")","v":{"$error":"#REF!"}},{"$f":"+VLOOKUP($C18,#REF!,5,\"false\")","v":{"$error":"#REF!"}},{"$f":"+VLOOKUP($C18,#REF!,6,\"false\")","v":{"$error":"#REF!"}},{"$error":"#REF!"},{"$error":"#REF!"},null,null,"","","","","","","","","","","","","","","","","","","","","","","","","",""]
[{"$error":"#REF!"},16,182,"16:19",{"$f":"+VLOOKUP($C19,#REF!,2,\"false\")","v":{"$error":"#REF!"}},{"$f":"+VLOOKUP($C19,#REF!,3,\"false\")","v":{"$error":"#REF!"}},{"$f":"+VLOOKUP($C19,#REF!,4,\"false\")","v":{"$error":"#REF!"}},{"$f":"+VLOOKUP($C19,#REF!,5,\"false\")","v":{"$error":"#REF!"}},{"$f":"+VLOOKUP($C19,#REF!,6,\"false\")","v":{"$error":"#REF!"}},{"$error":"#REF!"},{"$error":"#REF!"},null,"Tot",{"$f":"IF(N15=\"\",1000,SUM(N13:N15))","v":1000},{"$f":"IF(O15=\"\",1000,SUM(O13:O15))","v":1000},1000,1000,1000,1000,1000,1000,1000,1000,1000,1000,1000,1000,1000,1000,1000,1000,1000,1000,1000,1000,1000,1000,1000,1000]
[{"$error":"#REF!"},17,168,"16:30",{"$f":"+VLOOKUP($C20,#REF!,2,\"false\")","v":{"$error":"#REF!"}},{"$f":"+VLOOKUP($C20,#REF!,3,\"false\")","v":{"$error":"#REF!"}},{"$f":"+VLOOKUP($C20,#REF!,4,\"false\")","v":{"$error":"#REF!"}},{"$f":"+VLOOKUP($C20,#REF!,5,\"false\")","v":{"$error":"#REF!"}},{"$f":"+VLOOKUP($C20,#REF!,6,\"false\")","v":{"$error":"#REF!"}},{"$error":"#REF!"},{"$error":"#REF!"},null,"Pos",{"$f":"RANK(N19,($N$10:$AM$10,$N$19:$AM$19,$N$28:$AM$28, $N$37:$AM$37),1)","v":1},{"$f":"RANK(O19,($N$10:$AM$10,$N$19:$AM$19,$N$28:$AM$28, $N$37:$AM$37),1)","v":1},{"$f":"RANK(P19,($N$10:$AM$10,$N$19:$AM$19,$N$28:$AM$28, $N$37:$AM$37),1)","v":1},{"$f":"RANK(Q19,($N$10:$AM$10,$N$19:$AM$19,$N$28:$AM$28, $N$37:$AM$37),1)","v":1},{"$f":"RANK(R19,($N$10:$AM$10,$N$19:$AM$19,$N$28:$AM$28, $N$37:$AM$37),1)","v":1},{"$f":"RANK(S19,($N$10:$AM$10,$N$19:$AM$19,$N$28:$AM$28, $N$37:$AM$37),1)","v":1},{"$f":"RANK(T19,($N$10:$AM$10,$N$19:$AM$19,$N$28:$AM$28, $N$37:$AM$37),1)","v":1},{"$f":"RANK(U19,($N$10:$AM$10,$N$19:$AM$19,$N$28:$AM$28, $N$37:$AM$37),1)","v":1},{"$f":"RANK(V19,($N$10:$AM$10,$N$19:$AM$19,$N$28:$AM$28, $N$37:$AM$37),1)","v":1},{"$f":"RANK(W19,($N$10:$AM$10,$N$19:$AM$19,$N$28:$AM$28, $N$37:$AM$37),1)","v":1},{"$f":"RANK(X19,($N$10:$AM$10,$N$19:$AM$19,$N$28:$AM$28, $N$37:$AM$37),1)","v":1},{"$f":"RANK(Y19,($N$10:$AM$10,$N$19:$AM$19,$N$28:$AM$28, $N$37:$AM$37),1)","v":1},{"$f":"RANK(Z19,($N$10:$AM$10,$N$19:$AM$19,$N$28:$AM$28, $N$37:$AM$37),1)","v":1},{"$f":"RANK(AA19,($N$10:$AM$10,$N$19:$AM$19,$N$28:$AM$28, $N$37:$AM$37),1)","v":1},{"$f":"RANK(AB19,($N$10:$AM$10,$N$19:$AM$19,$N$28:$AM$28, $N$37:$AM$37),1)","v":1},{"$f":"RANK(AC19,($N$10:$AM$10,$N$19:$AM$19,$N$28:$AM$28, $N$37:$AM$37),1)","v":1},{"$f":"RANK(AD19,($N$10:$AM$10,$N$19:$AM$19,$N$28:$AM$28, $N$37:$AM$37),1)","v":1},{"$f":"RANK(AE19,($N$10:$AM$10,$N$19:$AM$19,$N$28:$AM$28, $N$37:$AM$37),1)","v":1},{"$f":"RANK(AF19,($N$10:$AM$10,$N$19:$AM$19,$N$28:$AM$28, $N$37:$AM$37),1)","v":1},{"$f":"RANK(AG19,($N$10:$AM$10,$N$19:$AM$19,$N$28:$AM$28, $N$37:$AM$37),1)","v":1},{"$f":"RANK(AH19,($N$10:$AM$10,$N$19:$AM$19,$N$28:$AM$28, $N$37:$AM$37),1)","v":1},{"$f":"RANK(AI19,($N$10:$AM$10,$N$19:$AM$19,$N$28:$AM$28, $N$37:$AM$37),1)","v":1},{"$f":"RANK(AJ19,($N$10:$AM$10,$N$19:$AM$19,$N$28:$AM$28, $N$37:$AM$37),1)","v":1},{"$f":"RANK(AK19,($N$10:$AM$10,$N$19:$AM$19,$N$28:$AM$28, $N$37:$AM$37),1)","v":1},{"$f":"RANK(AL19,($N$10:$AM$10,$N$19:$AM$19,$N$28:$AM$28, $N$37:$AM$37),1)","v":1},{"$f":"RANK(AM19,($N$10:$AM$10,$N$19:$AM$19,$N$28:$AM$28, $N$37:$AM$37),1)","v":1}]
[{"$error":"#REF!"},18,171,"16:31",{"$f":"+VLOOKUP($C21,#REF!,2,\"false\")","v":{"$error":"#REF!"}},{"$f":"+VLOOKUP($C21,#REF!,3,\"false\")","v":{"$error":"#REF!"}},{"$f":"+VLOOKUP($C21,#REF!,4,\"false\")","v":{"$error":"#REF!"}},{"$f":"+VLOOKUP($C21,#REF!,5,\"false\")","v":{"$error":"#REF!"}},{"$f":"+VLOOKUP($C21,#REF!,6,\"false\")","v":{"$error":"#REF!"}},{"$error":"#REF!"},{"$f":"+G21&\"  \"&J21","v":{"$error":"#REF!"}}]
[{"$error":"#REF!"},19,197,"16:43",{"$f":"+VLOOKUP($C22,#REF!,2,\"false\")","v":{"$error":"#REF!"}},{"$f":"+VLOOKUP($C22,#REF!,3,\"false\")","v":{"$error":"#REF!"}},{"$f":"+VLOOKUP($C22,#REF!,4,\"false\")","v":{"$error":"#REF!"}},{"$f":"+VLOOKUP($C22,#REF!,5,\"false\")","v":{"$error":"#REF!"}},{"$f":"+VLOOKUP($C22,#REF!,6,\"false\")","v":{"$error":"#REF!"}},{"$error":"#REF!"},{"$error":"#REF!"},null,7,{"$f":"+IF(ISNA(VLOOKUP(N$3&\"  \"&$M22,$A$3:$I$109,2,0)),\"\",VLOOKUP(N$3&\"  \"&$M22,$A$3:$I$109,2,0))","v":""},"","","","","","","","","",{"$f":"+IF(ISNA(VLOOKUP(X$3&\"  \"&$M22,$A$3:$I$109,2,0)),\"\",VLOOKUP(X$3&\"  \"&$M22,$A$3:$I$109,2,0))","v":""},"","","","","","","","","",{"$f":"+IF(ISNA(VLOOKUP(AH$3&\"  \"&$M22,$A$3:$I$109,2,0)),\"\",VLOOKUP(AH$3&\"  \"&$M22,$A$3:$I$109,2,0))","v":""},"","","","",""]
[{"$error":"#REF!"},20,193,"16:45",{"$f":"+VLOOKUP($C23,#REF!,2,\"false\")","v":{"$error":"#REF!"}},{"$f":"+VLOOKUP($C23,#REF!,3,\"false\")","v":{"$error":"#REF!"}},{"$f":"+VLOOKUP($C23,#REF!,4,\"false\")","v":{"$error":"#REF!"}},{"$f":"+VLOOKUP($C23,#REF!,5,\"false\")","v":{"$error":"#REF!"}},{"$f":"+VLOOKUP($C23,#REF!,6,\"false\")","v":{"$error":"#REF!"}},{"$error":"#REF!"},{"$error":"#REF!"},null,8,"","","","","","","","","","","","","","","","","","","","","","","","","",""]
[{"$error":"#REF!"},21,165,"16:46",{"$f":"+VLOOKUP($C24,#REF!,2,\"false\")","v":{"$error":"#REF!"}},{"$f":"+VLOOKUP($C24,#REF!,3,\"false\")","v":{"$error":"#REF!"}},{"$f":"+VLOOKUP($C24,#REF!,4,\"false\")","v":{"$error":"#REF!"}},{"$f":"+VLOOKUP($C24,#REF!,5,\"false\")","v":{"$error":"#REF!"}},{"$f":"+VLOOKUP($C24,#REF!,6,\"false\")","v":{"$error":"#REF!"}},{"$error":"#REF!"},{"$error":"#REF!"},null,9,"","","","","","","","","","","","","","","","","","","","","","","","","",""]
[{"$error":"#REF!"},22,185,"16:52",{"$f":"+VLOOKUP($C25,#REF!,2,\"false\")","v":{"$error":"#REF!"}},{"$f":"+VLOOKUP($C25,#REF!,3,\"false\")","v":{"$error":"#REF!"}},{"$f":"+VLOOKUP($C25,#REF!,4,\"false\")","v":{"$error":"#REF!"}},{"$f":"+VLOOKUP($C25,#REF!,5,\"false\")","v":{"$error":"#REF!"}},{"$f":"+VLOOKUP($C25,#REF!,6,\"false\")","v":{"$error":"#REF!"}},{"$error":"#REF!"},{"$error":"#REF!"},null,null,"","","","","","","","","","","","","","","","","","","","","","","","","",""]
[{"$error":"#REF!"},23,195,"16:58",{"$f":"+VLOOKUP($C26,#REF!,2,\"false\")","v":{"$error":"#REF!"}},{"$f":"+VLOOKUP($C26,#REF!,3,\"false\")","v":{"$error":"#REF!"}},{"$f":"+VLOOKUP($C26,#REF!,4,\"false\")","v":{"$error":"#REF!"}},{"$f":"+VLOOKUP($C26,#REF!,5,\"false\")","v":{"$error":"#REF!"}},{"$f":"+VLOOKUP($C26,#REF!,6,\"false\")","v":{"$error":"#REF!"}},{"$error":"#REF!"},{"$error":"#REF!"},null,null,"","","","","","","","","","","","","","","","","","","","","","","","","",""]
[{"$error":"#REF!"},24,184,"16:59",{"$f":"+VLOOKUP($C27,#REF!,2,\"false\")","v":{"$error":"#REF!"}},{"$f":"+VLOOKUP($C27,#REF!,3,\"false\")","v":{"$error":"#REF!"}},{"$f":"+VLOOKUP($C27,#REF!,4,\"false\")","v":{"$error":"#REF!"}},{"$f":"+VLOOKUP($C27,#REF!,5,\"false\")","v":{"$error":"#REF!"}},{"$f":"+VLOOKUP($C27,#REF!,6,\"false\")","v":{"$error":"#REF!"}},{"$error":"#REF!"},{"$error":"#REF!"},null,null,"","","","","","","","","","","","","","","","","","","","","","","","","",""]
[{"$error":"#REF!"},25,200,"17:00",{"$f":"+VLOOKUP($C28,#REF!,2,\"false\")","v":{"$error":"#REF!"}},{"$f":"+VLOOKUP($C28,#REF!,3,\"false\")","v":{"$error":"#REF!"}},{"$f":"+VLOOKUP($C28,#REF!,4,\"false\")","v":{"$error":"#REF!"}},{"$f":"+VLOOKUP($C28,#REF!,5,\"false\")","v":{"$error":"#REF!"}},{"$f":"+VLOOKUP($C28,#REF!,6,\"false\")","v":{"$error":"#REF!"}},{"$error":"#REF!"},{"$error":"#REF!"},null,"Tot",{"$f":"IF(N24=\"\",1000,SUM(N22:N24))","v":1000},{"$f":"IF(O24=\"\",1000,SUM(O22:O24))","v":1000},1000,1000,1000,1000,1000,1000,1000,1000,1000,1000,1000,1000,1000,1000,1000,1000,1000,1000,1000,1000,1000,1000,1000,1000]
[{"$error":"#REF!"},26,190,"17:06",{"$f":"+VLOOKUP($C29,#REF!,2,\"false\")","v":{"$error":"#REF!"}},{"$f":"+VLOOKUP($C29,#REF!,3,\"false\")","v":{"$error":"#REF!"}},{"$f":"+VLOOKUP($C29,#REF!,4,\"false\")","v":{"$error":"#REF!"}},{"$f":"+VLOOKUP($C29,#REF!,5,\"false\")","v":{"$error":"#REF!"}},{"$f":"+VLOOKUP($C29,#REF!,6,\"false\")","v":{"$error":"#REF!"}},{"$error":"#REF!"},{"$error":"#REF!"},null,"Pos",{"$f":"RANK(N28,($N$10:$AM$10,$N$19:$AM$19,$N$28:$AM$28, $N$37:$AM$37),1)","v":1},{"$f":"RANK(O28,($N$10:$AM$10,$N$19:$AM$19,$N$28:$AM$28, $N$37:$AM$37),1)","v":1},{"$f":"RANK(P28,($N$10:$AM$10,$N$19:$AM$19,$N$28:$AM$28, $N$37:$AM$37),1)","v":1},{"$f":"RANK(Q28,($N$10:$AM$10,$N$19:$AM$19,$N$28:$AM$28, $N$37:$AM$37),1)","v":1},{"$f":"RANK(R28,($N$10:$AM$10,$N$19:$AM$19,$N$28:$AM$28, $N$37:$AM$37),1)","v":1},{"$f":"RANK(S28,($N$10:$AM$10,$N$19:$AM$19,$N$28:$AM$28, $N$37:$AM$37),1)","v":1},{"$f":"RANK(T28,($N$10:$AM$10,$N$19:$AM$19,$N$28:$AM$28, $N$37:$AM$37),1)","v":1},{"$f":"RANK(U28,($N$10:$AM$10,$N$19:$AM$19,$N$28:$AM$28, $N$37:$AM$37),1)","v":1},{"$f":"RANK(V28,($N$10:$AM$10,$N$19:$AM$19,$N$28:$AM$28, $N$37:$AM$37),1)","v":1},{"$f":"RANK(W28,($N$10:$AM$10,$N$19:$AM$19,$N$28:$AM$28, $N$37:$AM$37),1)","v":1},{"$f":"RANK(X28,($N$10:$AM$10,$N$19:$AM$19,$N$28:$AM$28, $N$37:$AM$37),1)","v":1},{"$f":"RANK(Y28,($N$10:$AM$10,$N$19:$AM$19,$N$28:$AM$28, $N$37:$AM$37),1)","v":1},{"$f":"RANK(Z28,($N$10:$AM$10,$N$19:$AM$19,$N$28:$AM$28, $N$37:$AM$37),1)","v":1},{"$f":"RANK(AA28,($N$10:$AM$10,$N$19:$AM$19,$N$28:$AM$28, $N$37:$AM$37),1)","v":1},{"$f":"RANK(AB28,($N$10:$AM$10,$N$19:$AM$19,$N$28:$AM$28, $N$37:$AM$37),1)","v":1},{"$f":"RANK(AC28,($N$10:$AM$10,$N$19:$AM$19,$N$28:$AM$28, $N$37:$AM$37),1)","v":1},{"$f":"RANK(AD28,($N$10:$AM$10,$N$19:$AM$19,$N$28:$AM$28, $N$37:$AM$37),1)","v":1},{"$f":"RANK(AE28,($N$10:$AM$10,$N$19:$AM$19,$N$28:$AM$28, $N$37:$AM$37),1)","v":1},{"$f":"RANK(AF28,($N$10:$AM$10,$N$19:$AM$19,$N$28:$AM$28, $N$37:$AM$37),1)","v":1},{"$f":"RANK(AG28,($N$10:$AM$10,$N$19:$AM$19,$N$28:$AM$28, $N$37:$AM$37),1)","v":1},{"$f":"RANK(AH28,($N$10:$AM$10,$N$19:$AM$19,$N$28:$AM$28, $N$37:$AM$37),1)","v":1},{"$f":"RANK(AI28,($N$10:$AM$10,$N$19:$AM$19,$N$28:$AM$28, $N$37:$AM$37),1)","v":1},{"$f":"RANK(AJ28,($N$10:$AM$10,$N$19:$AM$19,$N$28:$AM$28, $N$37:$AM$37),1)","v":1},{"$f":"RANK(AK28,($N$10:$AM$10,$N$19:$AM$19,$N$28:$AM$28, $N$37:$AM$37),1)","v":1},{"$f":"RANK(AL28,($N$10:$AM$10,$N$19:$AM$19,$N$28:$AM$28, $N$37:$AM$37),1)","v":1},{"$f":"RANK(AM28,($N$10:$AM$10,$N$19:$AM$19,$N$28:$AM$28, $N$37:$AM$37),1)","v":1}]
[{"$error":"#REF!"},27,189,"17:06",{"$f":"+VLOOKUP($C30,#REF!,2,\"false\")","v":{"$error":"#REF!"}},{"$f":"+VLOOKUP($C30,#REF!,3,\"false\")","v":{"$error":"#REF!"}},{"$f":"+VLOOKUP($C30,#REF!,4,\"false\")","v":{"$error":"#REF!"}},{"$f":"+VLOOKUP($C30,#REF!,5,\"false\")","v":{"$error":"#REF!"}},{"$f":"+VLOOKUP($C30,#REF!,6,\"false\")","v":{"$error":"#REF!"}},{"$error":"#REF!"},{"$error":"#REF!"}]
[{"$error":"#REF!"},28,194,"17:10",{"$f":"+VLOOKUP($C31,#REF!,2,\"false\")","v":{"$error":"#REF!"}},{"$f":"+VLOOKUP($C31,#REF!,3,\"false\")","v":{"$error":"#REF!"}},{"$f":"+VLOOKUP($C31,#REF!,4,\"false\")","v":{"$error":"#REF!"}},{"$f":"+VLOOKUP($C31,#REF!,5,\"false\")","v":{"$error":"#REF!"}},{"$f":"+VLOOKUP($C31,#REF!,6,\"false\")","v":{"$error":"#REF!"}},{"$error":"#REF!"},{"$error":"#REF!"},null,10,{"$f":"+IF(ISNA(VLOOKUP(N$3&\"  \"&$M31,$A$3:$I$109,2,0)),\"\",VLOOKUP(N$3&\"  \"&$M31,$A$3:$I$109,2,0))","v":""},"","","","","","","","","",{"$f":"+IF(ISNA(VLOOKUP(X$3&\"  \"&$M31,$A$3:$I$109,2,0)),\"\",VLOOKUP(X$3&\"  \"&$M31,$A$3:$I$109,2,0))","v":""},"","","","","","","","","",{"$f":"+IF(ISNA(VLOOKUP(AH$3&\"  \"&$M31,$A$3:$I$109,2,0)),\"\",VLOOKUP(AH$3&\"  \"&$M31,$A$3:$I$109,2,0))","v":""},"","","","",""]
[{"$error":"#REF!"},29,174,"17:35",{"$f":"+VLOOKUP($C32,#REF!,2,\"false\")","v":{"$error":"#REF!"}},{"$f":"+VLOOKUP($C32,#REF!,3,\"false\")","v":{"$error":"#REF!"}},{"$f":"+VLOOKUP($C32,#REF!,4,\"false\")","v":{"$error":"#REF!"}},{"$f":"+VLOOKUP($C32,#REF!,5,\"false\")","v":{"$error":"#REF!"}},{"$f":"+VLOOKUP($C32,#REF!,6,\"false\")","v":{"$error":"#REF!"}},{"$error":"#REF!"},{"$error":"#REF!"},null,11,"","","","","","","","","","","","","","","","","","","","","","","","","",""]
[{"$error":"#REF!"},30,198,"17:43",{"$f":"+VLOOKUP($C33,#REF!,2,\"false\")","v":{"$error":"#REF!"}},{"$f":"+VLOOKUP($C33,#REF!,3,\"false\")","v":{"$error":"#REF!"}},{"$f":"+VLOOKUP($C33,#REF!,4,\"false\")","v":{"$error":"#REF!"}},{"$f":"+VLOOKUP($C33,#REF!,5,\"false\")","v":{"$error":"#REF!"}},{"$f":"+VLOOKUP($C33,#REF!,6,\"false\")","v":{"$error":"#REF!"}},{"$error":"#REF!"},{"$error":"#REF!"},null,12,"","","","","","","","","","","","","","","","","","","","","","","","","",""]
[{"$error":"#REF!"},31,173,"18:50",{"$f":"+VLOOKUP($C34,#REF!,2,\"false\")","v":{"$error":"#REF!"}},{"$f":"+VLOOKUP($C34,#REF!,3,\"false\")","v":{"$error":"#REF!"}},{"$f":"+VLOOKUP($C34,#REF!,4,\"false\")","v":{"$error":"#REF!"}},{"$f":"+VLOOKUP($C34,#REF!,5,\"false\")","v":{"$error":"#REF!"}},{"$f":"+VLOOKUP($C34,#REF!,6,\"false\")","v":{"$error":"#REF!"}},{"$error":"#REF!"},{"$error":"#REF!"},null,null,"","","","","","","","","","","","","","","","","","","","","","","","","",""]
[{"$error":"#REF!"},32,188,"19:42",{"$f":"+VLOOKUP($C35,#REF!,2,\"false\")","v":{"$error":"#REF!"}},{"$f":"+VLOOKUP($C35,#REF!,3,\"false\")","v":{"$error":"#REF!"}},{"$f":"+VLOOKUP($C35,#REF!,4,\"false\")","v":{"$error":"#REF!"}},{"$f":"+VLOOKUP($C35,#REF!,5,\"false\")","v":{"$error":"#REF!"}},{"$f":"+VLOOKUP($C35,#REF!,6,\"false\")","v":{"$error":"#REF!"}},{"$error":"#REF!"},{"$error":"#REF!"},null,null,"","","","","","","","","","","","","","","","","","","","","","","","","",""]
[{"$error":"#REF!"},33,183,"21:36",{"$f":"+VLOOKUP($C36,#REF!,2,\"false\")","v":{"$error":"#REF!"}},{"$f":"+VLOOKUP($C36,#REF!,3,\"false\")","v":{"$error":"#REF!"}},{"$f":"+VLOOKUP($C36,#REF!,4,\"false\")","v":{"$error":"#REF!"}},{"$f":"+VLOOKUP($C36,#REF!,5,\"false\")","v":{"$error":"#REF!"}},{"$f":"+VLOOKUP($C36,#REF!,6,\"false\")","v":{"$error":"#REF!"}},{"$f":"TEXT(SUMPRODUCT(--(G36=$G$4:$G$597),--(B36>$B$4:$B$597))+1,0)","v":{"$error":"#REF!"}},{"$error":"#REF!"},null,null,"","","","","","","","","","","","","","","","","","","","","","","","","",""]
[{"$nulls":12},"Tot",{"$f":"IF(N33=\"\",1000,SUM(N31:N33))","v":1000},{"$f":"IF(O33=\"\",1000,SUM(O31:O33))","v":1000},1000,1000,1000,1000,1000,1000,1000,1000,1000,1000,1000,1000,1000,1000,1000,1000,1000,1000,1000,1000,1000,1000,1000,1000]
[{"$nulls":12},"Pos",{"$f":"RANK(N37,($N$10:$AM$10,$N$19:$AM$19,$N$28:$AM$28, $N$37:$AM$37),1)","v":1},{"$f":"RANK(O37,($N$10:$AM$10,$N$19:$AM$19,$N$28:$AM$28, $N$37:$AM$37),1)","v":1},{"$f":"RANK(P37,($N$10:$AM$10,$N$19:$AM$19,$N$28:$AM$28, $N$37:$AM$37),1)","v":1},{"$f":"RANK(Q37,($N$10:$AM$10,$N$19:$AM$19,$N$28:$AM$28, $N$37:$AM$37),1)","v":1},{"$f":"RANK(R37,($N$10:$AM$10,$N$19:$AM$19,$N$28:$AM$28, $N$37:$AM$37),1)","v":1},{"$f":"RANK(S37,($N$10:$AM$10,$N$19:$AM$19,$N$28:$AM$28, $N$37:$AM$37),1)","v":1},{"$f":"RANK(T37,($N$10:$AM$10,$N$19:$AM$19,$N$28:$AM$28, $N$37:$AM$37),1)","v":1},{"$f":"RANK(U37,($N$10:$AM$10,$N$19:$AM$19,$N$28:$AM$28, $N$37:$AM$37),1)","v":1},{"$f":"RANK(V37,($N$10:$AM$10,$N$19:$AM$19,$N$28:$AM$28, $N$37:$AM$37),1)","v":1},{"$f":"RANK(W37,($N$10:$AM$10,$N$19:$AM$19,$N$28:$AM$28, $N$37:$AM$37),1)","v":1},{"$f":"RANK(X37,($N$10:$AM$10,$N$19:$AM$19,$N$28:$AM$28, $N$37:$AM$37),1)","v":1},{"$f":"RANK(Y37,($N$10:$AM$10,$N$19:$AM$19,$N$28:$AM$28, $N$37:$AM$37),1)","v":1},{"$f":"RANK(Z37,($N$10:$AM$10,$N$19:$AM$19,$N$28:$AM$28, $N$37:$AM$37),1)","v":1},{"$f":"RANK(AA37,($N$10:$AM$10,$N$19:$AM$19,$N$28:$AM$28, $N$37:$AM$37),1)","v":1},{"$f":"RANK(AB37,($N$10:$AM$10,$N$19:$AM$19,$N$28:$AM$28, $N$37:$AM$37),1)","v":1},{"$f":"RANK(AC37,($N$10:$AM$10,$N$19:$AM$19,$N$28:$AM$28, $N$37:$AM$37),1)","v":1},{"$f":"RANK(AD37,($N$10:$AM$10,$N$19:$AM$19,$N$28:$AM$28, $N$37:$AM$37),1)","v":1},{"$f":"RANK(AE37,($N$10:$AM$10,$N$19:$AM$19,$N$28:$AM$28, $N$37:$AM$37),1)","v":1},{"$f":"RANK(AF37,($N$10:$AM$10,$N$19:$AM$19,$N$28:$AM$28, $N$37:$AM$37),1)","v":1},{"$f":"RANK(AG37,($N$10:$AM$10,$N$19:$AM$19,$N$28:$AM$28, $N$37:$AM$37),1)","v":1},{"$f":"RANK(AH37,($N$10:$AM$10,$N$19:$AM$19,$N$28:$AM$28, $N$37:$AM$37),1)","v":1},{"$f":"RANK(AI37,($N$10:$AM$10,$N$19:$AM$19,$N$28:$AM$28, $N$37:$AM$37),1)","v":1},{"$f":"RANK(AJ37,($N$10:$AM$10,$N$19:$AM$19,$N$28:$AM$28, $N$37:$AM$37),1)","v":1},{"$f":"RANK(AK37,($N$10:$AM$10,$N$19:$AM$19,$N$28:$AM$28, $N$37:$AM$37),1)","v":1},{"$f":"RANK(AL37,($N$10:$AM$10,$N$19:$AM$19,$N$28:$AM$28, $N$37:$AM$37),1)","v":1},{"$f":"RANK(AM37,($N$10:$AM$10,$N$19:$AM$19,$N$28:$AM$28, $N$37:$AM$37),1)","v":1}]
{"$rows_empty":61}
[{"$nulls":13},"B&H"]
[{"$nulls":13},"BWK"]
[{"$nulls":13},"EBR"]
[{"$nulls":13},"HHH"]
[{"$nulls":13},"HBS"]
[{"$nulls":13},"PHX"]
[{"$nulls":13},"CHI"]
[null,"Pos","Bib","Time",{"$nulls":9},"LEW"]
[null,1,192,"14:01",{"$nulls":9},"CRA"]
[null,{"$f":"+B108+1","v":2},176,"14:40",{"$nulls":9},"WDH"]
[null,{"$f":"+B109+1","v":3},180,"14:44",{"$nulls":9},"HY"]
[null,4,186,"14:47"]
[null,5,172,"15:02"]
[null,6,177,"15:08"]
[null,7,163,"15:12"]
[null,8,170,"15:48"]
[null,9,187,"15:54"]
[null,10,164,"15:58"]
[null,11,181,"15:59"]
[null,12,191,"16:00"]
[null,13,178,"16:04"]
[null,14,196,"16:09"]
[null,15,167,"16:16"]
[null,16,182,"16:19"]
[null,17,168,"16:30"]
[null,18,171,"16:31"]
[null,19,197,"16:43"]
[null,20,193,"16:45"]
[null,21,165,"16:46"]
[null,22,185,"16:52"]
[null,23,195,"16:58"]
[null,24,184,"16:59"]
[null,25,200,"17:00"]
[null,26,190,"17:06"]
[null,27,189,"17:06"]
[null,28,194,"17:10"]
[null,29,174,"17:35"]
[null,30,198,"17:43"]
[null,31,173,"18:50"]
[null,32,188,"19:42"]
[null,33,183,"21:36"]
[null,34]
[null,35]
[null,36]
[null,37]
[null,38]
[null,39]
[null,40]
[null,41]
[null,42]
[null,43]
[null,44]
[null,45]
[null,46]
[null,47]
[null,48]
[null,49]
[null,50]
[null,51]
[null,52]
[null,53]
[null,54]
[null,55]
[null,56]
[null,57]
[null,58]
[null,59]
[null,60]
[null,61]
[null,62]
[null,63]
[null,64]
[null,65]
[null,66]
[null,{"$f":"+B173+1","v":67}]
[null,68]
[null,69]
[null,70]
[null,71]
[null,72]
[null,73]
[null,74]
[null,75]
[null,76]
[null,77]
[null,78]
[null,79]
[null,80]
[null,81]
[null,82]
[null,83]
[null,84]
[null,85]
[null,86]
[null,87]
[null,88]
[null,89]
[null,90]
[null,91]
[null,92]
[null,93]
[null,94]
[null,95]
[null,96]
[null,97]
[null,98]
[null,99]
[null,100]

{"sheet":"U17W","index":6,"n_rows":207,"n_cols":39,"rows_kept":207,"hidden":true,"merged":[[0,1,0,6],[1,1,1,6]]}
[null,"Sussex Athletics XC Championships\nBexhill, 07/01/2023",{"$nulls":11},"26 clubs - cols N to AM"]
[null,"U17 Women"]
["Temp","Pos","Bib","Time","Forename","Surname","Club","Cat ","Sex","Rk","Club Rk",null,null,"CRA","B&H","EBR","WDH","HAS","LEW","CHI","HASR"]
[{"$f":"+K4","v":{"$error":"#REF!"}},1,285,"21:42",{"$f":"+VLOOKUP($C4,#REF!,2,\"false\")","v":{"$error":"#REF!"}},{"$f":"+VLOOKUP($C4,#REF!,3,\"false\")","v":{"$error":"#REF!"}},{"$f":"+VLOOKUP($C4,#REF!,4,\"false\")","v":{"$error":"#REF!"}},{"$f":"+VLOOKUP($C4,#REF!,5,\"false\")","v":{"$error":"#REF!"}},{"$f":"+VLOOKUP($C4,#REF!,6,\"false\")","v":{"$error":"#REF!"}},{"$f":"TEXT(SUMPRODUCT(--(G4=$G$4:$G$597),--(B4>$B$4:$B$597))+1,0)","v":{"$error":"#REF!"}},{"$f":"+G4&\"  \"&J4","v":{"$error":"#REF!"}},null,1,{"$f":"+IF(ISNA(VLOOKUP(N$3&\"  \"&$M4,$A$3:$I$109,2,0)),\"\",VLOOKUP(N$3&\"  \"&$M4,$A$3:$I$109,2,0))","v":""},"","","","","","","","","",{"$f":"+IF(ISNA(VLOOKUP(X$3&\"  \"&$M4,$A$3:$I$109,2,0)),\"\",VLOOKUP(X$3&\"  \"&$M4,$A$3:$I$109,2,0))","v":""},"","","","","","","","","",{"$f":"+IF(ISNA(VLOOKUP(AH$3&\"  \"&$M4,$A$3:$I$109,2,0)),\"\",VLOOKUP(AH$3&\"  \"&$M4,$A$3:$I$109,2,0))","v":""},"","","","",""]
[{"$error":"#REF!"},{"$f":"+B4+1","v":2},280,"22:57",{"$f":"+VLOOKUP($C5,#REF!,2,\"false\")","v":{"$error":"#REF!"}},{"$f":"+VLOOKUP($C5,#REF!,3,\"false\")","v":{"$error":"#REF!"}},{"$f":"+VLOOKUP($C5,#REF!,4,\"false\")","v":{"$error":"#REF!"}},{"$f":"+VLOOKUP($C5,#REF!,5,\"false\")","v":{"$error":"#REF!"}},{"$f":"+VLOOKUP($C5,#REF!,6,\"false\")","v":{"$error":"#REF!"}},{"$error":"#REF!"},{"$error":"#REF!"},null,2,"","","","","","","","","","","","","","","","","","","","","","","","","",""]
[{"$error":"#REF!"},3,502,"23:06",{"$f":"+VLOOKUP($C6,#REF!,2,\"false\")","v":{"$error":"#REF!"}},{"$f":"+VLOOKUP($C6,#REF!,3,\"false\")","v":{"$error":"#REF!"}},{"$f":"+VLOOKUP($C6,#REF!,4,\"false\")","v":{"$error":"#REF!"}},{"$f":"+VLOOKUP($C6,#REF!,5,\"false\")","v":{"$error":"#REF!"}},{"$f":"+VLOOKUP($C6,#REF!,6,\"false\")","v":{"$error":"#REF!"}},{"$error":"#REF!"},{"$error":"#REF!"},null,3,"","","","","","","","","","","","","","","","","","","","","","","","","",""]
[{"$error":"#REF!"},4,292,"23:22",{"$f":"+VLOOKUP($C7,#REF!,2,\"false\")","v":{"$error":"#REF!"}},{"$f":"+VLOOKUP($C7,#REF!,3,\"false\")","v":{"$error":"#REF!"}},{"$f":"+VLOOKUP($C7,#REF!,4,\"false\")","v":{"$error":"#REF!"}},{"$f":"+VLOOKUP($C7,#REF!,5,\"false\")","v":{"$error":"#REF!"}},{"$f":"+VLOOKUP($C7,#REF!,6,\"false\")","v":{"$error":"#REF!"}},{"$error":"#REF!"},{"$error":"#REF!"},null,null,"","","","","","","","","","","","","","","","","","","","","","","","","",""]
[{"$error":"#REF!"},5,288,"23:28",{"$f":"+VLOOKUP($C8,#REF!,2,\"false\")","v":{"$error":"#REF!"}},{"$f":"+VLOOKUP($C8,#REF!,3,\"false\")","v":{"$error":"#REF!"}},{"$f":"+VLOOKUP($C8,#REF!,4,\"false\")","v":{"$error":"#REF!"}},{"$f":"+VLOOKUP($C8,#REF!,5,\"false\")","v":{"$error":"#REF!"}},{"$f":"+VLOOKUP($C8,#REF!,6,\"false\")","v":{"$error":"#REF!"}},{"$error":"#REF!"},{"$error":"#REF!"},null,null,"","","","","","","","","","","","","","","","","","","","","","","","","",""]
[{"$error":"#REF!"},6,283,"23:39",{"$f":"+VLOOKUP($C9,#REF!,2,\"false\")","v":{"$error":"#REF!"}},{"$f":"+VLOOKUP($C9,#REF!,3,\"false\")","v":{"$error":"#REF!"}},{"$f":"+VLOOKUP($C9,#REF!,4,\"false\")","v":{"$error":"#REF!"}},{"$f":"+VLOOKUP($C9,#REF!,5,\"false\")","v":{"$error":"#REF!"}},{"$f":"+VLOOKUP($C9,#REF!,6,\"false\")","v":{"$error":"#REF!"}},{"$error":"#REF!"},{"$error":"#REF!"},null,null,"","","","","","","","","","","","","","","","","","","","","","","","","",""]
[{"$f":"+K10","v":{"$error":"#REF!"}},7,295,"23:59",{"$f":"+VLOOKUP($C10,#REF!,2,\"false\")","v":{"$error":"#REF!"}},{"$f":"+VLOOKUP($C10,#REF!,3,\"false\")","v":{"$error":"#REF!"}},{"$f":"+VLOOKUP($C10,#REF!,4,\"false\")","v":{"$error":"#REF!"}},{"$f":"+VLOOKUP($C10,#REF!,5,\"false\")","v":{"$error":"#REF!"}},{"$f":"+VLOOKUP($C10,#REF!,6,\"false\")","v":{"$error":"#REF!"}},{"$error":"#REF!"},{"$f":"+G10&\"  \"&J10","v":{"$error":"#REF!"}},null,"Tot",{"$f":"IF(N6=\"\",1000,SUM(N4:N6))","v":1000},{"$f":"IF(O6=\"\",1000,SUM(O4:O6))","v":1000},1000,1000,1000,1000,1000,1000,1000,1000,1000,1000,1000,1000,1000,1000,1000,1000,1000,1000,1000,1000,1000,1000,1000,1000]
[{"$error":"#REF!"},8,278,"24:34",{"$f":"+VLOOKUP($C11,#REF!,2,\"false\")","v":{"$error":"#REF!"}},{"$f":"+VLOOKUP($C11,#REF!,3,\"false\")","v":{"$error":"#REF!"}},{"$f":"+VLOOKUP($C11,#REF!,4,\"false\")","v":{"$error":"#REF!"}},{"$f":"+VLOOKUP($C11,#REF!,5,\"false\")","v":{"$error":"#REF!"}},{"$f":"+VLOOKUP($C11,#REF!,6,\"false\")","v":{"$error":"#REF!"}},{"$error":"#REF!"},{"$error":"#REF!"},null,"Pos",{"$f":"RANK(N10,($N$10:$AM$10,$N$19:$AM$19,$N$28:$AM$28, $N$37:$AM$37),1)","v":1},{"$f":"RANK(O10,($N$10:$AM$10,$N$19:$AM$19,$N$28:$AM$28, $N$37:$AM$37),1)","v":1},{"$f":"RANK(P10,($N$10:$AM$10,$N$19:$AM$19,$N$28:$AM$28, $N$37:$AM$37),1)","v":1},{"$f":"RANK(Q10,($N$10:$AM$10,$N$19:$AM$19,$N$28:$AM$28, $N$37:$AM$37),1)","v":1},{"$f":"RANK(R10,($N$10:$AM$10,$N$19:$AM$19,$N$28:$AM$28, $N$37:$AM$37),1)","v":1},{"$f":"RANK(S10,($N$10:$AM$10,$N$19:$AM$19,$N$28:$AM$28, $N$37:$AM$37),1)","v":1},{"$f":"RANK(T10,($N$10:$AM$10,$N$19:$AM$19,$N$28:$AM$28, $N$37:$AM$37),1)","v":1},{"$f":"RANK(U10,($N$10:$AM$10,$N$19:$AM$19,$N$28:$AM$28, $N$37:$AM$37),1)","v":1},{"$f":"RANK(V10,($N$10:$AM$10,$N$19:$AM$19,$N$28:$AM$28, $N$37:$AM$37),1)","v":1},{"$f":"RANK(W10,($N$10:$AM$10,$N$19:$AM$19,$N$28:$AM$28, $N$37:$AM$37),1)","v":1},{"$f":"RANK(X10,($N$10:$AM$10,$N$19:$AM$19,$N$28:$AM$28, $N$37:$AM$37),1)","v":1},{"$f":"RANK(Y10,($N$10:$AM$10,$N$19:$AM$19,$N$28:$AM$28, $N$37:$AM$37),1)","v":1},{"$f":"RANK(Z10,($N$10:$AM$10,$N$19:$AM$19,$N$28:$AM$28, $N$37:$AM$37),1)","v":1},{"$f":"RANK(AA10,($N$10:$AM$10,$N$19:$AM$19,$N$28:$AM$28, $N$37:$AM$37),1)","v":1},{"$f":"RANK(AB10,($N$10:$AM$10,$N$19:$AM$19,$N$28:$AM$28, $N$37:$AM$37),1)","v":1},{"$f":"RANK(AC10,($N$10:$AM$10,$N$19:$AM$19,$N$28:$AM$28, $N$37:$AM$37),1)","v":1},{"$f":"RANK(AD10,($N$10:$AM$10,$N$19:$AM$19,$N$28:$AM$28, $N$37:$AM$37),1)","v":1},{"$f":"RANK(AE10,($N$10:$AM$10,$N$19:$AM$19,$N$28:$AM$28, $N$37:$AM$37),1)","v":1},{"$f":"RANK(AF10,($N$10:$AM$10,$N$19:$AM$19,$N$28:$AM$28, $N$37:$AM$37),1)","v":1},{"$f":"RANK(AG10,($N$10:$AM$10,$N$19:$AM$19,$N$28:$AM$28, $N$37:$AM$37),1)","v":1},{"$f":"RANK(AH10,($N$10:$AM$10,$N$19:$AM$19,$N$28:$AM$28, $N$37:$AM$37),1)","v":1},{"$f":"RANK(AI10,($N$10:$AM$10,$N$19:$AM$19,$N$28:$AM$28, $N$37:$AM$37),1)","v":1},{"$f":"RANK(AJ10,($N$10:$AM$10,$N$19:$AM$19,$N$28:$AM$28, $N$37:$AM$37),1)","v":1},{"$f":"RANK(AK10,($N$10:$AM$10,$N$19:$AM$19,$N$28:$AM$28, $N$37:$AM$37),1)","v":1},{"$f":"RANK(AL10,($N$10:$AM$10,$N$19:$AM$19,$N$28:$AM$28, $N$37:$AM$37),1)","v":1},{"$f":"RANK(AM10,($N$10:$AM$10,$N$19:$AM$19,$N$28:$AM$28, $N$37:$AM$37),1)","v":1}]
[{"$error":"#REF!"},9,284,"24:41",{"$f":"+VLOOKUP($C12,#REF!,2,\"false\")","v":{"$error":"#REF!"}},{"$f":"+VLOOKUP($C12,#REF!,3,\"false\")","v":{"$error":"#REF!"}},{"$f":"+VLOOKUP($C12,#REF!,4,\"false\")","v":{"$error":"#REF!"}},{"$f":"+VLOOKUP($C12,#REF!,5,\"false\")","v":{"$error":"#REF!"}},{"$f":"+VLOOKUP($C12,#REF!,6,\"false\")","v":{"$error":"#REF!"}},{"$error":"#REF!"},{"$error":"#REF!"}]
[{"$error":"#REF!"},10,290,"25:44",{"$f":"+VLOOKUP($C13,#REF!,2,\"false\")","v":{"$error":"#REF!"}},{"$f":"+VLOOKUP($C13,#REF!,3,\"false\")","v":{"$error":"#REF!"}},{"$f":"+VLOOKUP($C13,#REF!,4,\"false\")","v":{"$error":"#REF!"}},{"$f":"+VLOOKUP($C13,#REF!,5,\"false\")","v":{"$error":"#REF!"}},{"$f":"+VLOOKUP($C13,#REF!,6,\"false\")","v":{"$error":"#REF!"}},{"$error":"#REF!"},{"$error":"#REF!"},null,4,{"$f":"+IF(ISNA(VLOOKUP(N$3&\"  \"&$M13,$A$3:$I$109,2,0)),\"\",VLOOKUP(N$3&\"  \"&$M13,$A$3:$I$109,2,0))","v":""},"","","","","","","","","",{"$f":"+IF(ISNA(VLOOKUP(X$3&\"  \"&$M13,$A$3:$I$109,2,0)),\"\",VLOOKUP(X$3&\"  \"&$M13,$A$3:$I$109,2,0))","v":""},"","","","","","","","","",{"$f":"+IF(ISNA(VLOOKUP(AH$3&\"  \"&$M13,$A$3:$I$109,2,0)),\"\",VLOOKUP(AH$3&\"  \"&$M13,$A$3:$I$109,2,0))","v":""},"","","","",""]
[{"$error":"#REF!"},11,277,"27:49",{"$f":"+VLOOKUP($C14,#REF!,2,\"false\")","v":{"$error":"#REF!"}},{"$f":"+VLOOKUP($C14,#REF!,3,\"false\")","v":{"$error":"#REF!"}},{"$f":"+VLOOKUP($C14,#REF!,4,\"false\")","v":{"$error":"#REF!"}},{"$f":"+VLOOKUP($C14,#REF!,5,\"false\")","v":{"$error":"#REF!"}},{"$f":"+VLOOKUP($C14,#REF!,6,\"false\")","v":{"$error":"#REF!"}},{"$error":"#REF!"},{"$error":"#REF!"},null,5,"","","","","","","","","","","","","","","","","","","","","","","","","",""]
[{"$error":"#REF!"},12,287,"28:00",{"$f":"+VLOOKUP($C15,#REF!,2,\"false\")","v":{"$error":"#REF!"}},{"$f":"+VLOOKUP($C15,#REF!,3,\"false\")","v":{"$error":"#REF!"}},{"$f":"+VLOOKUP($C15,#REF!,4,\"false\")","v":{"$error":"#REF!"}},{"$f":"+VLOOKUP($C15,#REF!,5,\"false\")","v":{"$error":"#REF!"}},{"$f":"+VLOOKUP($C15,#REF!,6,\"false\")","v":{"$error":"#REF!"}},{"$error":"#REF!"},{"$error":"#REF!"},null,6,"","","","","","","","","","","","","","","","","","","","","","","","","",""]
[{"$error":"#REF!"},13,291,"28:20",{"$f":"+VLOOKUP($C16,#REF!,2,\"false\")","v":{"$error":"#REF!"}},{"$f":"+VLOOKUP($C16,#REF!,3,\"false\")","v":{"$error":"#REF!"}},{"$f":"+VLOOKUP($C16,#REF!,4,\"false\")","v":{"$error":"#REF!"}},{"$f":"+VLOOKUP($C16,#REF!,5,\"false\")","v":{"$error":"#REF!"}},{"$f":"+VLOOKUP($C16,#REF!,6,\"false\")","v":{"$error":"#REF!"}},{"$error":"#REF!"},{"$error":"#REF!"},null,null,"","","","","","","","","","","","","","","","","","","","","","","","","",""]
[{"$error":"#REF!"},14,282,"28:47",{"$f":"+VLOOKUP($C17,#REF!,2,\"false\")","v":{"$error":"#REF!"}},{"$f":"+VLOOKUP($C17,#REF!,3,\"false\")","v":{"$error":"#REF!"}},{"$f":"+VLOOKUP($C17,#REF!,4,\"false\")","v":{"$error":"#REF!"}},{"$f":"+VLOOKUP($C17,#REF!,5,\"false\")","v":{"$error":"#REF!"}},{"$f":"+VLOOKUP($C17,#REF!,6,\"false\")","v":{"$error":"#REF!"}},{"$error":"#REF!"},{"$error":"#REF!"},null,null,"","","","","","","","","","","","","","","","","","","","","","","","","",""]
[{"$error":"#REF!"},15,296,"28:57",{"$f":"+VLOOKUP($C18,#REF!,2,\"false\")","v":{"$error":"#REF!"}},{"$f":"+VLOOKUP($C18,#REF!,3,\"false\")","v":{"$error":"#REF!"}},{"$f":"+VLOOKUP($C18,#REF!,4,\"false\")","v":{"$error":"#REF!"}},{"$f":"+VLOOKUP($C18,#REF!,5,\"false\")","v":{"$error":"#REF!"}},{"$f":"+VLOOKUP($C18,#REF!,6,\"false\")","v":{"$error":"#REF!"}},{"$error":"#REF!"},{"$error":"#REF!"},null,null,"","","","","","","","","","","","","","","","","","","","","","","","","",""]
[{"$error":"#REF!"},16,293,"29:20",{"$f":"+VLOOKUP($C19,#REF!,2,\"false\")","v":{"$error":"#REF!"}},{"$f":"+VLOOKUP($C19,#REF!,3,\"false\")","v":{"$error":"#REF!"}},{"$f":"+VLOOKUP($C19,#REF!,4,\"false\")","v":{"$error":"#REF!"}},{"$f":"+VLOOKUP($C19,#REF!,5,\"false\")","v":{"$error":"#REF!"}},{"$f":"+VLOOKUP($C19,#REF!,6,\"false\")","v":{"$error":"#REF!"}},{"$error":"#REF!"},{"$error":"#REF!"},null,"Tot",{"$f":"IF(N15=\"\",1000,SUM(N13:N15))","v":1000},{"$f":"IF(O15=\"\",1000,SUM(O13:O15))","v":1000},1000,1000,1000,1000,1000,1000,1000,1000,1000,1000,1000,1000,1000,1000,1000,1000,1000,1000,1000,1000,1000,1000,1000,1000]
[{"$error":"#REF!"},17,289,"29:37",{"$f":"+VLOOKUP($C20,#REF!,2,\"false\")","v":{"$error":"#REF!"}},{"$f":"+VLOOKUP($C20,#REF!,3,\"false\")","v":{"$error":"#REF!"}},{"$f":"+VLOOKUP($C20,#REF!,4,\"false\")","v":{"$error":"#REF!"}},{"$f":"+VLOOKUP($C20,#REF!,5,\"false\")","v":{"$error":"#REF!"}},{"$f":"+VLOOKUP($C20,#REF!,6,\"false\")","v":{"$error":"#REF!"}},{"$error":"#REF!"},{"$error":"#REF!"},null,"Pos",{"$f":"RANK(N19,($N$10:$AM$10,$N$19:$AM$19,$N$28:$AM$28, $N$37:$AM$37),1)","v":1},{"$f":"RANK(O19,($N$10:$AM$10,$N$19:$AM$19,$N$28:$AM$28, $N$37:$AM$37),1)","v":1},{"$f":"RANK(P19,($N$10:$AM$10,$N$19:$AM$19,$N$28:$AM$28, $N$37:$AM$37),1)","v":1},{"$f":"RANK(Q19,($N$10:$AM$10,$N$19:$AM$19,$N$28:$AM$28, $N$37:$AM$37),1)","v":1},{"$f":"RANK(R19,($N$10:$AM$10,$N$19:$AM$19,$N$28:$AM$28, $N$37:$AM$37),1)","v":1},{"$f":"RANK(S19,($N$10:$AM$10,$N$19:$AM$19,$N$28:$AM$28, $N$37:$AM$37),1)","v":1},{"$f":"RANK(T19,($N$10:$AM$10,$N$19:$AM$19,$N$28:$AM$28, $N$37:$AM$37),1)","v":1},{"$f":"RANK(U19,($N$10:$AM$10,$N$19:$AM$19,$N$28:$AM$28, $N$37:$AM$37),1)","v":1},{"$f":"RANK(V19,($N$10:$AM$10,$N$19:$AM$19,$N$28:$AM$28, $N$37:$AM$37),1)","v":1},{"$f":"RANK(W19,($N$10:$AM$10,$N$19:$AM$19,$N$28:$AM$28, $N$37:$AM$37),1)","v":1},{"$f":"RANK(X19,($N$10:$AM$10,$N$19:$AM$19,$N$28:$AM$28, $N$37:$AM$37),1)","v":1},{"$f":"RANK(Y19,($N$10:$AM$10,$N$19:$AM$19,$N$28:$AM$28, $N$37:$AM$37),1)","v":1},{"$f":"RANK(Z19,($N$10:$AM$10,$N$19:$AM$19,$N$28:$AM$28, $N$37:$AM$37),1)","v":1},{"$f":"RANK(AA19,($N$10:$AM$10,$N$19:$AM$19,$N$28:$AM$28, $N$37:$AM$37),1)","v":1},{"$f":"RANK(AB19,($N$10:$AM$10,$N$19:$AM$19,$N$28:$AM$28, $N$37:$AM$37),1)","v":1},{"$f":"RANK(AC19,($N$10:$AM$10,$N$19:$AM$19,$N$28:$AM$28, $N$37:$AM$37),1)","v":1},{"$f":"RANK(AD19,($N$10:$AM$10,$N$19:$AM$19,$N$28:$AM$28, $N$37:$AM$37),1)","v":1},{"$f":"RANK(AE19,($N$10:$AM$10,$N$19:$AM$19,$N$28:$AM$28, $N$37:$AM$37),1)","v":1},{"$f":"RANK(AF19,($N$10:$AM$10,$N$19:$AM$19,$N$28:$AM$28, $N$37:$AM$37),1)","v":1},{"$f":"RANK(AG19,($N$10:$AM$10,$N$19:$AM$19,$N$28:$AM$28, $N$37:$AM$37),1)","v":1},{"$f":"RANK(AH19,($N$10:$AM$10,$N$19:$AM$19,$N$28:$AM$28, $N$37:$AM$37),1)","v":1},{"$f":"RANK(AI19,($N$10:$AM$10,$N$19:$AM$19,$N$28:$AM$28, $N$37:$AM$37),1)","v":1},{"$f":"RANK(AJ19,($N$10:$AM$10,$N$19:$AM$19,$N$28:$AM$28, $N$37:$AM$37),1)","v":1},{"$f":"RANK(AK19,($N$10:$AM$10,$N$19:$AM$19,$N$28:$AM$28, $N$37:$AM$37),1)","v":1},{"$f":"RANK(AL19,($N$10:$AM$10,$N$19:$AM$19,$N$28:$AM$28, $N$37:$AM$37),1)","v":1},{"$f":"RANK(AM19,($N$10:$AM$10,$N$19:$AM$19,$N$28:$AM$28, $N$37:$AM$37),1)","v":1}]
[{"$error":"#REF!"},18,281,"29:45",{"$f":"+VLOOKUP($C21,#REF!,2,\"false\")","v":{"$error":"#REF!"}},{"$f":"+VLOOKUP($C21,#REF!,3,\"false\")","v":{"$error":"#REF!"}},{"$f":"+VLOOKUP($C21,#REF!,4,\"false\")","v":{"$error":"#REF!"}},{"$f":"+VLOOKUP($C21,#REF!,5,\"false\")","v":{"$error":"#REF!"}},{"$f":"+VLOOKUP($C21,#REF!,6,\"false\")","v":{"$error":"#REF!"}},{"$error":"#REF!"},{"$error":"#REF!"}]
[{"$error":"#REF!"},19,279,"30:25",{"$f":"+VLOOKUP($C22,#REF!,2,\"false\")","v":{"$error":"#REF!"}},{"$f":"+VLOOKUP($C22,#REF!,3,\"false\")","v":{"$error":"#REF!"}},{"$f":"+VLOOKUP($C22,#REF!,4,\"false\")","v":{"$error":"#REF!"}},{"$f":"+VLOOKUP($C22,#REF!,5,\"false\")","v":{"$error":"#REF!"}},{"$f":"+VLOOKUP($C22,#REF!,6,\"false\")","v":{"$error":"#REF!"}},{"$error":"#REF!"},{"$error":"#REF!"},null,7,{"$f":"+IF(ISNA(VLOOKUP(N$3&\"  \"&$M22,$A$3:$I$109,2,0)),\"\",VLOOKUP(N$3&\"  \"&$M22,$A$3:$I$109,2,0))","v":""},"","","","","","","","","",{"$f":"+IF(ISNA(VLOOKUP(X$3&\"  \"&$M22,$A$3:$I$109,2,0)),\"\",VLOOKUP(X$3&\"  \"&$M22,$A$3:$I$109,2,0))","v":""},"","","","","","","","","",{"$f":"+IF(ISNA(VLOOKUP(AH$3&\"  \"&$M22,$A$3:$I$109,2,0)),\"\",VLOOKUP(AH$3&\"  \"&$M22,$A$3:$I$109,2,0))","v":""},"","","","",""]
[{"$nulls":12},8,"","","","","","","","","","","","","","","","","","","","","","","","","",""]
[{"$nulls":12},9,"","","","","","","","","","","","","","","","","","","","","","","","","",""]
[{"$nulls":13},"","","","","","","","","","","","","","","","","","","","","","","","","",""]
[{"$nulls":13},"","","","","","","","","","","","","","","","","","","","","","","","","",""]
[{"$nulls":13},"","","","","","","","","","","","","","","","","","","","","","","","","",""]
[{"$nulls":12},"Tot",{"$f":"IF(N24=\"\",1000,SUM(N22:N24))","v":1000},{"$f":"IF(O24=\"\",1000,SUM(O22:O24))","v":1000},1000,1000,1000,1000,1000,1000,1000,1000,1000,1000,1000,1000,1000,1000,1000,1000,1000,1000,1000,1000,1000,1000,1000,1000]
[{"$nulls":12},"Pos",{"$f":"RANK(N28,($N$10:$AM$10,$N$19:$AM$19,$N$28:$AM$28, $N$37:$AM$37),1)","v":1},{"$f":"RANK(O28,($N$10:$AM$10,$N$19:$AM$19,$N$28:$AM$28, $N$37:$AM$37),1)","v":1},{"$f":"RANK(P28,($N$10:$AM$10,$N$19:$AM$19,$N$28:$AM$28, $N$37:$AM$37),1)","v":1},{"$f":"RANK(Q28,($N$10:$AM$10,$N$19:$AM$19,$N$28:$AM$28, $N$37:$AM$37),1)","v":1},{"$f":"RANK(R28,($N$10:$AM$10,$N$19:$AM$19,$N$28:$AM$28, $N$37:$AM$37),1)","v":1},{"$f":"RANK(S28,($N$10:$AM$10,$N$19:$AM$19,$N$28:$AM$28, $N$37:$AM$37),1)","v":1},{"$f":"RANK(T28,($N$10:$AM$10,$N$19:$AM$19,$N$28:$AM$28, $N$37:$AM$37),1)","v":1},{"$f":"RANK(U28,($N$10:$AM$10,$N$19:$AM$19,$N$28:$AM$28, $N$37:$AM$37),1)","v":1},{"$f":"RANK(V28,($N$10:$AM$10,$N$19:$AM$19,$N$28:$AM$28, $N$37:$AM$37),1)","v":1},{"$f":"RANK(W28,($N$10:$AM$10,$N$19:$AM$19,$N$28:$AM$28, $N$37:$AM$37),1)","v":1},{"$f":"RANK(X28,($N$10:$AM$10,$N$19:$AM$19,$N$28:$AM$28, $N$37:$AM$37),1)","v":1},{"$f":"RANK(Y28,($N$10:$AM$10,$N$19:$AM$19,$N$28:$AM$28, $N$37:$AM$37),1)","v":1},{"$f":"RANK(Z28,($N$10:$AM$10,$N$19:$AM$19,$N$28:$AM$28, $N$37:$AM$37),1)","v":1},{"$f":"RANK(AA28,($N$10:$AM$10,$N$19:$AM$19,$N$28:$AM$28, $N$37:$AM$37),1)","v":1},{"$f":"RANK(AB28,($N$10:$AM$10,$N$19:$AM$19,$N$28:$AM$28, $N$37:$AM$37),1)","v":1},{"$f":"RANK(AC28,($N$10:$AM$10,$N$19:$AM$19,$N$28:$AM$28, $N$37:$AM$37),1)","v":1},{"$f":"RANK(AD28,($N$10:$AM$10,$N$19:$AM$19,$N$28:$AM$28, $N$37:$AM$37),1)","v":1},{"$f":"RANK(AE28,($N$10:$AM$10,$N$19:$AM$19,$N$28:$AM$28, $N$37:$AM$37),1)","v":1},{"$f":"RANK(AF28,($N$10:$AM$10,$N$19:$AM$19,$N$28:$AM$28, $N$37:$AM$37),1)","v":1},{"$f":"RANK(AG28,($N$10:$AM$10,$N$19:$AM$19,$N$28:$AM$28, $N$37:$AM$37),1)","v":1},{"$f":"RANK(AH28,($N$10:$AM$10,$N$19:$AM$19,$N$28:$AM$28, $N$37:$AM$37),1)","v":1},{"$f":"RANK(AI28,($N$10:$AM$10,$N$19:$AM$19,$N$28:$AM$28, $N$37:$AM$37),1)","v":1},{"$f":"RANK(AJ28,($N$10:$AM$10,$N$19:$AM$19,$N$28:$AM$28, $N$37:$AM$37),1)","v":1},{"$f":"RANK(AK28,($N$10:$AM$10,$N$19:$AM$19,$N$28:$AM$28, $N$37:$AM$37),1)","v":1},{"$f":"RANK(AL28,($N$10:$AM$10,$N$19:$AM$19,$N$28:$AM$28, $N$37:$AM$37),1)","v":1},{"$f":"RANK(AM28,($N$10:$AM$10,$N$19:$AM$19,$N$28:$AM$28, $N$37:$AM$37),1)","v":1}]
[]
[{"$nulls":12},10,{"$f":"+IF(ISNA(VLOOKUP(N$3&\"  \"&$M31,$A$3:$I$109,2,0)),\"\",VLOOKUP(N$3&\"  \"&$M31,$A$3:$I$109,2,0))","v":""},"","","","","","","","","",{"$f":"+IF(ISNA(VLOOKUP(X$3&\"  \"&$M31,$A$3:$I$109,2,0)),\"\",VLOOKUP(X$3&\"  \"&$M31,$A$3:$I$109,2,0))","v":""},"","","","","","","","","",{"$f":"+IF(ISNA(VLOOKUP(AH$3&\"  \"&$M31,$A$3:$I$109,2,0)),\"\",VLOOKUP(AH$3&\"  \"&$M31,$A$3:$I$109,2,0))","v":""},"","","","",""]
[{"$nulls":12},11,"","","","","","","","","","","","","","","","","","","","","","","","","",""]
[{"$nulls":12},12,"","","","","","","","","","","","","","","","","","","","","","","","","",""]
[{"$nulls":13},"","","","","","","","","","","","","","","","","","","","","","","","","",""]
[{"$nulls":13},"","","","","","","","","","","","","","","","","","","","","","","","","",""]
[{"$nulls":13},"","","","","","","","","","","","","","","","","","","","","","","","","",""]
[{"$nulls":12},"Tot",{"$f":"IF(N33=\"\",1000,SUM(N31:N33))","v":1000},{"$f":"IF(O33=\"\",1000,SUM(O31:O33))","v":1000},1000,1000,1000,1000,1000,1000,1000,1000,1000,1000,1000,1000,1000,1000,1000,1000,1000,1000,1000,1000,1000,1000,1000,1000]
[{"$nulls":12},"Pos",{"$f":"RANK(N37,($N$10:$AM$10,$N$19:$AM$19,$N$28:$AM$28, $N$37:$AM$37),1)","v":1},{"$f":"RANK(O37,($N$10:$AM$10,$N$19:$AM$19,$N$28:$AM$28, $N$37:$AM$37),1)","v":1},{"$f":"RANK(P37,($N$10:$AM$10,$N$19:$AM$19,$N$28:$AM$28, $N$37:$AM$37),1)","v":1},{"$f":"RANK(Q37,($N$10:$AM$10,$N$19:$AM$19,$N$28:$AM$28, $N$37:$AM$37),1)","v":1},{"$f":"RANK(R37,($N$10:$AM$10,$N$19:$AM$19,$N$28:$AM$28, $N$37:$AM$37),1)","v":1},{"$f":"RANK(S37,($N$10:$AM$10,$N$19:$AM$19,$N$28:$AM$28, $N$37:$AM$37),1)","v":1},{"$f":"RANK(T37,($N$10:$AM$10,$N$19:$AM$19,$N$28:$AM$28, $N$37:$AM$37),1)","v":1},{"$f":"RANK(U37,($N$10:$AM$10,$N$19:$AM$19,$N$28:$AM$28, $N$37:$AM$37),1)","v":1},{"$f":"RANK(V37,($N$10:$AM$10,$N$19:$AM$19,$N$28:$AM$28, $N$37:$AM$37),1)","v":1},{"$f":"RANK(W37,($N$10:$AM$10,$N$19:$AM$19,$N$28:$AM$28, $N$37:$AM$37),1)","v":1},{"$f":"RANK(X37,($N$10:$AM$10,$N$19:$AM$19,$N$28:$AM$28, $N$37:$AM$37),1)","v":1},{"$f":"RANK(Y37,($N$10:$AM$10,$N$19:$AM$19,$N$28:$AM$28, $N$37:$AM$37),1)","v":1},{"$f":"RANK(Z37,($N$10:$AM$10,$N$19:$AM$19,$N$28:$AM$28, $N$37:$AM$37),1)","v":1},{"$f":"RANK(AA37,($N$10:$AM$10,$N$19:$AM$19,$N$28:$AM$28, $N$37:$AM$37),1)","v":1},{"$f":"RANK(AB37,($N$10:$AM$10,$N$19:$AM$19,$N$28:$AM$28, $N$37:$AM$37),1)","v":1},{"$f":"RANK(AC37,($N$10:$AM$10,$N$19:$AM$19,$N$28:$AM$28, $N$37:$AM$37),1)","v":1},{"$f":"RANK(AD37,($N$10:$AM$10,$N$19:$AM$19,$N$28:$AM$28, $N$37:$AM$37),1)","v":1},{"$f":"RANK(AE37,($N$10:$AM$10,$N$19:$AM$19,$N$28:$AM$28, $N$37:$AM$37),1)","v":1},{"$f":"RANK(AF37,($N$10:$AM$10,$N$19:$AM$19,$N$28:$AM$28, $N$37:$AM$37),1)","v":1},{"$f":"RANK(AG37,($N$10:$AM$10,$N$19:$AM$19,$N$28:$AM$28, $N$37:$AM$37),1)","v":1},{"$f":"RANK(AH37,($N$10:$AM$10,$N$19:$AM$19,$N$28:$AM$28, $N$37:$AM$37),1)","v":1},{"$f":"RANK(AI37,($N$10:$AM$10,$N$19:$AM$19,$N$28:$AM$28, $N$37:$AM$37),1)","v":1},{"$f":"RANK(AJ37,($N$10:$AM$10,$N$19:$AM$19,$N$28:$AM$28, $N$37:$AM$37),1)","v":1},{"$f":"RANK(AK37,($N$10:$AM$10,$N$19:$AM$19,$N$28:$AM$28, $N$37:$AM$37),1)","v":1},{"$f":"RANK(AL37,($N$10:$AM$10,$N$19:$AM$19,$N$28:$AM$28, $N$37:$AM$37),1)","v":1},{"$f":"RANK(AM37,($N$10:$AM$10,$N$19:$AM$19,$N$28:$AM$28, $N$37:$AM$37),1)","v":1}]
{"$rows_empty":61}
[{"$nulls":13},"CRA"]
[{"$nulls":13},"B&H"]
[{"$nulls":13},"EBR"]
[{"$nulls":13},"WDH"]
[{"$nulls":13},"HAS"]
[{"$nulls":13},"LEW"]
[{"$nulls":13},"CHI"]
[null,"Pos","Bib","Time",{"$nulls":9},"HASR"]
[null,1,285,"21:42"]
[null,{"$f":"+B108+1","v":2},280,"22:57"]
[null,{"$f":"+B109+1","v":3},502,"23:06"]
[null,4,292,"23:22"]
[null,5,288,"23:28"]
[null,6,283,"23:39"]
[null,7,295,"23:59"]
[null,8,278,"24:34"]
[null,9,284,"24:41"]
[null,10,290,"25:44"]
[null,11,277,"27:49"]
[null,12,287,"28:00"]
[null,13,291,"28:20"]
[null,14,282,"28:47"]
[null,15,296,"28:57"]
[null,16,293,"29:20"]
[null,17,289,"29:37"]
[null,18,281,"29:45"]
[null,19,279,"30:25"]
[null,20]
[null,21]
[null,22]
[null,23]
[null,24]
[null,25]
[null,26]
[null,27]
[null,28]
[null,29]
[null,30]
[null,31]
[null,32]
[null,33]
[null,34]
[null,35]
[null,36]
[null,37]
[null,38]
[null,39]
[null,40]
[null,41]
[null,42]
[null,43]
[null,44]
[null,45]
[null,46]
[null,47]
[null,48]
[null,49]
[null,50]
[null,51]
[null,52]
[null,53]
[null,54]
[null,55]
[null,56]
[null,57]
[null,58]
[null,59]
[null,60]
[null,61]
[null,62]
[null,63]
[null,64]
[null,65]
[null,66]
[null,{"$f":"+B173+1","v":67}]
[null,68]
[null,69]
[null,70]
[null,71]
[null,72]
[null,73]
[null,74]
[null,75]
[null,76]
[null,77]
[null,78]
[null,79]
[null,80]
[null,81]
[null,82]
[null,83]
[null,84]
[null,85]
[null,86]
[null,87]
[null,88]
[null,89]
[null,90]
[null,91]
[null,92]
[null,93]
[null,94]
[null,95]
[null,96]
[null,97]
[null,98]
[null,99]
[null,100]

{"sheet":"U17M","index":7,"n_rows":207,"n_cols":39,"rows_kept":207,"hidden":true,"merged":[[0,1,0,6],[1,1,1,6]]}
[null,"Sussex Athletics XC Championships\nBexhill, 07/01/2023",{"$nulls":11},"26 clubs - cols N to AM"]
[null,"U17 Men"]
["Temp","Pos","Bib","Time","Forename","Surname","Club","Cat ","Sex","Rk","Club Rk",null,null,"B&H","LEW","PHX","WDH","HAS","CRA","EBR"]
[{"$f":"+K4","v":{"$error":"#REF!"}},1,255,"18:48",{"$f":"+VLOOKUP($C4,#REF!,2,\"false\")","v":{"$error":"#REF!"}},{"$f":"+VLOOKUP($C4,#REF!,3,\"false\")","v":{"$error":"#REF!"}},{"$f":"+VLOOKUP($C4,#REF!,4,\"false\")","v":{"$error":"#REF!"}},{"$f":"+VLOOKUP($C4,#REF!,5,\"false\")","v":{"$error":"#REF!"}},{"$f":"+VLOOKUP($C4,#REF!,6,\"false\")","v":{"$error":"#REF!"}},{"$f":"TEXT(SUMPRODUCT(--(G4=$G$4:$G$597),--(B4>$B$4:$B$597))+1,0)","v":{"$error":"#REF!"}},{"$f":"+G4&\"  \"&J4","v":{"$error":"#REF!"}},null,1,{"$f":"+IF(ISNA(VLOOKUP(N$3&\"  \"&$M4,$A$3:$I$109,2,0)),\"\",VLOOKUP(N$3&\"  \"&$M4,$A$3:$I$109,2,0))","v":""},"","","","","","","","","",{"$f":"+IF(ISNA(VLOOKUP(X$3&\"  \"&$M4,$A$3:$I$109,2,0)),\"\",VLOOKUP(X$3&\"  \"&$M4,$A$3:$I$109,2,0))","v":""},"","","","","","","","","",{"$f":"+IF(ISNA(VLOOKUP(AH$3&\"  \"&$M4,$A$3:$I$109,2,0)),\"\",VLOOKUP(AH$3&\"  \"&$M4,$A$3:$I$109,2,0))","v":""},"","","","",""]
[{"$f":"+K5","v":{"$error":"#REF!"}},{"$f":"+B4+1","v":2},266,"18:56",{"$f":"+VLOOKUP($C5,#REF!,2,\"false\")","v":{"$error":"#REF!"}},{"$f":"+VLOOKUP($C5,#REF!,3,\"false\")","v":{"$error":"#REF!"}},{"$f":"+VLOOKUP($C5,#REF!,4,\"false\")","v":{"$error":"#REF!"}},{"$f":"+VLOOKUP($C5,#REF!,5,\"false\")","v":{"$error":"#REF!"}},{"$f":"+VLOOKUP($C5,#REF!,6,\"false\")","v":{"$error":"#REF!"}},{"$error":"#REF!"},{"$f":"+G5&\"  \"&J5","v":{"$error":"#REF!"}},null,2,"","","","","","","","","","","","","","","","","","","","","","","","","",""]
[{"$error":"#REF!"},3,252,"19:14",{"$f":"+VLOOKUP($C6,#REF!,2,\"false\")","v":{"$error":"#REF!"}},{"$f":"+VLOOKUP($C6,#REF!,3,\"false\")","v":{"$error":"#REF!"}},{"$f":"+VLOOKUP($C6,#REF!,4,\"false\")","v":{"$error":"#REF!"}},{"$f":"+VLOOKUP($C6,#REF!,5,\"false\")","v":{"$error":"#REF!"}},{"$f":"+VLOOKUP($C6,#REF!,6,\"false\")","v":{"$error":"#REF!"}},{"$error":"#REF!"},{"$error":"#REF!"},null,3,"","","","","","","","","","","","","","","","","","","","","","","","","",""]
[{"$error":"#REF!"},4,257,"19:17",{"$f":"+VLOOKUP($C7,#REF!,2,\"false\")","v":{"$error":"#REF!"}},{"$f":"+VLOOKUP($C7,#REF!,3,\"false\")","v":{"$error":"#REF!"}},{"$f":"+VLOOKUP($C7,#REF!,4,\"false\")","v":{"$error":"#REF!"}},{"$f":"+VLOOKUP($C7,#REF!,5,\"false\")","v":{"$error":"#REF!"}},{"$f":"+VLOOKUP($C7,#REF!,6,\"false\")","v":{"$error":"#REF!"}},{"$error":"#REF!"},{"$error":"#REF!"},null,null,"","","","","","","","","","","","","","","","","","","","","","","","","",""]
[{"$error":"#REF!"},5,261,"19:29",{"$f":"+VLOOKUP($C8,#REF!,2,\"false\")","v":{"$error":"#REF!"}},{"$f":"+VLOOKUP($C8,#REF!,3,\"false\")","v":{"$error":"#REF!"}},{"$f":"+VLOOKUP($C8,#REF!,4,\"false\")","v":{"$error":"#REF!"}},{"$f":"+VLOOKUP($C8,#REF!,5,\"false\")","v":{"$error":"#REF!"}},{"$f":"+VLOOKUP($C8,#REF!,6,\"false\")","v":{"$error":"#REF!"}},{"$error":"#REF!"},{"$error":"#REF!"},null,null,"","","","","","","","","","","","","","","","","","","","","","","","","",""]
[{"$error":"#REF!"},6,250,"19:47",{"$f":"+VLOOKUP($C9,#REF!,2,\"false\")","v":{"$error":"#REF!"}},{"$f":"+VLOOKUP($C9,#REF!,3,\"false\")","v":{"$error":"#REF!"}},{"$f":"+VLOOKUP($C9,#REF!,4,\"false\")","v":{"$error":"#REF!"}},{"$f":"+VLOOKUP($C9,#REF!,5,\"false\")","v":{"$error":"#REF!"}},{"$f":"+VLOOKUP($C9,#REF!,6,\"false\")","v":{"$error":"#REF!"}},{"$error":"#REF!"},{"$error":"#REF!"},null,null,"","","","","","","","","","","","","","","","","","","","","","","","","",""]
[{"$error":"#REF!"},7,254,"20:06",{"$f":"+VLOOKUP($C10,#REF!,2,\"false\")","v":{"$error":"#REF!"}},{"$f":"+VLOOKUP($C10,#REF!,3,\"false\")","v":{"$error":"#REF!"}},{"$f":"+VLOOKUP($C10,#REF!,4,\"false\")","v":{"$error":"#REF!"}},{"$f":"+VLOOKUP($C10,#REF!,5,\"false\")","v":{"$error":"#REF!"}},{"$f":"+VLOOKUP($C10,#REF!,6,\"false\")","v":{"$error":"#REF!"}},{"$error":"#REF!"},{"$error":"#REF!"},null,"Tot",{"$f":"IF(N6=\"\",1000,SUM(N4:N6))","v":1000},{"$f":"IF(O6=\"\",1000,SUM(O4:O6))","v":1000},1000,1000,1000,1000,1000,1000,1000,1000,1000,1000,1000,1000,1000,1000,1000,1000,1000,1000,1000,1000,1000,1000,1000,1000]
[{"$error":"#REF!"},8,256,"20:07",{"$f":"+VLOOKUP($C11,#REF!,2,\"false\")","v":{"$error":"#REF!"}},{"$f":"+VLOOKUP($C11,#REF!,3,\"false\")","v":{"$error":"#REF!"}},{"$f":"+VLOOKUP($C11,#REF!,4,\"false\")","v":{"$error":"#REF!"}},{"$f":"+VLOOKUP($C11,#REF!,5,\"false\")","v":{"$error":"#REF!"}},{"$f":"+VLOOKUP($C11,#REF!,6,\"false\")","v":{"$error":"#REF!"}},{"$error":"#REF!"},{"$error":"#REF!"},null,"Pos",{"$f":"RANK(N10,($N$10:$AM$10,$N$19:$AM$19,$N$28:$AM$28, $N$37:$AM$37),1)","v":1},{"$f":"RANK(O10,($N$10:$AM$10,$N$19:$AM$19,$N$28:$AM$28, $N$37:$AM$37),1)","v":1},{"$f":"RANK(P10,($N$10:$AM$10,$N$19:$AM$19,$N$28:$AM$28, $N$37:$AM$37),1)","v":1},{"$f":"RANK(Q10,($N$10:$AM$10,$N$19:$AM$19,$N$28:$AM$28, $N$37:$AM$37),1)","v":1},{"$f":"RANK(R10,($N$10:$AM$10,$N$19:$AM$19,$N$28:$AM$28, $N$37:$AM$37),1)","v":1},{"$f":"RANK(S10,($N$10:$AM$10,$N$19:$AM$19,$N$28:$AM$28, $N$37:$AM$37),1)","v":1},{"$f":"RANK(T10,($N$10:$AM$10,$N$19:$AM$19,$N$28:$AM$28, $N$37:$AM$37),1)","v":1},{"$f":"RANK(U10,($N$10:$AM$10,$N$19:$AM$19,$N$28:$AM$28, $N$37:$AM$37),1)","v":1},{"$f":"RANK(V10,($N$10:$AM$10,$N$19:$AM$19,$N$28:$AM$28, $N$37:$AM$37),1)","v":1},{"$f":"RANK(W10,($N$10:$AM$10,$N$19:$AM$19,$N$28:$AM$28, $N$37:$AM$37),1)","v":1},{"$f":"RANK(X10,($N$10:$AM$10,$N$19:$AM$19,$N$28:$AM$28, $N$37:$AM$37),1)","v":1},{"$f":"RANK(Y10,($N$10:$AM$10,$N$19:$AM$19,$N$28:$AM$28, $N$37:$AM$37),1)","v":1},{"$f":"RANK(Z10,($N$10:$AM$10,$N$19:$AM$19,$N$28:$AM$28, $N$37:$AM$37),1)","v":1},{"$f":"RANK(AA10,($N$10:$AM$10,$N$19:$AM$19,$N$28:$AM$28, $N$37:$AM$37),1)","v":1},{"$f":"RANK(AB10,($N$10:$AM$10,$N$19:$AM$19,$N$28:$AM$28, $N$37:$AM$37),1)","v":1},{"$f":"RANK(AC10,($N$10:$AM$10,$N$19:$AM$19,$N$28:$AM$28, $N$37:$AM$37),1)","v":1},{"$f":"RANK(AD10,($N$10:$AM$10,$N$19:$AM$19,$N$28:$AM$28, $N$37:$AM$37),1)","v":1},{"$f":"RANK(AE10,($N$10:$AM$10,$N$19:$AM$19,$N$28:$AM$28, $N$37:$AM$37),1)","v":1},{"$f":"RANK(AF10,($N$10:$AM$10,$N$19:$AM$19,$N$28:$AM$28, $N$37:$AM$37),1)","v":1},{"$f":"RANK(AG10,($N$10:$AM$10,$N$19:$AM$19,$N$28:$AM$28, $N$37:$AM$37),1)","v":1},{"$f":"RANK(AH10,($N$10:$AM$10,$N$19:$AM$19,$N$28:$AM$28, $N$37:$AM$37),1)","v":1},{"$f":"RANK(AI10,($N$10:$AM$10,$N$19:$AM$19,$N$28:$AM$28, $N$37:$AM$37),1)","v":1},{"$f":"RANK(AJ10,($N$10:$AM$10,$N$19:$AM$19,$N$28:$AM$28, $N$37:$AM$37),1)","v":1},{"$f":"RANK(AK10,($N$10:$AM$10,$N$19:$AM$19,$N$28:$AM$28, $N$37:$AM$37),1)","v":1},{"$f":"RANK(AL10,($N$10:$AM$10,$N$19:$AM$19,$N$28:$AM$28, $N$37:$AM$37),1)","v":1},{"$f":"RANK(AM10,($N$10:$AM$10,$N$19:$AM$19,$N$28:$AM$28, $N$37:$AM$37),1)","v":1}]
[{"$error":"#REF!"},9,272,"20:14",{"$f":"+VLOOKUP($C12,#REF!,2,\"false\")","v":{"$error":"#REF!"}},{"$f":"+VLOOKUP($C12,#REF!,3,\"false\")","v":{"$error":"#REF!"}},{"$f":"+VLOOKUP($C12,#REF!,4,\"false\")","v":{"$error":"#REF!"}},{"$f":"+VLOOKUP($C12,#REF!,5,\"false\")","v":{"$error":"#REF!"}},{"$f":"+VLOOKUP($C12,#REF!,6,\"false\")","v":{"$error":"#REF!"}},{"$error":"#REF!"},{"$error":"#REF!"}]
[{"$error":"#REF!"},10,273,"20:29",{"$f":"+VLOOKUP($C13,#REF!,2,\"false\")","v":{"$error":"#REF!"}},{"$f":"+VLOOKUP($C13,#REF!,3,\"false\")","v":{"$error":"#REF!"}},{"$f":"+VLOOKUP($C13,#REF!,4,\"false\")","v":{"$error":"#REF!"}},{"$f":"+VLOOKUP($C13,#REF!,5,\"false\")","v":{"$error":"#REF!"}},{"$f":"+VLOOKUP($C13,#REF!,6,\"false\")","v":{"$error":"#REF!"}},{"$error":"#REF!"},{"$error":"#REF!"},null,4,{"$f":"+IF(ISNA(VLOOKUP(N$3&\"  \"&$M13,$A$3:$I$109,2,0)),\"\",VLOOKUP(N$3&\"  \"&$M13,$A$3:$I$109,2,0))","v":""},"","","","","","","","","",{"$f":"+IF(ISNA(VLOOKUP(X$3&\"  \"&$M13,$A$3:$I$109,2,0)),\"\",VLOOKUP(X$3&\"  \"&$M13,$A$3:$I$109,2,0))","v":""},"","","","","","","","","",{"$f":"+IF(ISNA(VLOOKUP(AH$3&\"  \"&$M13,$A$3:$I$109,2,0)),\"\",VLOOKUP(AH$3&\"  \"&$M13,$A$3:$I$109,2,0))","v":""},"","","","",""]
[{"$error":"#REF!"},11,253,"20:35",{"$f":"+VLOOKUP($C14,#REF!,2,\"false\")","v":{"$error":"#REF!"}},{"$f":"+VLOOKUP($C14,#REF!,3,\"false\")","v":{"$error":"#REF!"}},{"$f":"+VLOOKUP($C14,#REF!,4,\"false\")","v":{"$error":"#REF!"}},{"$f":"+VLOOKUP($C14,#REF!,5,\"false\")","v":{"$error":"#REF!"}},{"$f":"+VLOOKUP($C14,#REF!,6,\"false\")","v":{"$error":"#REF!"}},{"$error":"#REF!"},{"$error":"#REF!"},null,5,"","","","","","","","","","","","","","","","","","","","","","","","","",""]
[{"$error":"#REF!"},12,274,"20:36",{"$f":"+VLOOKUP($C15,#REF!,2,\"false\")","v":{"$error":"#REF!"}},{"$f":"+VLOOKUP($C15,#REF!,3,\"false\")","v":{"$error":"#REF!"}},{"$f":"+VLOOKUP($C15,#REF!,4,\"false\")","v":{"$error":"#REF!"}},{"$f":"+VLOOKUP($C15,#REF!,5,\"false\")","v":{"$error":"#REF!"}},{"$f":"+VLOOKUP($C15,#REF!,6,\"false\")","v":{"$error":"#REF!"}},{"$error":"#REF!"},{"$error":"#REF!"},null,6,"","","","","","","","","","","","","","","","","","","","","","","","","",""]
[{"$error":"#REF!"},13,267,"20:56",{"$f":"+VLOOKUP($C16,#REF!,2,\"false\")","v":{"$error":"#REF!"}},{"$f":"+VLOOKUP($C16,#REF!,3,\"false\")","v":{"$error":"#REF!"}},{"$f":"+VLOOKUP($C16,#REF!,4,\"false\")","v":{"$error":"#REF!"}},{"$f":"+VLOOKUP($C16,#REF!,5,\"false\")","v":{"$error":"#REF!"}},{"$f":"+VLOOKUP($C16,#REF!,6,\"false\")","v":{"$error":"#REF!"}},{"$error":"#REF!"},{"$error":"#REF!"},null,null,"","","","","","","","","","","","","","","","","","","","","","","","","",""]
[{"$error":"#REF!"},14,268,"21:03",{"$f":"+VLOOKUP($C17,#REF!,2,\"false\")","v":{"$error":"#REF!"}},{"$f":"+VLOOKUP($C17,#REF!,3,\"false\")","v":{"$error":"#REF!"}},{"$f":"+VLOOKUP($C17,#REF!,4,\"false\")","v":{"$error":"#REF!"}},{"$f":"+VLOOKUP($C17,#REF!,5,\"false\")","v":{"$error":"#REF!"}},{"$f":"+VLOOKUP($C17,#REF!,6,\"false\")","v":{"$error":"#REF!"}},{"$error":"#REF!"},{"$error":"#REF!"},null,null,"","","","","","","","","","","","","","","","","","","","","","","","","",""]
[{"$error":"#REF!"},15,269,"21:05",{"$f":"+VLOOKUP($C18,#REF!,2,\"false\")","v":{"$error":"#REF!"}},{"$f":"+VLOOKUP($C18,#REF!,3,\"false\")","v":{"$error":"#REF!"}},{"$f":"+VLOOKUP($C18,#REF!,4,\"false\")","v":{"$error":"#REF!"}},{"$f":"+VLOOKUP($C18,#REF!,5,\"false\")","v":{"$error":"#REF!"}},{"$f":"+VLOOKUP($C18,#REF!,6,\"false\")","v":{"$error":"#REF!"}},{"$error":"#REF!"},{"$error":"#REF!"},null,null,"","","","","","","","","","","","","","","","","","","","","","","","","",""]
[{"$error":"#REF!"},16,271,"21:23",{"$f":"+VLOOKUP($C19,#REF!,2,\"false\")","v":{"$error":"#REF!"}},{"$f":"+VLOOKUP($C19,#REF!,3,\"false\")","v":{"$error":"#REF!"}},{"$f":"+VLOOKUP($C19,#REF!,4,\"false\")","v":{"$error":"#REF!"}},{"$f":"+VLOOKUP($C19,#REF!,5,\"false\")","v":{"$error":"#REF!"}},{"$f":"+VLOOKUP($C19,#REF!,6,\"false\")","v":{"$error":"#REF!"}},{"$error":"#REF!"},{"$error":"#REF!"},null,"Tot",{"$f":"IF(N15=\"\",1000,SUM(N13:N15))","v":1000},{"$f":"IF(O15=\"\",1000,SUM(O13:O15))","v":1000},1000,1000,1000,1000,1000,1000,1000,1000,1000,1000,1000,1000,1000,1000,1000,1000,1000,1000,1000,1000,1000,1000,1000,1000]
[{"$error":"#REF!"},17,258,"21:30",{"$f":"+VLOOKUP($C20,#REF!,2,\"false\")","v":{"$error":"#REF!"}},{"$f":"+VLOOKUP($C20,#REF!,3,\"false\")","v":{"$error":"#REF!"}},{"$f":"+VLOOKUP($C20,#REF!,4,\"false\")","v":{"$error":"#REF!"}},{"$f":"+VLOOKUP($C20,#REF!,5,\"false\")","v":{"$error":"#REF!"}},{"$f":"+VLOOKUP($C20,#REF!,6,\"false\")","v":{"$error":"#REF!"}},{"$error":"#REF!"},{"$error":"#REF!"},null,"Pos",{"$f":"RANK(N19,($N$10:$AM$10,$N$19:$AM$19,$N$28:$AM$28, $N$37:$AM$37),1)","v":1},{"$f":"RANK(O19,($N$10:$AM$10,$N$19:$AM$19,$N$28:$AM$28, $N$37:$AM$37),1)","v":1},{"$f":"RANK(P19,($N$10:$AM$10,$N$19:$AM$19,$N$28:$AM$28, $N$37:$AM$37),1)","v":1},{"$f":"RANK(Q19,($N$10:$AM$10,$N$19:$AM$19,$N$28:$AM$28, $N$37:$AM$37),1)","v":1},{"$f":"RANK(R19,($N$10:$AM$10,$N$19:$AM$19,$N$28:$AM$28, $N$37:$AM$37),1)","v":1},{"$f":"RANK(S19,($N$10:$AM$10,$N$19:$AM$19,$N$28:$AM$28, $N$37:$AM$37),1)","v":1},{"$f":"RANK(T19,($N$10:$AM$10,$N$19:$AM$19,$N$28:$AM$28, $N$37:$AM$37),1)","v":1},{"$f":"RANK(U19,($N$10:$AM$10,$N$19:$AM$19,$N$28:$AM$28, $N$37:$AM$37),1)","v":1},{"$f":"RANK(V19,($N$10:$AM$10,$N$19:$AM$19,$N$28:$AM$28, $N$37:$AM$37),1)","v":1},{"$f":"RANK(W19,($N$10:$AM$10,$N$19:$AM$19,$N$28:$AM$28, $N$37:$AM$37),1)","v":1},{"$f":"RANK(X19,($N$10:$AM$10,$N$19:$AM$19,$N$28:$AM$28, $N$37:$AM$37),1)","v":1},{"$f":"RANK(Y19,($N$10:$AM$10,$N$19:$AM$19,$N$28:$AM$28, $N$37:$AM$37),1)","v":1},{"$f":"RANK(Z19,($N$10:$AM$10,$N$19:$AM$19,$N$28:$AM$28, $N$37:$AM$37),1)","v":1},{"$f":"RANK(AA19,($N$10:$AM$10,$N$19:$AM$19,$N$28:$AM$28, $N$37:$AM$37),1)","v":1},{"$f":"RANK(AB19,($N$10:$AM$10,$N$19:$AM$19,$N$28:$AM$28, $N$37:$AM$37),1)","v":1},{"$f":"RANK(AC19,($N$10:$AM$10,$N$19:$AM$19,$N$28:$AM$28, $N$37:$AM$37),1)","v":1},{"$f":"RANK(AD19,($N$10:$AM$10,$N$19:$AM$19,$N$28:$AM$28, $N$37:$AM$37),1)","v":1},{"$f":"RANK(AE19,($N$10:$AM$10,$N$19:$AM$19,$N$28:$AM$28, $N$37:$AM$37),1)","v":1},{"$f":"RANK(AF19,($N$10:$AM$10,$N$19:$AM$19,$N$28:$AM$28, $N$37:$AM$37),1)","v":1},{"$f":"RANK(AG19,($N$10:$AM$10,$N$19:$AM$19,$N$28:$AM$28, $N$37:$AM$37),1)","v":1},{"$f":"RANK(AH19,($N$10:$AM$10,$N$19:$AM$19,$N$28:$AM$28, $N$37:$AM$37),1)","v":1},{"$f":"RANK(AI19,($N$10:$AM$10,$N$19:$AM$19,$N$28:$AM$28, $N$37:$AM$37),1)","v":1},{"$f":"RANK(AJ19,($N$10:$AM$10,$N$19:$AM$19,$N$28:$AM$28, $N$37:$AM$37),1)","v":1},{"$f":"RANK(AK19,($N$10:$AM$10,$N$19:$AM$19,$N$28:$AM$28, $N$37:$AM$37),1)","v":1},{"$f":"RANK(AL19,($N$10:$AM$10,$N$19:$AM$19,$N$28:$AM$28, $N$37:$AM$37),1)","v":1},{"$f":"RANK(AM19,($N$10:$AM$10,$N$19:$AM$19,$N$28:$AM$28, $N$37:$AM$37),1)","v":1}]
[{"$error":"#REF!"},18,260,"21:53",{"$f":"+VLOOKUP($C21,#REF!,2,\"false\")","v":{"$error":"#REF!"}},{"$f":"+VLOOKUP($C21,#REF!,3,\"false\")","v":{"$error":"#REF!"}},{"$f":"+VLOOKUP($C21,#REF!,4,\"false\")","v":{"$error":"#REF!"}},{"$f":"+VLOOKUP($C21,#REF!,5,\"false\")","v":{"$error":"#REF!"}},{"$f":"+VLOOKUP($C21,#REF!,6,\"false\")","v":{"$error":"#REF!"}},{"$error":"#REF!"},{"$f":"+G21&\"  \"&J21","v":{"$error":"#REF!"}}]
[{"$error":"#REF!"},19,262,"21:54",{"$f":"+VLOOKUP($C22,#REF!,2,\"false\")","v":{"$error":"#REF!"}},{"$f":"+VLOOKUP($C22,#REF!,3,\"false\")","v":{"$error":"#REF!"}},{"$f":"+VLOOKUP($C22,#REF!,4,\"false\")","v":{"$error":"#REF!"}},{"$f":"+VLOOKUP($C22,#REF!,5,\"false\")","v":{"$error":"#REF!"}},{"$f":"+VLOOKUP($C22,#REF!,6,\"false\")","v":{"$error":"#REF!"}},{"$error":"#REF!"},{"$error":"#REF!"},null,7,{"$f":"+IF(ISNA(VLOOKUP(N$3&\"  \"&$M22,$A$3:$I$109,2,0)),\"\",VLOOKUP(N$3&\"  \"&$M22,$A$3:$I$109,2,0))","v":""},"","","","","","","","","",{"$f":"+IF(ISNA(VLOOKUP(X$3&\"  \"&$M22,$A$3:$I$109,2,0)),\"\",VLOOKUP(X$3&\"  \"&$M22,$A$3:$I$109,2,0))","v":""},"","","","","","","","","",{"$f":"+IF(ISNA(VLOOKUP(AH$3&\"  \"&$M22,$A$3:$I$109,2,0)),\"\",VLOOKUP(AH$3&\"  \"&$M22,$A$3:$I$109,2,0))","v":""},"","","","",""]
[{"$error":"#REF!"},20,265,"23:15",{"$f":"+VLOOKUP($C23,#REF!,2,\"false\")","v":{"$error":"#REF!"}},{"$f":"+VLOOKUP($C23,#REF!,3,\"false\")","v":{"$error":"#REF!"}},{"$f":"+VLOOKUP($C23,#REF!,4,\"false\")","v":{"$error":"#REF!"}},{"$f":"+VLOOKUP($C23,#REF!,5,\"false\")","v":{"$error":"#REF!"}},{"$f":"+VLOOKUP($C23,#REF!,6,\"false\")","v":{"$error":"#REF!"}},{"$error":"#REF!"},{"$error":"#REF!"},null,8,"","","","","","","","","","","","","","","","","","","","","","","","","",""]
[{"$error":"#REF!"},21,264,"23:47",{"$f":"+VLOOKUP($C24,#REF!,2,\"false\")","v":{"$error":"#REF!"}},{"$f":"+VLOOKUP($C24,#REF!,3,\"false\")","v":{"$error":"#REF!"}},{"$f":"+VLOOKUP($C24,#REF!,4,\"false\")","v":{"$error":"#REF!"}},{"$f":"+VLOOKUP($C24,#REF!,5,\"false\")","v":{"$error":"#REF!"}},{"$f":"+VLOOKUP($C24,#REF!,6,\"false\")","v":{"$error":"#REF!"}},{"$error":"#REF!"},{"$error":"#REF!"},null,9,"","","","","","","","","","","","","","","","","","","","","","","","","",""]
[{"$error":"#REF!"},22,263,"23:54",{"$f":"+VLOOKUP($C25,#REF!,2,\"false\")","v":{"$error":"#REF!"}},{"$f":"+VLOOKUP($C25,#REF!,3,\"false\")","v":{"$error":"#REF!"}},{"$f":"+VLOOKUP($C25,#REF!,4,\"false\")","v":{"$error":"#REF!"}},{"$f":"+VLOOKUP($C25,#REF!,5,\"false\")","v":{"$error":"#REF!"}},{"$f":"+VLOOKUP($C25,#REF!,6,\"false\")","v":{"$error":"#REF!"}},{"$error":"#REF!"},{"$error":"#REF!"},null,null,"","","","","","","","","","","","","","","","","","","","","","","","","",""]
[{"$error":"#REF!"},23,270,"24:09",{"$f":"+VLOOKUP($C26,#REF!,2,\"false\")","v":{"$error":"#REF!"}},{"$f":"+VLOOKUP($C26,#REF!,3,\"false\")","v":{"$error":"#REF!"}},{"$f":"+VLOOKUP($C26,#REF!,4,\"false\")","v":{"$error":"#REF!"}},{"$f":"+VLOOKUP($C26,#REF!,5,\"false\")","v":{"$error":"#REF!"}},{"$f":"+VLOOKUP($C26,#REF!,6,\"false\")","v":{"$error":"#REF!"}},{"$error":"#REF!"},{"$error":"#REF!"},null,null,"","","","","","","","","","","","","","","","","","","","","","","","","",""]
[{"$error":"#REF!"},24,275,"26:03",{"$f":"+VLOOKUP($C27,#REF!,2,\"false\")","v":{"$error":"#REF!"}},{"$f":"+VLOOKUP($C27,#REF!,3,\"false\")","v":{"$error":"#REF!"}},{"$f":"+VLOOKUP($C27,#REF!,4,\"false\")","v":{"$error":"#REF!"}},{"$f":"+VLOOKUP($C27,#REF!,5,\"false\")","v":{"$error":"#REF!"}},{"$f":"+VLOOKUP($C27,#REF!,6,\"false\")","v":{"$error":"#REF!"}},{"$error":"#REF!"},{"$error":"#REF!"},null,null,"","","","","","","","","","","","","","","","","","","","","","","","","",""]
[{"$nulls":12},"Tot",{"$f":"IF(N24=\"\",1000,SUM(N22:N24))","v":1000},{"$f":"IF(O24=\"\",1000,SUM(O22:O24))","v":1000},1000,1000,1000,1000,1000,1000,1000,1000,1000,1000,1000,1000,1000,1000,1000,1000,1000,1000,1000,1000,1000,1000,1000,1000]
[{"$nulls":12},"Pos",{"$f":"RANK(N28,($N$10:$AM$10,$N$19:$AM$19,$N$28:$AM$28, $N$37:$AM$37),1)","v":1},{"$f":"RANK(O28,($N$10:$AM$10,$N$19:$AM$19,$N$28:$AM$28, $N$37:$AM$37),1)","v":1},{"$f":"RANK(P28,($N$10:$AM$10,$N$19:$AM$19,$N$28:$AM$28, $N$37:$AM$37),1)","v":1},{"$f":"RANK(Q28,($N$10:$AM$10,$N$19:$AM$19,$N$28:$AM$28, $N$37:$AM$37),1)","v":1},{"$f":"RANK(R28,($N$10:$AM$10,$N$19:$AM$19,$N$28:$AM$28, $N$37:$AM$37),1)","v":1},{"$f":"RANK(S28,($N$10:$AM$10,$N$19:$AM$19,$N$28:$AM$28, $N$37:$AM$37),1)","v":1},{"$f":"RANK(T28,($N$10:$AM$10,$N$19:$AM$19,$N$28:$AM$28, $N$37:$AM$37),1)","v":1},{"$f":"RANK(U28,($N$10:$AM$10,$N$19:$AM$19,$N$28:$AM$28, $N$37:$AM$37),1)","v":1},{"$f":"RANK(V28,($N$10:$AM$10,$N$19:$AM$19,$N$28:$AM$28, $N$37:$AM$37),1)","v":1},{"$f":"RANK(W28,($N$10:$AM$10,$N$19:$AM$19,$N$28:$AM$28, $N$37:$AM$37),1)","v":1},{"$f":"RANK(X28,($N$10:$AM$10,$N$19:$AM$19,$N$28:$AM$28, $N$37:$AM$37),1)","v":1},{"$f":"RANK(Y28,($N$10:$AM$10,$N$19:$AM$19,$N$28:$AM$28, $N$37:$AM$37),1)","v":1},{"$f":"RANK(Z28,($N$10:$AM$10,$N$19:$AM$19,$N$28:$AM$28, $N$37:$AM$37),1)","v":1},{"$f":"RANK(AA28,($N$10:$AM$10,$N$19:$AM$19,$N$28:$AM$28, $N$37:$AM$37),1)","v":1},{"$f":"RANK(AB28,($N$10:$AM$10,$N$19:$AM$19,$N$28:$AM$28, $N$37:$AM$37),1)","v":1},{"$f":"RANK(AC28,($N$10:$AM$10,$N$19:$AM$19,$N$28:$AM$28, $N$37:$AM$37),1)","v":1},{"$f":"RANK(AD28,($N$10:$AM$10,$N$19:$AM$19,$N$28:$AM$28, $N$37:$AM$37),1)","v":1},{"$f":"RANK(AE28,($N$10:$AM$10,$N$19:$AM$19,$N$28:$AM$28, $N$37:$AM$37),1)","v":1},{"$f":"RANK(AF28,($N$10:$AM$10,$N$19:$AM$19,$N$28:$AM$28, $N$37:$AM$37),1)","v":1},{"$f":"RANK(AG28,($N$10:$AM$10,$N$19:$AM$19,$N$28:$AM$28, $N$37:$AM$37),1)","v":1},{"$f":"RANK(AH28,($N$10:$AM$10,$N$19:$AM$19,$N$28:$AM$28, $N$37:$AM$37),1)","v":1},{"$f":"RANK(AI28,($N$10:$AM$10,$N$19:$AM$19,$N$28:$AM$28, $N$37:$AM$37),1)","v":1},{"$f":"RANK(AJ28,($N$10:$AM$10,$N$19:$AM$19,$N$28:$AM$28, $N$37:$AM$37),1)","v":1},{"$f":"RANK(AK28,($N$10:$AM$10,$N$19:$AM$19,$N$28:$AM$28, $N$37:$AM$37),1)","v":1},{"$f":"RANK(AL28,($N$10:$AM$10,$N$19:$AM$19,$N$28:$AM$28, $N$37:$AM$37),1)","v":1},{"$f":"RANK(AM28,($N$10:$AM$10,$N$19:$AM$19,$N$28:$AM$28, $N$37:$AM$37),1)","v":1}]
[]
[{"$nulls":12},10,{"$f":"+IF(ISNA(VLOOKUP(N$3&\"  \"&$M31,$A$3:$I$109,2,0)),\"\",VLOOKUP(N$3&\"  \"&$M31,$A$3:$I$109,2,0))","v":""},"","","","","","","","","",{"$f":"+IF(ISNA(VLOOKUP(X$3&\"  \"&$M31,$A$3:$I$109,2,0)),\"\",VLOOKUP(X$3&\"  \"&$M31,$A$3:$I$109,2,0))","v":""},"","","","","","","","","",{"$f":"+IF(ISNA(VLOOKUP(AH$3&\"  \"&$M31,$A$3:$I$109,2,0)),\"\",VLOOKUP(AH$3&\"  \"&$M31,$A$3:$I$109,2,0))","v":""},"","","","",""]
[{"$nulls":12},11,"","","","","","","","","","","","","","","","","","","","","","","","","",""]
[{"$nulls":12},12,"","","","","","","","","","","","","","","","","","","","","","","","","",""]
[{"$nulls":13},"","","","","","","","","","","","","","","","","","","","","","","","","",""]
[{"$nulls":13},"","","","","","","","","","","","","","","","","","","","","","","","","",""]
[{"$nulls":13},"","","","","","","","","","","","","","","","","","","","","","","","","",""]
[{"$nulls":12},"Tot",{"$f":"IF(N33=\"\",1000,SUM(N31:N33))","v":1000},{"$f":"IF(O33=\"\",1000,SUM(O31:O33))","v":1000},1000,1000,1000,1000,1000,1000,1000,1000,1000,1000,1000,1000,1000,1000,1000,1000,1000,1000,1000,1000,1000,1000,1000,1000]
[{"$nulls":12},"Pos",{"$f":"RANK(N37,($N$10:$AM$10,$N$19:$AM$19,$N$28:$AM$28, $N$37:$AM$37),1)","v":1},{"$f":"RANK(O37,($N$10:$AM$10,$N$19:$AM$19,$N$28:$AM$28, $N$37:$AM$37),1)","v":1},{"$f":"RANK(P37,($N$10:$AM$10,$N$19:$AM$19,$N$28:$AM$28, $N$37:$AM$37),1)","v":1},{"$f":"RANK(Q37,($N$10:$AM$10,$N$19:$AM$19,$N$28:$AM$28, $N$37:$AM$37),1)","v":1},{"$f":"RANK(R37,($N$10:$AM$10,$N$19:$AM$19,$N$28:$AM$28, $N$37:$AM$37),1)","v":1},{"$f":"RANK(S37,($N$10:$AM$10,$N$19:$AM$19,$N$28:$AM$28, $N$37:$AM$37),1)","v":1},{"$f":"RANK(T37,($N$10:$AM$10,$N$19:$AM$19,$N$28:$AM$28, $N$37:$AM$37),1)","v":1},{"$f":"RANK(U37,($N$10:$AM$10,$N$19:$AM$19,$N$28:$AM$28, $N$37:$AM$37),1)","v":1},{"$f":"RANK(V37,($N$10:$AM$10,$N$19:$AM$19,$N$28:$AM$28, $N$37:$AM$37),1)","v":1},{"$f":"RANK(W37,($N$10:$AM$10,$N$19:$AM$19,$N$28:$AM$28, $N$37:$AM$37),1)","v":1},{"$f":"RANK(X37,($N$10:$AM$10,$N$19:$AM$19,$N$28:$AM$28, $N$37:$AM$37),1)","v":1},{"$f":"RANK(Y37,($N$10:$AM$10,$N$19:$AM$19,$N$28:$AM$28, $N$37:$AM$37),1)","v":1},{"$f":"RANK(Z37,($N$10:$AM$10,$N$19:$AM$19,$N$28:$AM$28, $N$37:$AM$37),1)","v":1},{"$f":"RANK(AA37,($N$10:$AM$10,$N$19:$AM$19,$N$28:$AM$28, $N$37:$AM$37),1)","v":1},{"$f":"RANK(AB37,($N$10:$AM$10,$N$19:$AM$19,$N$28:$AM$28, $N$37:$AM$37),1)","v":1},{"$f":"RANK(AC37,($N$10:$AM$10,$N$19:$AM$19,$N$28:$AM$28, $N$37:$AM$37),1)","v":1},{"$f":"RANK(AD37,($N$10:$AM$10,$N$19:$AM$19,$N$28:$AM$28, $N$37:$AM$37),1)","v":1},{"$f":"RANK(AE37,($N$10:$AM$10,$N$19:$AM$19,$N$28:$AM$28, $N$37:$AM$37),1)","v":1},{"$f":"RANK(AF37,($N$10:$AM$10,$N$19:$AM$19,$N$28:$AM$28, $N$37:$AM$37),1)","v":1},{"$f":"RANK(AG37,($N$10:$AM$10,$N$19:$AM$19,$N$28:$AM$28, $N$37:$AM$37),1)","v":1},{"$f":"RANK(AH37,($N$10:$AM$10,$N$19:$AM$19,$N$28:$AM$28, $N$37:$AM$37),1)","v":1},{"$f":"RANK(AI37,($N$10:$AM$10,$N$19:$AM$19,$N$28:$AM$28, $N$37:$AM$37),1)","v":1},{"$f":"RANK(AJ37,($N$10:$AM$10,$N$19:$AM$19,$N$28:$AM$28, $N$37:$AM$37),1)","v":1},{"$f":"RANK(AK37,($N$10:$AM$10,$N$19:$AM$19,$N$28:$AM$28, $N$37:$AM$37),1)","v":1},{"$f":"RANK(AL37,($N$10:$AM$10,$N$19:$AM$19,$N$28:$AM$28, $N$37:$AM$37),1)","v":1},{"$f":"RANK(AM37,($N$10:$AM$10,$N$19:$AM$19,$N$28:$AM$28, $N$37:$AM$37),1)","v":1}]
{"$rows_empty":61}
[{"$nulls":13},"B&H"]
[{"$nulls":13},"LEW"]
[{"$nulls":13},"PHX"]
[{"$nulls":13},"WDH"]
[{"$nulls":13},"HAS"]
[{"$nulls":13},"CRA"]
[{"$nulls":13},"EBR"]
[null,"Pos","Bib","Time"]
[null,1,255,"18:48"]
[null,{"$f":"+B108+1","v":2},266,"18:56"]
[null,{"$f":"+B109+1","v":3},252,"19:14"]
[null,4,257,"19:17"]
[null,5,261,"19:29"]
[null,6,250,"19:47"]
[null,7,254,"20:06"]
[null,8,256,"20:07"]
[null,9,272,"20:14"]
[null,10,273,"20:29"]
[null,11,253,"20:35"]
[null,12,274,"20:36"]
[null,13,267,"20:56"]
[null,14,268,"21:03"]
[null,15,269,"21:05"]
[null,16,271,"21:23"]
[null,17,258,"21:30"]
[null,18,260,"21:53"]
[null,19,262,"21:54"]
[null,20,265,"23:15"]
[null,21,264,"23:47"]
[null,22,263,"23:54"]
[null,23,270,"24:09"]
[null,24,275,"26:03"]
[null,25]
[null,26]
[null,27]
[null,28]
[null,29]
[null,30]
[null,31]
[null,32]
[null,33]
[null,34]
[null,35]
[null,36]
[null,37]
[null,38]
[null,39]
[null,40]
[null,41]
[null,42]
[null,43]
[null,44]
[null,45]
[null,46]
[null,47]
[null,48]
[null,49]
[null,50]
[null,51]
[null,52]
[null,53]
[null,54]
[null,55]
[null,56]
[null,57]
[null,58]
[null,59]
[null,60]
[null,61]
[null,62]
[null,63]
[null,64]
[null,65]
[null,66]
[null,{"$f":"+B173+1","v":67}]
[null,68]
[null,69]
[null,70]
[null,71]
[null,72]
[null,73]
[null,74]
[null,75]
[null,76]
[null,77]
[null,78]
[null,79]
[null,80]
[null,81]
[null,82]
[null,83]
[null,84]
[null,85]
[null,86]
[null,87]
[null,88]
[null,89]
[null,90]
[null,91]
[null,92]
[null,93]
[null,94]
[null,95]
[null,96]
[null,97]
[null,98]
[null,99]
[null,100]

{"sheet":"U20M","index":8,"n_rows":284,"n_cols":39,"rows_kept":284,"hidden":true,"merged":[[0,1,0,6],[1,1,1,8]]}
[null,"Sussex Athletics XC Championships\nBexhill, 07/01/2023",{"$nulls":11},"26 clubs - cols N to AM"]
[null,"U20 Men"]
["Temp","Pos","Bib","Time","Forename","Surname","Club","Cat ","Sex","Rk","Club Rk",null,null,"PHX","B&H","CRA","WDH","HBS"]
[{"$f":"+K4","v":{"$error":"#REF!"}},1,298,"29:38",{"$f":"+VLOOKUP($C4,#REF!,2,\"false\")","v":{"$error":"#REF!"}},{"$f":"+VLOOKUP($C4,#REF!,3,\"false\")","v":{"$error":"#REF!"}},{"$f":"+VLOOKUP($C4,#REF!,4,\"false\")","v":{"$error":"#REF!"}},{"$f":"+VLOOKUP($C4,#REF!,5,\"false\")","v":{"$error":"#REF!"}},{"$f":"+VLOOKUP($C4,#REF!,6,\"false\")","v":{"$error":"#REF!"}},{"$f":"TEXT(SUMPRODUCT(--(G4=$G$4:$G$598),--(B4>$B$4:$B$598))+1,0)","v":{"$error":"#REF!"}},{"$f":"+G4&\"  \"&J4","v":{"$error":"#REF!"}},null,1,{"$f":"+IF(ISNA(VLOOKUP(N$3&\"  \"&$M4,$A$3:$I$110,2,0)),\"\",VLOOKUP(N$3&\"  \"&$M4,$A$3:$I$110,2,0))","v":""},{"$f":"+IF(ISNA(VLOOKUP(O$3&\"  \"&$M4,$A$3:$I$110,2,0)),\"\",VLOOKUP(O$3&\"  \"&$M4,$A$3:$I$110,2,0))","v":""},"","","","","","","","","","","","","","","","","","","","","","","",""]
[{"$error":"#REF!"},{"$f":"+B4+1","v":2},307,"29:51",{"$f":"+VLOOKUP($C5,#REF!,2,\"false\")","v":{"$error":"#REF!"}},{"$f":"+VLOOKUP($C5,#REF!,3,\"false\")","v":{"$error":"#REF!"}},{"$f":"+VLOOKUP($C5,#REF!,4,\"false\")","v":{"$error":"#REF!"}},{"$f":"+VLOOKUP($C5,#REF!,5,\"false\")","v":{"$error":"#REF!"}},{"$f":"+VLOOKUP($C5,#REF!,6,\"false\")","v":{"$error":"#REF!"}},{"$f":"TEXT(SUMPRODUCT(--(G5=$G$4:$G$598),--(B5>$B$4:$B$598))+1,0)","v":{"$error":"#REF!"}},{"$f":"+G5&\"  \"&J5","v":{"$error":"#REF!"}},null,2,"",{"$f":"+IF(ISNA(VLOOKUP(O$3&\"  \"&$M5,$A$3:$I$110,2,0)),\"\",VLOOKUP(O$3&\"  \"&$M5,$A$3:$I$110,2,0))","v":""},"","","","","","","","","","","","","","","","","","","","","","","",""]
[{"$error":"#REF!"},{"$f":"+B5+1","v":3},299,"30:23",{"$f":"+VLOOKUP($C6,#REF!,2,\"false\")","v":{"$error":"#REF!"}},{"$f":"+VLOOKUP($C6,#REF!,3,\"false\")","v":{"$error":"#REF!"}},{"$f":"+VLOOKUP($C6,#REF!,4,\"false\")","v":{"$error":"#REF!"}},{"$f":"+VLOOKUP($C6,#REF!,5,\"false\")","v":{"$error":"#REF!"}},{"$f":"+VLOOKUP($C6,#REF!,6,\"false\")","v":{"$error":"#REF!"}},{"$error":"#REF!"},{"$error":"#REF!"},null,3,"","","","","","","","","","","","","","","","","","","","","","","","","",""]
[{"$error":"#REF!"},4,309,"30:25",{"$f":"+VLOOKUP($C7,#REF!,2,\"false\")","v":{"$error":"#REF!"}},{"$f":"+VLOOKUP($C7,#REF!,3,\"false\")","v":{"$error":"#REF!"}},{"$f":"+VLOOKUP($C7,#REF!,4,\"false\")","v":{"$error":"#REF!"}},{"$f":"+VLOOKUP($C7,#REF!,5,\"false\")","v":{"$error":"#REF!"}},{"$f":"+VLOOKUP($C7,#REF!,6,\"false\")","v":{"$error":"#REF!"}},{"$error":"#REF!"},{"$error":"#REF!"},null,null,"","","","","","","","","","","","","","","","","","","","","","","","","",""]
[{"$error":"#REF!"},5,500,"30:30",{"$f":"+VLOOKUP($C8,#REF!,2,\"false\")","v":{"$error":"#REF!"}},{"$f":"+VLOOKUP($C8,#REF!,3,\"false\")","v":{"$error":"#REF!"}},{"$f":"+VLOOKUP($C8,#REF!,4,\"false\")","v":{"$error":"#REF!"}},{"$f":"+VLOOKUP($C8,#REF!,5,\"false\")","v":{"$error":"#REF!"}},{"$f":"+VLOOKUP($C8,#REF!,6,\"false\")","v":{"$error":"#REF!"}},{"$error":"#REF!"},{"$error":"#REF!"},null,null,"","","","","","","","","","","","","","","","","","","","","","","","","",""]
[{"$error":"#REF!"},6,303,"31:40",{"$f":"+VLOOKUP($C9,#REF!,2,\"false\")","v":{"$error":"#REF!"}},{"$f":"+VLOOKUP($C9,#REF!,3,\"false\")","v":{"$error":"#REF!"}},{"$f":"+VLOOKUP($C9,#REF!,4,\"false\")","v":{"$error":"#REF!"}},{"$f":"+VLOOKUP($C9,#REF!,5,\"false\")","v":{"$error":"#REF!"}},{"$f":"+VLOOKUP($C9,#REF!,6,\"false\")","v":{"$error":"#REF!"}},{"$error":"#REF!"},{"$error":"#REF!"},null,null,"","","","","","","","","","","","","","","","","","","","","","","","","",""]
[{"$error":"#REF!"},7,302,"32:31",{"$f":"+VLOOKUP($C10,#REF!,2,\"false\")","v":{"$error":"#REF!"}},{"$f":"+VLOOKUP($C10,#REF!,3,\"false\")","v":{"$error":"#REF!"}},{"$f":"+VLOOKUP($C10,#REF!,4,\"false\")","v":{"$error":"#REF!"}},{"$f":"+VLOOKUP($C10,#REF!,5,\"false\")","v":{"$error":"#REF!"}},{"$f":"+VLOOKUP($C10,#REF!,6,\"false\")","v":{"$error":"#REF!"}},{"$error":"#REF!"},{"$error":"#REF!"},null,"Tot",{"$f":"IF(N6=\"\",1000,SUM(N4:N6))","v":1000},{"$f":"IF(O6=\"\",1000,SUM(O4:O6))","v":1000},1000,1000,1000,1000,1000,1000,1000,1000,1000,1000,1000,1000,1000,1000,1000,1000,1000,1000,1000,1000,1000,1000,1000,1000]
[{"$error":"#REF!"},8,297,"32:38",{"$f":"+VLOOKUP($C11,#REF!,2,\"false\")","v":{"$error":"#REF!"}},{"$f":"+VLOOKUP($C11,#REF!,3,\"false\")","v":{"$error":"#REF!"}},{"$f":"+VLOOKUP($C11,#REF!,4,\"false\")","v":{"$error":"#REF!"}},{"$f":"+VLOOKUP($C11,#REF!,5,\"false\")","v":{"$error":"#REF!"}},{"$f":"+VLOOKUP($C11,#REF!,6,\"false\")","v":{"$error":"#REF!"}},{"$error":"#REF!"},{"$error":"#REF!"},null,"Pos",{"$f":"RANK(N10,($N$10:$AM$10,$N$19:$AM$19,$N$28:$AM$28, $N$37:$AM$37),1)","v":1},{"$f":"RANK(O10,($N$10:$AM$10,$N$19:$AM$19,$N$28:$AM$28, $N$37:$AM$37),1)","v":1},{"$f":"RANK(P10,($N$10:$AM$10,$N$19:$AM$19,$N$28:$AM$28, $N$37:$AM$37),1)","v":1},{"$f":"RANK(Q10,($N$10:$AM$10,$N$19:$AM$19,$N$28:$AM$28, $N$37:$AM$37),1)","v":1},{"$f":"RANK(R10,($N$10:$AM$10,$N$19:$AM$19,$N$28:$AM$28, $N$37:$AM$37),1)","v":1},{"$f":"RANK(S10,($N$10:$AM$10,$N$19:$AM$19,$N$28:$AM$28, $N$37:$AM$37),1)","v":1},{"$f":"RANK(T10,($N$10:$AM$10,$N$19:$AM$19,$N$28:$AM$28, $N$37:$AM$37),1)","v":1},{"$f":"RANK(U10,($N$10:$AM$10,$N$19:$AM$19,$N$28:$AM$28, $N$37:$AM$37),1)","v":1},{"$f":"RANK(V10,($N$10:$AM$10,$N$19:$AM$19,$N$28:$AM$28, $N$37:$AM$37),1)","v":1},{"$f":"RANK(W10,($N$10:$AM$10,$N$19:$AM$19,$N$28:$AM$28, $N$37:$AM$37),1)","v":1},{"$f":"RANK(X10,($N$10:$AM$10,$N$19:$AM$19,$N$28:$AM$28, $N$37:$AM$37),1)","v":1},{"$f":"RANK(Y10,($N$10:$AM$10,$N$19:$AM$19,$N$28:$AM$28, $N$37:$AM$37),1)","v":1},{"$f":"RANK(Z10,($N$10:$AM$10,$N$19:$AM$19,$N$28:$AM$28, $N$37:$AM$37),1)","v":1},{"$f":"RANK(AA10,($N$10:$AM$10,$N$19:$AM$19,$N$28:$AM$28, $N$37:$AM$37),1)","v":1},{"$f":"RANK(AB10,($N$10:$AM$10,$N$19:$AM$19,$N$28:$AM$28, $N$37:$AM$37),1)","v":1},{"$f":"RANK(AC10,($N$10:$AM$10,$N$19:$AM$19,$N$28:$AM$28, $N$37:$AM$37),1)","v":1},{"$f":"RANK(AD10,($N$10:$AM$10,$N$19:$AM$19,$N$28:$AM$28, $N$37:$AM$37),1)","v":1},{"$f":"RANK(AE10,($N$10:$AM$10,$N$19:$AM$19,$N$28:$AM$28, $N$37:$AM$37),1)","v":1},{"$f":"RANK(AF10,($N$10:$AM$10,$N$19:$AM$19,$N$28:$AM$28, $N$37:$AM$37),1)","v":1},{"$f":"RANK(AG10,($N$10:$AM$10,$N$19:$AM$19,$N$28:$AM$28, $N$37:$AM$37),1)","v":1},{"$f":"RANK(AH10,($N$10:$AM$10,$N$19:$AM$19,$N$28:$AM$28, $N$37:$AM$37),1)","v":1},{"$f":"RANK(AI10,($N$10:$AM$10,$N$19:$AM$19,$N$28:$AM$28, $N$37:$AM$37),1)","v":1},{"$f":"RANK(AJ10,($N$10:$AM$10,$N$19:$AM$19,$N$28:$AM$28, $N$37:$AM$37),1)","v":1},{"$f":"RANK(AK10,($N$10:$AM$10,$N$19:$AM$19,$N$28:$AM$28, $N$37:$AM$37),1)","v":1},{"$f":"RANK(AL10,($N$10:$AM$10,$N$19:$AM$19,$N$28:$AM$28, $N$37:$AM$37),1)","v":1},{"$f":"RANK(AM10,($N$10:$AM$10,$N$19:$AM$19,$N$28:$AM$28, $N$37:$AM$37),1)","v":1}]
[{"$error":"#REF!"},9,311,"33:18",{"$f":"+VLOOKUP($C12,#REF!,2,\"false\")","v":{"$error":"#REF!"}},{"$f":"+VLOOKUP($C12,#REF!,3,\"false\")","v":{"$error":"#REF!"}},{"$f":"+VLOOKUP($C12,#REF!,4,\"false\")","v":{"$error":"#REF!"}},{"$f":"+VLOOKUP($C12,#REF!,5,\"false\")","v":{"$error":"#REF!"}},{"$f":"+VLOOKUP($C12,#REF!,6,\"false\")","v":{"$error":"#REF!"}},{"$error":"#REF!"},{"$error":"#REF!"}]
[{"$error":"#REF!"},10,304,"34:08",{"$f":"+VLOOKUP($C13,#REF!,2,\"false\")","v":{"$error":"#REF!"}},{"$f":"+VLOOKUP($C13,#REF!,3,\"false\")","v":{"$error":"#REF!"}},{"$f":"+VLOOKUP($C13,#REF!,4,\"false\")","v":{"$error":"#REF!"}},{"$f":"+VLOOKUP($C13,#REF!,5,\"false\")","v":{"$error":"#REF!"}},{"$f":"+VLOOKUP($C13,#REF!,6,\"false\")","v":{"$error":"#REF!"}},{"$error":"#REF!"},{"$error":"#REF!"},null,4,{"$f":"+IF(ISNA(VLOOKUP(N$3&\"  \"&$M13,$A$3:$I$110,2,0)),\"\",VLOOKUP(N$3&\"  \"&$M13,$A$3:$I$110,2,0))","v":""},{"$f":"+IF(ISNA(VLOOKUP(O$3&\"  \"&$M13,$A$3:$I$110,2,0)),\"\",VLOOKUP(O$3&\"  \"&$M13,$A$3:$I$110,2,0))","v":""},"","","","","","","","","","","","","","","",{"$f":"+IF(ISNA(VLOOKUP(AE$3&\"  \"&$M13,$A$3:$I$110,2,0)),\"\",VLOOKUP(AE$3&\"  \"&$M13,$A$3:$I$110,2,0))","v":""},"","","","","","","",""]
[{"$error":"#REF!"},11,310,"35:04",{"$f":"+VLOOKUP($C14,#REF!,2,\"false\")","v":{"$error":"#REF!"}},{"$f":"+VLOOKUP($C14,#REF!,3,\"false\")","v":{"$error":"#REF!"}},{"$f":"+VLOOKUP($C14,#REF!,4,\"false\")","v":{"$error":"#REF!"}},{"$f":"+VLOOKUP($C14,#REF!,5,\"false\")","v":{"$error":"#REF!"}},{"$f":"+VLOOKUP($C14,#REF!,6,\"false\")","v":{"$error":"#REF!"}},{"$error":"#REF!"},{"$error":"#REF!"},null,5,"","","","","","","","","","","","","","","","","","","","","","","","","",""]
[{"$error":"#REF!"},12,300,"35:05",{"$f":"+VLOOKUP($C15,#REF!,2,\"false\")","v":{"$error":"#REF!"}},{"$f":"+VLOOKUP($C15,#REF!,3,\"false\")","v":{"$error":"#REF!"}},{"$f":"+VLOOKUP($C15,#REF!,4,\"false\")","v":{"$error":"#REF!"}},{"$f":"+VLOOKUP($C15,#REF!,5,\"false\")","v":{"$error":"#REF!"}},{"$f":"+VLOOKUP($C15,#REF!,6,\"false\")","v":{"$error":"#REF!"}},{"$error":"#REF!"},{"$error":"#REF!"},null,6,"","","","","","","","","","","","","","","","","","","","","","","","","",""]
[{"$error":"#REF!"},13,308,"35:40",{"$f":"+VLOOKUP($C16,#REF!,2,\"false\")","v":{"$error":"#REF!"}},{"$f":"+VLOOKUP($C16,#REF!,3,\"false\")","v":{"$error":"#REF!"}},{"$f":"+VLOOKUP($C16,#REF!,4,\"false\")","v":{"$error":"#REF!"}},{"$f":"+VLOOKUP($C16,#REF!,5,\"false\")","v":{"$error":"#REF!"}},{"$f":"+VLOOKUP($C16,#REF!,6,\"false\")","v":{"$error":"#REF!"}},{"$error":"#REF!"},{"$error":"#REF!"},null,null,"","","","","","","","","","","","","","","","","","","","","","","","","",""]
[{"$nulls":13},"","","","","","","","","","","","","","","","","","","","","","","","","",""]
[{"$nulls":13},"","","","","","","","","","","","","","","","","","","","","","","","","",""]
[{"$nulls":12},"Tot",{"$f":"IF(N15=\"\",1000,SUM(N13:N15))","v":1000},{"$f":"IF(O15=\"\",1000,SUM(O13:O15))","v":1000},1000,1000,1000,1000,1000,1000,1000,1000,1000,1000,1000,1000,1000,1000,1000,1000,1000,1000,1000,1000,1000,1000,1000,1000]
[{"$nulls":12},"Pos",{"$f":"RANK(N19,($N$10:$AM$10,$N$19:$AM$19,$N$28:$AM$28, $N$37:$AM$37),1)","v":1},{"$f":"RANK(O19,($N$10:$AM$10,$N$19:$AM$19,$N$28:$AM$28, $N$37:$AM$37),1)","v":1},{"$f":"RANK(P19,($N$10:$AM$10,$N$19:$AM$19,$N$28:$AM$28, $N$37:$AM$37),1)","v":1},{"$f":"RANK(Q19,($N$10:$AM$10,$N$19:$AM$19,$N$28:$AM$28, $N$37:$AM$37),1)","v":1},{"$f":"RANK(R19,($N$10:$AM$10,$N$19:$AM$19,$N$28:$AM$28, $N$37:$AM$37),1)","v":1},{"$f":"RANK(S19,($N$10:$AM$10,$N$19:$AM$19,$N$28:$AM$28, $N$37:$AM$37),1)","v":1},{"$f":"RANK(T19,($N$10:$AM$10,$N$19:$AM$19,$N$28:$AM$28, $N$37:$AM$37),1)","v":1},{"$f":"RANK(U19,($N$10:$AM$10,$N$19:$AM$19,$N$28:$AM$28, $N$37:$AM$37),1)","v":1},{"$f":"RANK(V19,($N$10:$AM$10,$N$19:$AM$19,$N$28:$AM$28, $N$37:$AM$37),1)","v":1},{"$f":"RANK(W19,($N$10:$AM$10,$N$19:$AM$19,$N$28:$AM$28, $N$37:$AM$37),1)","v":1},{"$f":"RANK(X19,($N$10:$AM$10,$N$19:$AM$19,$N$28:$AM$28, $N$37:$AM$37),1)","v":1},{"$f":"RANK(Y19,($N$10:$AM$10,$N$19:$AM$19,$N$28:$AM$28, $N$37:$AM$37),1)","v":1},{"$f":"RANK(Z19,($N$10:$AM$10,$N$19:$AM$19,$N$28:$AM$28, $N$37:$AM$37),1)","v":1},{"$f":"RANK(AA19,($N$10:$AM$10,$N$19:$AM$19,$N$28:$AM$28, $N$37:$AM$37),1)","v":1},{"$f":"RANK(AB19,($N$10:$AM$10,$N$19:$AM$19,$N$28:$AM$28, $N$37:$AM$37),1)","v":1},{"$f":"RANK(AC19,($N$10:$AM$10,$N$19:$AM$19,$N$28:$AM$28, $N$37:$AM$37),1)","v":1},{"$f":"RANK(AD19,($N$10:$AM$10,$N$19:$AM$19,$N$28:$AM$28, $N$37:$AM$37),1)","v":1},{"$f":"RANK(AE19,($N$10:$AM$10,$N$19:$AM$19,$N$28:$AM$28, $N$37:$AM$37),1)","v":1},{"$f":"RANK(AF19,($N$10:$AM$10,$N$19:$AM$19,$N$28:$AM$28, $N$37:$AM$37),1)","v":1},{"$f":"RANK(AG19,($N$10:$AM$10,$N$19:$AM$19,$N$28:$AM$28, $N$37:$AM$37),1)","v":1},{"$f":"RANK(AH19,($N$10:$AM$10,$N$19:$AM$19,$N$28:$AM$28, $N$37:$AM$37),1)","v":1},{"$f":"RANK(AI19,($N$10:$AM$10,$N$19:$AM$19,$N$28:$AM$28, $N$37:$AM$37),1)","v":1},{"$f":"RANK(AJ19,($N$10:$AM$10,$N$19:$AM$19,$N$28:$AM$28, $N$37:$AM$37),1)","v":1},{"$f":"RANK(AK19,($N$10:$AM$10,$N$19:$AM$19,$N$28:$AM$28, $N$37:$AM$37),1)","v":1},{"$f":"RANK(AL19,($N$10:$AM$10,$N$19:$AM$19,$N$28:$AM$28, $N$37:$AM$37),1)","v":1},{"$f":"RANK(AM19,($N$10:$AM$10,$N$19:$AM$19,$N$28:$AM$28, $N$37:$AM$37),1)","v":1}]
[]
[{"$nulls":12},7,{"$f":"+IF(ISNA(VLOOKUP(N$3&\"  \"&$M22,$A$3:$I$110,2,0)),\"\",VLOOKUP(N$3&\"  \"&$M22,$A$3:$I$110,2,0))","v":""},{"$f":"+IF(ISNA(VLOOKUP(O$3&\"  \"&$M22,$A$3:$I$110,2,0)),\"\",VLOOKUP(O$3&\"  \"&$M22,$A$3:$I$110,2,0))","v":""},"","","","","","","","","","","","","","","","","","","","","","","",""]
[{"$nulls":12},8,"",{"$f":"+IF(ISNA(VLOOKUP(O$3&\"  \"&$M23,$A$3:$I$110,2,0)),\"\",VLOOKUP(O$3&\"  \"&$M23,$A$3:$I$110,2,0))","v":""},"","","","","","","","","","","","","","","","","","","","","","","",""]
[{"$nulls":12},9,"","","","","","","","","","","","","","","","","","","","","","","","","",""]
[{"$nulls":13},"","","","","","","","","","","","","","","","","","","","","","","","","",""]
[{"$nulls":13},"","","","","","","","","","","","","","","","","","","","","","","","","",""]
[{"$nulls":13},"","","","","","","","","","","","","","","","","","","","","","","","","",""]
[{"$nulls":12},"Tot",{"$f":"IF(N24=\"\",1000,SUM(N22:N24))","v":1000},{"$f":"IF(O24=\"\",1000,SUM(O22:O24))","v":1000},1000,1000,1000,1000,1000,1000,1000,1000,1000,1000,1000,1000,1000,1000,1000,1000,1000,1000,1000,1000,1000,1000,1000,1000]
[{"$nulls":12},"Pos",{"$f":"RANK(N28,($N$10:$AM$10,$N$19:$AM$19,$N$28:$AM$28, $N$37:$AM$37),1)","v":1},{"$f":"RANK(O28,($N$10:$AM$10,$N$19:$AM$19,$N$28:$AM$28, $N$37:$AM$37),1)","v":1},{"$f":"RANK(P28,($N$10:$AM$10,$N$19:$AM$19,$N$28:$AM$28, $N$37:$AM$37),1)","v":1},{"$f":"RANK(Q28,($N$10:$AM$10,$N$19:$AM$19,$N$28:$AM$28, $N$37:$AM$37),1)","v":1},{"$f":"RANK(R28,($N$10:$AM$10,$N$19:$AM$19,$N$28:$AM$28, $N$37:$AM$37),1)","v":1},{"$f":"RANK(S28,($N$10:$AM$10,$N$19:$AM$19,$N$28:$AM$28, $N$37:$AM$37),1)","v":1},{"$f":"RANK(T28,($N$10:$AM$10,$N$19:$AM$19,$N$28:$AM$28, $N$37:$AM$37),1)","v":1},{"$f":"RANK(U28,($N$10:$AM$10,$N$19:$AM$19,$N$28:$AM$28, $N$37:$AM$37),1)","v":1},{"$f":"RANK(V28,($N$10:$AM$10,$N$19:$AM$19,$N$28:$AM$28, $N$37:$AM$37),1)","v":1},{"$f":"RANK(W28,($N$10:$AM$10,$N$19:$AM$19,$N$28:$AM$28, $N$37:$AM$37),1)","v":1},{"$f":"RANK(X28,($N$10:$AM$10,$N$19:$AM$19,$N$28:$AM$28, $N$37:$AM$37),1)","v":1},{"$f":"RANK(Y28,($N$10:$AM$10,$N$19:$AM$19,$N$28:$AM$28, $N$37:$AM$37),1)","v":1},{"$f":"RANK(Z28,($N$10:$AM$10,$N$19:$AM$19,$N$28:$AM$28, $N$37:$AM$37),1)","v":1},{"$f":"RANK(AA28,($N$10:$AM$10,$N$19:$AM$19,$N$28:$AM$28, $N$37:$AM$37),1)","v":1},{"$f":"RANK(AB28,($N$10:$AM$10,$N$19:$AM$19,$N$28:$AM$28, $N$37:$AM$37),1)","v":1},{"$f":"RANK(AC28,($N$10:$AM$10,$N$19:$AM$19,$N$28:$AM$28, $N$37:$AM$37),1)","v":1},{"$f":"RANK(AD28,($N$10:$AM$10,$N$19:$AM$19,$N$28:$AM$28, $N$37:$AM$37),1)","v":1},{"$f":"RANK(AE28,($N$10:$AM$10,$N$19:$AM$19,$N$28:$AM$28, $N$37:$AM$37),1)","v":1},{"$f":"RANK(AF28,($N$10:$AM$10,$N$19:$AM$19,$N$28:$AM$28, $N$37:$AM$37),1)","v":1},{"$f":"RANK(AG28,($N$10:$AM$10,$N$19:$AM$19,$N$28:$AM$28, $N$37:$AM$37),1)","v":1},{"$f":"RANK(AH28,($N$10:$AM$10,$N$19:$AM$19,$N$28:$AM$28, $N$37:$AM$37),1)","v":1},{"$f":"RANK(AI28,($N$10:$AM$10,$N$19:$AM$19,$N$28:$AM$28, $N$37:$AM$37),1)","v":1},{"$f":"RANK(AJ28,($N$10:$AM$10,$N$19:$AM$19,$N$28:$AM$28, $N$37:$AM$37),1)","v":1},{"$f":"RANK(AK28,($N$10:$AM$10,$N$19:$AM$19,$N$28:$AM$28, $N$37:$AM$37),1)","v":1},{"$f":"RANK(AL28,($N$10:$AM$10,$N$19:$AM$19,$N$28:$AM$28, $N$37:$AM$37),1)","v":1},{"$f":"RANK(AM28,($N$10:$AM$10,$N$19:$AM$19,$N$28:$AM$28, $N$37:$AM$37),1)","v":1}]
[]
[{"$nulls":12},10,{"$f":"+IF(ISNA(VLOOKUP(N$3&\"  \"&$M31,$A$3:$I$110,2,0)),\"\",VLOOKUP(N$3&\"  \"&$M31,$A$3:$I$110,2,0))","v":""},{"$f":"+IF(ISNA(VLOOKUP(O$3&\"  \"&$M31,$A$3:$I$110,2,0)),\"\",VLOOKUP(O$3&\"  \"&$M31,$A$3:$I$110,2,0))","v":""},"","","","","","","","","","","","","","","",{"$f":"+IF(ISNA(VLOOKUP(AE$3&\"  \"&$M31,$A$3:$I$110,2,0)),\"\",VLOOKUP(AE$3&\"  \"&$M31,$A$3:$I$110,2,0))","v":""},"","","","","","","",""]
[{"$nulls":12},11,"","","","","","","","","","","","","","","","","","","","","","","","","",""]
[{"$nulls":12},12,"","","","","","","","","","","","","","","","","","","","","","","","","",""]
[{"$nulls":13},"","","","","","","","","","","","","","","","","","","","","","","","","",""]
[{"$nulls":13},"","","","","","","","","","","","","","","","","","","","","","","","","",""]
[{"$nulls":13},"","","","","","","","","","","","","","","","","","","","","","","","","",""]
[{"$nulls":12},"Tot",{"$f":"IF(N33=\"\",1000,SUM(N31:N33))","v":1000},{"$f":"IF(O33=\"\",1000,SUM(O31:O33))","v":1000},1000,1000,1000,1000,1000,1000,1000,1000,1000,1000,1000,1000,1000,1000,1000,1000,1000,1000,1000,1000,1000,1000,1000,1000]
[{"$nulls":12},"Pos",{"$f":"RANK(N37,($N$10:$AM$10,$N$19:$AM$19,$N$28:$AM$28, $N$37:$AM$37),1)","v":1},{"$f":"RANK(O37,($N$10:$AM$10,$N$19:$AM$19,$N$28:$AM$28, $N$37:$AM$37),1)","v":1},{"$f":"RANK(P37,($N$10:$AM$10,$N$19:$AM$19,$N$28:$AM$28, $N$37:$AM$37),1)","v":1},{"$f":"RANK(Q37,($N$10:$AM$10,$N$19:$AM$19,$N$28:$AM$28, $N$37:$AM$37),1)","v":1},{"$f":"RANK(R37,($N$10:$AM$10,$N$19:$AM$19,$N$28:$AM$28, $N$37:$AM$37),1)","v":1},{"$f":"RANK(S37,($N$10:$AM$10,$N$19:$AM$19,$N$28:$AM$28, $N$37:$AM$37),1)","v":1},{"$f":"RANK(T37,($N$10:$AM$10,$N$19:$AM$19,$N$28:$AM$28, $N$37:$AM$37),1)","v":1},{"$f":"RANK(U37,($N$10:$AM$10,$N$19:$AM$19,$N$28:$AM$28, $N$37:$AM$37),1)","v":1},{"$f":"RANK(V37,($N$10:$AM$10,$N$19:$AM$19,$N$28:$AM$28, $N$37:$AM$37),1)","v":1},{"$f":"RANK(W37,($N$10:$AM$10,$N$19:$AM$19,$N$28:$AM$28, $N$37:$AM$37),1)","v":1},{"$f":"RANK(X37,($N$10:$AM$10,$N$19:$AM$19,$N$28:$AM$28, $N$37:$AM$37),1)","v":1},{"$f":"RANK(Y37,($N$10:$AM$10,$N$19:$AM$19,$N$28:$AM$28, $N$37:$AM$37),1)","v":1},{"$f":"RANK(Z37,($N$10:$AM$10,$N$19:$AM$19,$N$28:$AM$28, $N$37:$AM$37),1)","v":1},{"$f":"RANK(AA37,($N$10:$AM$10,$N$19:$AM$19,$N$28:$AM$28, $N$37:$AM$37),1)","v":1},{"$f":"RANK(AB37,($N$10:$AM$10,$N$19:$AM$19,$N$28:$AM$28, $N$37:$AM$37),1)","v":1},{"$f":"RANK(AC37,($N$10:$AM$10,$N$19:$AM$19,$N$28:$AM$28, $N$37:$AM$37),1)","v":1},{"$f":"RANK(AD37,($N$10:$AM$10,$N$19:$AM$19,$N$28:$AM$28, $N$37:$AM$37),1)","v":1},{"$f":"RANK(AE37,($N$10:$AM$10,$N$19:$AM$19,$N$28:$AM$28, $N$37:$AM$37),1)","v":1},{"$f":"RANK(AF37,($N$10:$AM$10,$N$19:$AM$19,$N$28:$AM$28, $N$37:$AM$37),1)","v":1},{"$f":"RANK(AG37,($N$10:$AM$10,$N$19:$AM$19,$N$28:$AM$28, $N$37:$AM$37),1)","v":1},{"$f":"RANK(AH37,($N$10:$AM$10,$N$19:$AM$19,$N$28:$AM$28, $N$37:$AM$37),1)","v":1},{"$f":"RANK(AI37,($N$10:$AM$10,$N$19:$AM$19,$N$28:$AM$28, $N$37:$AM$37),1)","v":1},{"$f":"RANK(AJ37,($N$10:$AM$10,$N$19:$AM$19,$N$28:$AM$28, $N$37:$AM$37),1)","v":1},{"$f":"RANK(AK37,($N$10:$AM$10,$N$19:$AM$19,$N$28:$AM$28, $N$37:$AM$37),1)","v":1},{"$f":"RANK(AL37,($N$10:$AM$10,$N$19:$AM$19,$N$28:$AM$28, $N$37:$AM$37),1)","v":1},{"$f":"RANK(AM37,($N$10:$AM$10,$N$19:$AM$19,$N$28:$AM$28, $N$37:$AM$37),1)","v":1}]
{"$rows_empty":61}
[{"$nulls":13},"PHX"]
[{"$nulls":13},"B&H"]
[{"$nulls":13},"CRA"]
[{"$nulls":13},"WDH"]
[{"$nulls":13},"HBS"]
[]
[]
[]
[]
[]
[null,"Pos","Bib","Time"]
[null,1]
[null,2]
[null,3]
[null,4]
[null,5]
[null,6]
[null,7]
[null,8]
[null,9]
[null,10]
[null,11]
[null,12]
[null,13]
[null,14]
[null,15]
[null,16]
[null,17]
[null,18]
[null,19]
[null,20]
[null,21]
[null,22]
[null,23]
[null,24]
[null,25]
[null,26]
[null,27]
[null,28]
[null,29]
[null,30]
[null,31]
[null,32]
[null,33]
[null,34]
[null,35]
[null,36]
[null,37]
[null,38]
[null,39]
[null,40]
[null,41]
[null,42]
[null,43]
[null,44]
[null,45]
[null,46]
[null,47]
[null,48]
[null,49]
[null,50]
[null,51]
[null,52]
[null,53]
[null,54]
[null,55]
[null,56]
[null,57]
[null,58]
[null,59]
[null,60]
[null,61]
[null,62]
[null,63]
[null,64]
[null,65]
[null,66]
[null,67]
[null,68]
[null,69]
[null,70]
[null,71]
[null,72]
[null,73]
[null,74]
[null,75]
[null,76]
[null,77]
[null,78]
[null,79]
[null,80]
[null,81]
[null,82]
[null,83]
[null,84]
[null,85]
[null,86]
[null,87]
[null,88]
[null,89]
[null,90]
[null,91]
[null,92]
[null,93]
[null,94]
[null,95]
[null,96]
[null,97]
[null,98]
[null,99]
[null,100]
[null,101]
[null,102]
[null,103]
[null,104]
[null,105]
[null,106]
[null,107]
[null,108]
[null,109]
[null,110]
[null,111]
[null,112]
[null,113]
[null,114]
[null,115]
[null,116]
[null,117]
[null,118]
[null,119]
[null,120]
[null,121]
[null,122]
[null,123]
[null,124]
[null,125]
[null,126]
[null,127]
[null,128]
[null,129]
[null,130]
[null,131]
[null,132]
[null,133]
[null,134]
[null,135]
[null,136]
[null,137]
[null,138]
[null,139]
[null,140]
[null,141]
[null,142]
[null,143]
[null,144]
[null,145]
[null,146]
[null,147]
[null,148]
[null,149]
[null,150]
[null,151]
[null,152]
[null,153]
[null,154]
[null,155]
[null,156]
[null,157]
[null,158]
[null,159]
[null,160]
[null,161]
[null,162]
[null,163]
[null,164]
[null,165]
[null,166]
[null,167]
[null,168]
[null,169]
[null,170]
[null,171]
[null,172]
[null,173]
[null,174]

{"sheet":"FullResults","index":9,"n_rows":301,"n_cols":11,"rows_kept":301,"merged":[[0,1,0,9]]}
[null,"Wakehurst Willow 5 - 13th July 2022"]
[]
[null,"Pos","EntrantNo","Chip","Forename","Surname","Club","Cat  Pos","Sex Pos","Sex","Category"]
[null,1,815,"00:28:58","Ben","Short","Crawley AC",{"$f":"+K4&\"  \"&TEXT(SUMPRODUCT(--(K4=$K$4:$K$826),--(B4>$B$4:$B$826))+1,0)","v":"SM  1"},{"$f":"+J4&TEXT(SUMPRODUCT(--(J4=$J$4:$J$826),--(B4>$B$4:$B$826))+1,0)","v":"m1"},"m","SM"]
[null,2,571,"00:31:02","Dan","Celani","Lingfield RC","VM40-44  1","m2","m","VM40-44"]
[null,3,551,"00:32:54","Amelia","Brown","Crawley AC","VW40-44  1","f1","f","VW40-44"]
[null,4,732,"00:33:21","Matt","Mason","Horsham Joggers","SM  2","m3","m","SM"]
[null,5,782,"00:33:30","John","Rawling","Crawley AC","VM40-44  2","m4","m","VM40-44"]
[null,6,542,"00:33:35","Jon","Boxall","Burgess Hill Runners","SM  3","m5","m","SM"]
[null,7,793,"00:33:48","Sarah","Roberts","Brighton Phoenix","SW  1","f2","f","SW"]
[null,8,859,"00:33:59","PETER","TULLETT","Chelmsford AC","VM60-64  1","m6","m","VM60-64"]
[null,9,606,"00:34:04","Oliver","Day","Burgess Hill Runners","VM55-59  1","m7","m","VM55-59"]
[null,10,523,"00:34:20","Warren","Barnes","Crawley AC","VM40-44  3","m8","m","VM40-44"]
[null,11,598,"00:34:40","Paul 'The Legend'","Cousins","Haywards Heath Harriers","VM55-59  2","m9","m","VM55-59"]
[null,12,634,"00:35:07","Pete","Francis","Haywards Heath Harriers","VM40-44  4","m10","m","VM40-44"]
[null,13,543,"00:35:09","Julian","Boyer","Haywards Heath Harriers","VM50-54  1","m11","m","VM50-54"]
[null,14,512,"00:35:09","Will","Axell",null,"SM  4","m12","m","SM"]
[null,15,669,"00:35:10","Marc","Hitchcock",null,"VM55-59  3","m13","m","VM55-59"]
[null,16,745,"00:35:54","Tim","Miller",null,"VM55-59  4","m14","m","VM55-59"]
[null,17,887,"00:36:16","Matt","Whyman","Horsham Joggers","VM50-54  2","m15","m","VM50-54"]
[null,18,716,"00:36:39","Richard","Lipscombe",null,"VM40-44  5","m16","m","VM40-44"]
[null,19,801,"00:36:41","Mark","Santer","Burgess Hill Runners","VM40-44  6","m17","m","VM40-44"]
[null,20,694,"00:36:48","Sean","Jordan","Crawley Run Crew","SM  5","m18","m","SM"]
[null,21,707,"00:36:59","Mari","Laidlaw",null,"VW40-44  2","f3","f","VW40-44"]
[null,22,535,"00:37:08","Andrew","Biggs","Burgess Hill Runners","VM50-54  3","m19","m","VM50-54"]
[null,23,728,"00:37:10","Michael","Manwill","Lingfield RC","VM45-49  1","m20","m","VM45-49"]
[null,24,521,"00:37:17","Kate","Barnes","Horley Harriers Running Club","VW40-44  3","f4","f","VW40-44"]
[null,25,808,"00:37:48","Rob","Shapland","Horsham Joggers","SM  6","m21","m","SM"]
[null,26,693,"00:37:52","Mark","Jones",null,"SM  7","m22","m","SM"]
[null,27,733,"00:37:56","Alison","Mason","Lonely Goat RC","VW40-44  4","f5","f","VW40-44"]
[null,28,769,"00:37:57","Madelaine","Parmar","Brighton Phoenix","SW  2","f6","f","SW"]
[null,29,662,"00:38:01","STEVEN","HEATH","Haywards Heath Harriers","VM45-49  2","m23","m","VM45-49"]
[null,30,858,"00:38:03","Barry","Tullett","Haywards Heath Harriers","VM55-59  5","m24","m","VM55-59"]
[null,31,649,"00:38:06","Darren","Hale","Brighton Triathlon Club","VM50-54  4","m25","m","VM50-54"]
[null,32,836,"00:38:07","David","Strudwick",null,"VM40-44  7","m26","m","VM40-44"]
[null,33,519,"00:38:16","James","Barnes",null,"VM40-44  8","m27","m","VM40-44"]
[null,34,818,"00:38:43","Dan","Smiles","Crawley Saints & Sinners Running Club","VM45-49  3","m28","m","VM45-49"]
[null,35,674,"00:38:44","Mike","Howard","Hove Hornets","VM45-49  4","m29","m","VM45-49"]
[null,36,670,"00:38:51","jonathan","holland","Horley Harriers Running Club","SM  8","m30","m","SM"]
[null,37,593,"00:38:53","Robert","Coomber",null,"SM  9","m31","m","SM"]
[null,38,848,"00:38:54","David","Tibbals","Crawley AC","VM55-59  6","m32","m","VM55-59"]
[null,39,602,"00:38:58","Alberto","Da Re","Crawley Run Crew","VM40-44  9","m33","m","VM40-44"]
[null,40,617,"00:39:05","Chris","Edmunds","Pound Hill Pounders","VM40-44  10","m34","m","VM40-44"]
[null,41,893,"00:39:10","Florence","Wolfe","Burgess Hill Runners","SW  3","f7","f","SW"]
[null,42,790,"00:39:19","Kevin","Risby","Pound Hill Pounders","VM40-44  11","m35","m","VM40-44"]
[null,43,547,"00:39:24","Mike","Bransden","Mel's Milers Jogging Club","VM65-69  1","m36","m","VM65-69"]
[null,44,860,"00:39:49","Rob","Turner",null,"VM45-49  5","m37","m","VM45-49"]
[null,45,501,"00:40:00","Paul","Addie","Horley Harriers Running Club","VM45-49  6","m38","m","VM45-49"]
[null,46,761,"00:40:06","Dobs","OBrien",null,"VM55-59  7","m39","m","VM55-59"]
[null,47,697,"00:40:07","Joseph","Kelly",null,"SM  10","m40","m","SM"]
[null,48,866,"00:40:11","Andrew","Vine","Crawley Saints & Sinners Running Club","VM40-44  12","m41","m","VM40-44"]
[null,49,702,"00:40:23","Firoze","Khambata",null,"VM40-44  13","m42","m","VM40-44"]
[null,50,715,"00:40:24","Adam","Leonard","Pound Hill Pounders","SM  11","m43","m","SM"]
[null,51,573,"00:40:27","Fiona","Champness","Lingfield RC","VW45-49  1","f8","f","VW45-49"]
[null,52,643,"00:40:34","Bruce","Girvan",null,"VM50-54  5","m44","m","VM50-54"]
[null,53,626,"00:40:37","Chris","Faulkner","Haywards Heath Harriers","VM45-49  7","m45","m","VM45-49"]
[null,54,582,"00:40:40","Evie","Clarke","Mel's Milers Jogging Club","SW  4","f9","f","SW"]
[null,55,635,"00:40:40","Kevin","Frost",null,"SM  12","m46","m","SM"]
[null,56,652,"00:40:41","Nick","Harnett",null,"VM40-44  14","m47","m","VM40-44"]
[null,57,531,"00:40:45","David","Beed",null,"SM  13","m48","m","SM"]
[null,58,871,"00:40:54","Emma","Walters","Horsham Joggers","VW40-44  5","f10","f","VW40-44"]
[null,59,754,"00:40:58","Andrew","Neighbour","Brighton Phoenix","VM45-49  8","m49","m","VM45-49"]
[null,60,629,"00:41:14","Adam","Fernandes","Crawley Run Crew","SM  14","m50","m","SM"]
[null,61,534,"00:41:18","Carl","Bicknell","Haywards Heath Harriers","VM60-64  2","m51","m","VM60-64"]
[null,62,809,"00:41:30","Dan","Shaw",null,"SM  15","m52","m","SM"]
[null,63,726,"00:41:39","David","Maclean","Horsham Blue Star Harriers","VM55-59  8","m53","m","VM55-59"]
[null,64,559,"00:41:41","Martin","Burnell",null,"VM40-44  15","m54","m","VM40-44"]
[null,65,875,"00:41:42","Michael","Way",null,{"$f":"+K68&\"  \"&TEXT(SUMPRODUCT(--(K68=$K$4:$K$826),--(B68>$B$4:$B$826))+1,0)","v":"VM55-59  9"},{"$f":"+J68&TEXT(SUMPRODUCT(--(J68=$J$4:$J$826),--(B68>$B$4:$B$826))+1,0)","v":"m55"},"m","VM55-59"]
[null,66,682,"00:41:50","Sarah","Inman","Mel's Milers Jogging Club","VW55-59  1","f11","f","VW55-59"]
[null,67,794,"00:41:53","Andy","Robins","Horsham Joggers","VM40-44  16","m56","m","VM40-44"]
[null,68,713,"00:42:08","Daren","Leonard","Worth Way Runners","VM50-54  6","m57","m","VM50-54"]
[null,69,897,"00:42:09","David","Worsell","Lingfield RC","VM50-54  7","m58","m","VM50-54"]
[null,70,568,"00:42:12","Tom","Cartledge","Lingfield RC","VM55-59  10","m59","m","VM55-59"]
[null,71,678,"00:42:18","Hannah","Howes",null,"VW40-44  6","f12","f","VW40-44"]
[null,72,720,"00:42:19","Catherine","Low","Mel's Milers Jogging Club","VW50-54  1","f13","f","VW50-54"]
[null,73,596,"00:42:23","Richard","Cornell","Horsham Joggers","VM45-49  9","m60","m","VM45-49"]
[null,74,508,"00:42:26","Paul","Atherton","East Grinstead runners","VM55-59  11","m61","m","VM55-59"]
[null,75,725,"00:42:30","Alan","Maclachlan","Horsham Joggers","VM45-49  10","m62","m","VM45-49"]
[null,76,892,"00:42:35","Peter","Wirtzfeld","Run academy Worthing","VM60-64  3","m63","m","VM60-64"]
[null,77,671,"00:42:42","michelle","hollins","Lingfield RC","VW55-59  2","f14","f","VW55-59"]
[null,78,584,"00:42:42","Martyn","Clarke-Jones","Worth Way Runners","VM55-59  12","m64","m","VM55-59"]
[null,79,555,"00:42:57","David","Buckley","Crawley Run Crew","VM40-44  17","m65","m","VM40-44"]
[null,80,891,"00:43:00","Andrew","Wilson","Haywards Heath Harriers","VM45-49  11","m66","m","VM45-49"]
[null,81,791,"00:43:07","Neil","Roberts","Crawley Run Crew","VM50-54  8","m67","m","VM50-54"]
[null,82,646,"00:43:11","Liz","Groome",null,"VW40-44  7","f15","f","VW40-44"]
[null,83,711,"00:43:12","Joe","Lavery","Crawley Run Crew","VM50-54  9","m68","m","VM50-54"]
[null,84,580,"00:43:32","Mike","Clark","Mel's Milers Jogging Club","VM70-74  1","m69","m","VM70-74"]
[null,85,874,"00:43:34","Ian","watkins","Lingfield RC","VM60-64  4","m70","m","VM60-64"]
[null,86,881,"00:43:34","Victoria","Welsby",null,"SW  5","f16","f","SW"]
[null,87,653,"00:43:41","Henry","Harris","Crawley Run Crew","SM  16","m71","m","SM"]
[null,88,853,"00:44:09","Ian","Tomkins","Haywards Heath Harriers","VM50-54  10","m72","m","VM50-54"]
[null,89,867,"00:44:09","Edward","Walden","Mel's Milers Jogging Club","VM50-54  11","m73","m","VM50-54"]
[null,90,581,"00:44:19","Isobel","Clarke","Mel's Milers Jogging Club","VW50-54  2","f17","f","VW50-54"]
[null,91,839,"00:44:41","Jonathan","Teasdale",null,"VM55-59  13","m74","m","VM55-59"]
[null,92,787,"00:44:52","Martin","Richardson",null,"VM40-44  18","m75","m","VM40-44"]
[null,93,764,"00:44:54","Ian","Othen",null,"VM40-44  19","m76","m","VM40-44"]
[null,94,819,"00:44:56","Paul","Smith",null,"VM40-44  20","m77","m","VM40-44"]
[null,95,869,"00:44:57","Carolynn","Walker",null,"VW45-49  2","f18","f","VW45-49"]
[null,96,712,"00:45:18","anna","leadbitter",null,"VW40-44  8","f19","f","VW40-44"]
[null,97,578,"00:45:18","Sue","Christopher","Poundhill Pounders","VW40-44  9","f20","f","VW40-44"]
[null,98,781,"00:45:19","Mark","Raven",null,"VM50-54  12","m78","m","VM50-54"]
[null,99,628,"00:45:20","Jessica","Fernandes","Personify","SW  6","f21","f","SW"]
[null,100,565,"00:45:25","Paul","Carpenter",null,"VM45-49  12","m79","m","VM45-49"]
[null,101,820,"00:45:26","Wendy","Smith","Lingfield RC","VW50-54  3","f22","f","VW50-54"]
[null,102,507,"00:45:45","Andrew","Ashby",null,"VM50-54  13","m80","m","VM50-54"]
[null,103,661,"00:45:45","Mark","Hazlewood","Worth Way Runners","VM55-59  14","m81","m","VM55-59"]
[null,104,849,"00:45:48","Bryan","Tiller","Haywards Heath Harriers","VM55-59  15","m82","m","VM55-59"]
[null,105,709,"00:45:51","Mike","Land",null,"VM50-54  14","m83","m","VM50-54"]
[null,106,679,"00:45:59","Fiona","Hutchings","Horley Harriers Running Club","SW  7","f23","f","SW"]
[null,107,672,"00:46:00","Ron","Hooker","Crawley Run Crew","VM45-49  13","m84","m","VM45-49"]
[null,108,615,"00:46:02","Nicholas","Duke",null,"SM  17","m85","m","SM"]
[null,109,663,"00:46:02","Kirstie","Hedger","Horsham Joggers","VW45-49  3","f24","f","VW45-49"]
[null,110,863,"00:46:03","Simon","Valder",null,"VM45-49  14","m86","m","VM45-49"]
[null,111,865,"00:46:06","Gary","Viles","Crawley AC","SM  18","m87","m","SM"]
[null,112,658,"00:46:21","Andrew","Hayes",null,"SM  19","m88","m","SM"]
[null,113,877,"00:46:24","Melanie","Webber","Crawley Saints & Sinners Running Club","VW50-54  4","f25","f","VW50-54"]
[null,114,784,"00:46:31","Gay","Redstone","Worth Way Runners","VW60-64  1","f26","f","VW60-64"]
[null,115,757,"00:46:40","Michele","Nixon","Crawley Saints & Sinners Running Club","VW45-49  4","f27","f","VW45-49"]
[null,116,566,"00:47:13","Hannah","Cartledge","Lingfield RC","SW  8","f28","f","SW"]
[null,117,536,"00:47:14","Anne","Billingham","Mel's Milers Jogging Club","VW55-59  3","f29","f","VW55-59"]
[null,118,826,"00:47:15","Jane","Stephens","Mel's Milers Jogging Club","VW55-59  4","f30","f","VW55-59"]
[null,119,766,"00:47:22","Chris","Page","Burgess Hill Runners","VM60-64  5","m89","m","VM60-64"]
[null,120,759,"00:47:32","Stuart","Noel",null,"VM45-49  15","m90","m","VM45-49"]
[null,121,666,"00:47:33","Sarah","Hamilton","J & M Running","VW50-54  5","f31","f","VW50-54"]
[null,122,572,"00:47:41","Nick","Champness","Lingfield RC","VM45-49  16","m91","m","VM45-49"]
[null,123,620,"00:47:46","sue","endacott","Mel's Milers Jogging Club","VW55-59  5","f32","f","VW55-59"]
[null,124,564,"00:47:48","Joseph","Carey","Personify Fitness","SM  20","m92","m","SM"]
[null,125,795,"00:47:50","Victoria","Robins","Horsham Joggers","VW40-44  10","f33","f","VW40-44"]
[null,126,760,"00:47:55","Sarah","Norman","East Grinstead runners","VW40-44  11","f34","f","VW40-44"]
[null,127,611,"00:48:08","Aisha","Dickson",null,"VW45-49  5","f35","f","VW45-49"]
[null,128,695,"00:48:12","Paul","Kaynes","Burgess Hill Runners","VM50-54  15","m93","m","VM50-54"]
[null,129,654,"00:48:12","Tamsin","Harrison",null,{"$f":"+K132&\"  \"&TEXT(SUMPRODUCT(--(K132=$K$4:$K$826),--(B132>$B$4:$B$826))+1,0)","v":"VW45-49  6"},{"$f":"+J132&TEXT(SUMPRODUCT(--(J132=$J$4:$J$826),--(B132>$B$4:$B$826))+1,0)","v":"f36"},"f","VW45-49"]
[null,130,690,"00:48:13","Becca","Johnson","St Francis","SW  9","f37","f","SW"]
[null,131,509,"00:48:13","Jane","Attew","St Francis","VW50-54  6","f38","f","VW50-54"]
[null,132,742,"00:48:17","Shelley","Meyern","Crawley Run Crew","VW40-44  12","f39","f","VW40-44"]
[null,133,613,"00:48:26","Lisa","Down","Crawley, Social, Activities and Well-Being","VW50-54  7","f40","f","VW50-54"]
[null,134,633,"00:48:28","Katherine","Frampton",null,"SW  10","f41","f","SW"]
[null,135,851,"00:48:52","Anna","Titchmarsh",null,"VW45-49  7","f42","f","VW45-49"]
[null,136,527,"00:48:52","Darren","Bateman",null,"VM50-54  16","m94","m","VM50-54"]
[null,137,520,"00:48:57","Jacqueline","Barnes",null,"VW50-54  8","f43","f","VW50-54"]
[null,138,708,"00:48:59","Alex","Land",null,"VW50-54  9","f44","f","VW50-54"]
[null,139,895,"00:49:15","Rhian","Woods",null,"SW  11","f45","f","SW"]
[null,140,603,"00:49:16","Helen","Davey","Lingfield RC","VW55-59  6","f46","f","VW55-59"]
[null,141,828,"00:49:18","Koji","Stephenson","Crawley Saints & Sinners Running Club","SM  21","m95","m","SM"]
[null,142,595,"00:49:22","Michael","Cordery",null,"VM50-54  17","m96","m","VM50-54"]
[null,143,878,"00:49:47","Karen","Weller","Hove Hornets","VW50-54  10","f47","f","VW50-54"]
[null,144,779,"00:49:51","Emma","Pryor","Haywards Heath Harriers","VM55-59  16","m97","m","VM55-59"]
[null,145,845,"00:49:53","Lynsey","Thompson",null,"VW40-44  13","f48","f","VW40-44"]
[null,146,537,"00:50:09","Alison","Bird","Horley Harriers Running Club","VW45-49  8","f49","f","VW45-49"]
[null,147,562,"00:50:10","Angela","Carden",null,"SW  12","f50","f","SW"]
[null,148,721,"00:50:11","Emma","Lumley","Crawley Tri Club","VW40-44  14","f51","f","VW40-44"]
[null,149,879,"00:50:16","Eleanor","Wells","Crawley Run Crew","SW  13","f52","f","SW"]
[null,150,723,"00:50:16","Graham","Lunn","Horsham Joggers","VM50-54  18","m98","m","VM50-54"]
[null,151,900,"00:50:19","Jonathan","Spencer",null,"VM45-49  17","m99","m","VM45-49"]
[null,152,597,"00:50:27","Megan","Corrigall",null,"VW45-49  9","f53","f","VW45-49"]
[null,153,868,"00:50:50","Becky","Walden",null,"JWU16  1","f54","f","JWU16"]
[null,154,788,"00:51:03","Peter","Richardson","Worth Way Runners","VM65-69  2","m100","m","VM65-69"]
[null,155,805,"00:51:04","Terri","Scott","Lingfield RC","VW50-54  11","f55","f","VW50-54"]
[null,156,807,"00:51:12","Ben","Shadbolt",null,"VM40-44  21","m101","m","VM40-44"]
[null,157,806,"00:51:13","Gemma","Shadbolt",null,"SW  14","f56","f","SW"]
[null,158,525,"00:51:16","Kate","Batchelor","Mel's Milers Jogging Club","VW45-49  10","f57","f","VW45-49"]
[null,159,804,"00:51:19","Louise","Savage","Lonely Goat RC","VW40-44  15","f58","f","VW40-44"]
[null,160,768,"00:51:20","Jennifer","Parmar",null,"VW50-54  12","f59","f","VW50-54"]
[null,161,557,"00:51:20","Carly","Burke","Crawley Run Crew","SW  15","f60","f","SW"]
[null,162,833,"00:51:21","Matthew","Stockwood","Lingfield RC","VM50-54  19","m102","m","VM50-54"]
[null,163,599,"00:51:22","Barry","Cowdray","Pound Hill Pounders","VM50-54  20","m103","m","VM50-54"]
[null,164,838,"00:51:26","Lisa","Taylor",null,"VW40-44  16","f61","f","VW40-44"]
[null,165,831,"00:51:40","Hugh","Stevenage","Burgess Hill Runners","VM55-59  17","m104","m","VM55-59"]
[null,166,827,"00:51:43","Kevin","Stephenson","Crawley Saints & Sinners Running Club","VM50-54  21","m105","m","VM50-54"]
[null,167,540,"00:51:44","Meghan","Bowen","Lingfield RC","SW  16","f62","f","SW"]
[null,168,724,"00:51:45","Corin","Lyon",null,"VW50-54  13","f63","f","VW50-54"]
[null,169,577,"00:51:55","Elke","Cheriton",null,"SW  17","f64","f","SW"]
[null,170,552,"00:51:56","Charlotte","Brownlee","Mel's Milers Jogging Club","VW40-44  17","f65","f","VW40-44"]
[null,171,636,"00:51:59","Ali","Fuller","Oakwood Black Dogs","VW45-49  11","f66","f","VW45-49"]
[null,172,701,"00:52:02","Valerie","Khambata","Pound Hill Pounders","SW  18","f67","f","SW"]
[null,173,688,"00:52:04","Dumitru","Jobson",null,"SM  22","m106","m","SM"]
[null,174,681,"00:52:05","Trish","Hynes",null,"VW60-64  2","f68","f","VW60-64"]
[null,175,685,"00:52:11","Lois","Jerrey","Worth Way Runners","VW55-59  7","f69","f","VW55-59"]
[null,176,605,"00:52:29","Emma","Dawson",null,"SW  19","f70","f","SW"]
[null,177,837,"00:52:40","Anna","Swan",null,"VW40-44  18","f71","f","VW40-44"]
[null,178,854,"00:52:40","Catherine","Tomlinson",null,"SW  20","f72","f","SW"]
[null,179,898,"00:52:44","Emma","Young","Crawley Run Crew","SW  21","f73","f","SW"]
[null,180,524,"00:52:44","Jeremy","Basting",null,"VM40-44  22","m107","m","VM40-44"]
[null,181,746,"00:52:45","Melanie","Mitchell",null,"VW55-59  8","f74","f","VW55-59"]
[null,182,750,"00:52:48","Nicholas","Moore",null,"VM45-49  18","m108","m","VM45-49"]
[null,183,753,"00:52:54","Tony","Moules",null,"VM50-54  22","m109","m","VM50-54"]
[null,184,522,"00:52:57","Anna","Barnes","Crawley Run Crew","SW  22","f75","f","SW"]
[null,185,741,"00:53:09","Caroline","Mepham",null,"VW45-49  12","f76","f","VW45-49"]
[null,186,780,"00:53:16","Anna","Ramage","Mel's Milers Jogging Club","VW55-59  9","f77","f","VW55-59"]
[null,187,727,"00:53:18","Sarah","Maclean","Mel's Milers Jogging Club","VW50-54  14","f78","f","VW50-54"]
[null,188,614,"00:53:30","Jenny","Doyle",null,"VW40-44  19","f79","f","VW40-44"]
[null,189,704,"00:53:47","Tracey","King",null,"VW40-44  20","f80","f","VW40-44"]
[null,190,812,"00:53:51","Hannah","Sherman","Southwater Tri Club","SW  23","f81","f","SW"]
[null,191,609,"00:53:52","Amy","Devaney",null,"SW  24","f82","f","SW"]
[null,192,642,"00:54:00","Helen","Geoghegan",null,"VW45-49  13","f83","f","VW45-49"]
[null,193,667,"00:54:05","Zoe","Hester-moules",null,{"$f":"+K196&\"  \"&TEXT(SUMPRODUCT(--(K196=$K$4:$K$826),--(B196>$B$4:$B$826))+1,0)","v":"VW50-54  15"},{"$f":"+J196&TEXT(SUMPRODUCT(--(J196=$J$4:$J$826),--(B196>$B$4:$B$826))+1,0)","v":"f84"},"f","VW50-54"]
[null,194,719,"00:54:11","Hannah","Loram",null,"VW45-49  14","f85","f","VW45-49"]
[null,195,718,"00:54:16","Emily","Lomax",null,"VW40-44  21","f86","f","VW40-44"]
[null,196,651,"00:54:19","Tammy","Hall",null,"VW40-44  22","f87","f","VW40-44"]
[null,197,696,"00:54:27","Lulu","Kaynes","Burgess Hill Runners","VW50-54  16","f88","f","VW50-54"]
[null,198,743,"00:54:27","Graham","Miles",null,"VM55-59  18","m110","m","VM55-59"]
[null,199,747,"00:54:29","Louise","Mitchell","Crawley Saints & Sinners Running Club","SW  25","f89","f","SW"]
[null,200,763,"00:54:40","Jenny","Ombler","Hove Hornets","VW45-49  15","f90","f","VW45-49"]
[null,201,872,"00:54:40","jackie","ware","Hove Hornets","VW50-54  17","f91","f","VW50-54"]
[null,202,684,"00:54:40","Craig","Jenkins",null,"VM45-49  19","m111","m","VM45-49"]
[null,203,550,"00:54:42","Alan","Brown","Worth Way Runners","VM60-64  6","m112","m","VM60-64"]
[null,204,516,"00:54:48","Gabrielle","Baldwin",null,"VW40-44  23","f92","f","VW40-44"]
[null,205,533,"00:54:49","Charlotte","Berman",null,"SW  26","f93","f","SW"]
[null,206,511,"00:54:54","Mark","Austin","Crawley Saints & Sinners Running Club","VM50-54  23","m113","m","VM50-54"]
[null,207,735,"00:55:11","Jacqueline","Mayer","Lingfield RC","VW40-44  24","f94","f","VW40-44"]
[null,208,896,"00:55:15","Katherine","Woolhouse",null,"SW  27","f95","f","SW"]
[null,209,546,"00:55:39","Karla","Bradstock",null,"VW45-49  16","f96","f","VW45-49"]
[null,210,698,"00:55:39","Lauren","Kelly",null,"VW40-44  25","f97","f","VW40-44"]
[null,211,810,"00:55:51","Colin","Shaw","Mel's Milers Jogging Club","VM75-79  1","m114","m","VM75-79"]
[null,212,656,"00:56:17","Yasmin","Hayes","J & M Running","VW40-44  26","f98","f","VW40-44"]
[null,213,657,"00:56:17","Dan","Hayes",null,"VM45-49  20","m115","m","VM45-49"]
[null,214,792,"00:56:23","Julie","Roberts","Crawley Run Crew","VW50-54  18","f99","f","VW50-54"]
[null,215,736,"00:56:38","Marlene","McHale","Burgess Hill Runners","VW65-69  1","f100","f","VW65-69"]
[null,216,644,"00:56:45","Susie","Godley",null,"VW45-49  17","f101","f","VW45-49"]
[null,217,899,"00:56:52","Sue","Zanin","Horsham Joggers","VW55-59  10","f102","f","VW55-59"]
[null,218,767,"00:56:57","Liz","Parker","Fordy Runs Running Club","VW55-59  11","f103","f","VW55-59"]
[null,219,850,"00:57:00","Tania","Tinslay","Hove Hornets","VW40-44  27","f104","f","VW40-44"]
[null,220,774,"00:57:01","Kate","Pelissier","Worth Way Runners","VW60-64  3","f105","f","VW60-64"]
[null,221,811,"00:57:07","Ali","Shears","Horsham Joggers","VW50-54  19","f106","f","VW50-54"]
[null,222,655,"00:57:11","Vanessa","Harrold","Crawley Saints & Sinners Running Club","VW55-59  12","f107","f","VW55-59"]
[null,223,680,"00:57:16","George","Hutchinson",null,"VM40-44  23","m116","m","VM40-44"]
[null,224,570,"00:57:20","Gemma","Catterall",null,"VW40-44  28","f108","f","VW40-44"]
[null,225,610,"00:57:29","Cathy","Dickins","Worth Way Runners","VW55-59  13","f109","f","VW55-59"]
[null,226,563,"00:57:30","Moray","Carey","Reigate Priory AC","VM65-69  3","m117","m","VM65-69"]
[null,227,778,"00:57:30","Janice","Phelan",null,"SW  28","f110","f","SW"]
[null,228,545,"00:57:32","Catherine","Bradshaw","Poundhill Pounders","VW45-49  18","f111","f","VW45-49"]
[null,229,575,"00:57:45","emma","chapman","Horsham Joggers","VW55-59  14","f112","f","VW55-59"]
[null,230,594,"00:58:22","Rachel","Cordery","Crawley Saints & Sinners Running Club","VW50-54  20","f113","f","VW50-54"]
[null,231,722,"00:58:26","Gill","Lunn","Horsham Joggers","VW45-49  19","f114","f","VW45-49"]
[null,232,786,"00:58:48","Dawn","Rhodes","Crawley Saints & Sinners Running Club","VW45-49  20","f115","f","VW45-49"]
[null,233,588,"00:58:48","Sarah","Cole","Crawley Saints & Sinners Running Club","VW45-49  21","f116","f","VW45-49"]
[null,234,616,"00:59:05","Stefan","Duvivier",null,"VW45-49  22","f117","f","VW45-49"]
[null,235,862,"00:59:17","Vivienne","Underhill","Horsham Joggers","VW60-64  4","f118","f","VW60-64"]
[null,236,821,"00:59:20","Lisa","Smith",null,"VW40-44  29","f119","f","VW40-44"]
[null,237,510,"00:59:27","Paul","Austen","Pound Hill Pounders","VM50-54  24","m118","m","VM50-54"]
[null,238,739,"00:59:29","stuart","melville",null,"SM  23","m119","m","SM"]
[null,239,823,"00:59:29","Anna","Southwood","Pound Hill Pounders","VW40-44  30","f120","f","VW40-44"]
[null,240,740,"00:59:41","Jessica","Melville","Crawley Saints & Sinners Running Club","SW  29","f121","f","SW"]
[null,241,506,"00:59:45","Sarah","Andrews",null,"VW40-44  31","f122","f","VW40-44"]
[null,242,886,"00:59:46","Susan","Whiting","Runny Honeys","VW50-54  21","f123","f","VW50-54"]
[null,243,648,"00:59:46","Charlotte","Guy",null,"VW45-49  23","f124","f","VW45-49"]
[null,244,664,"00:59:47","Eric","Hepburn","Haywards Heath Harriers","VM60-64  7","m120","m","VM60-64"]
[null,245,583,"00:59:49","Clare","Clarke-Jones","Worth Way Runners","VW50-54  22","f125","f","VW50-54"]
[null,246,541,"01:00:01","Dianne","Bowles",null,"VW40-44  32","f126","f","VW40-44"]
[null,247,824,"01:00:06","Andy","Stanard","Crawley Saints & Sinners Running Club","VM55-59  19","m121","m","VM55-59"]
[null,248,549,"01:00:07","Carol","Brown","Worth Way Runners","VW60-64  5","f127","f","VW60-64"]
[null,249,770,"01:00:08","Anita","Patel","Personify Fitness","VW60-64  6","f128","f","VW60-64"]
[null,250,785,"01:00:15","Vicky","Revis",null,"VW40-44  33","f129","f","VW40-44"]
[null,251,502,"01:00:24","Tom","Aitken",null,"VM50-54  25","m122","m","VM50-54"]
[null,252,717,"01:00:41","Jane","Lomas",null,"VW50-54  23","f130","f","VW50-54"]
[null,253,773,"01:00:41","Alan","Peckham",null,"VM70-74  2","m123","m","VM70-74"]
[null,254,558,"01:00:43","Jackie","Burke","Crawley Run Crew","VW65-69  2","f131","f","VW65-69"]
[null,255,591,"01:01:04","Jennie","Collison","Mel's Milers Jogging Club","VW40-44  34","f132","f","VW40-44"]
[null,256,612,"01:01:06","Kelly","Docherty","Mel's Milers Jogging Club","SW  30","f133","f","SW"]
[null,257,561,"01:01:09","Alexandra","Byrne",null,{"$f":"+K260&\"  \"&TEXT(SUMPRODUCT(--(K260=$K$4:$K$826),--(B260>$B$4:$B$826))+1,0)","v":"SW  31"},{"$f":"+J260&TEXT(SUMPRODUCT(--(J260=$J$4:$J$826),--(B260>$B$4:$B$826))+1,0)","v":"f134"},"f","SW"]
[null,258,776,"01:01:21","Kirsty","Perryman-Best",null,"VW40-44  35","f135","f","VW40-44"]
[null,259,822,"01:01:24","Jennifer","Smith","Mel's Milers Jogging Club","VW50-54  24","f136","f","VW50-54"]
[null,260,604,"01:01:36","Steve","Davis",null,"VM55-59  20","m124","m","VM55-59"]
[null,261,641,"01:02:32","Catherine","Geoghegan",null,"VW45-49  24","f137","f","VW45-49"]
[null,262,771,"01:02:35","Sophie","Peckham","Crawley Saints & Sinners Running Club","SW  32","f138","f","SW"]
[null,263,884,"01:02:56","Simon","Whelan",null,"VM50-54  26","m125","m","VM50-54"]
[null,264,880,"01:03:24","Chris","Wells","Crawley Run Crew","VM65-69  4","m126","m","VM65-69"]
[null,265,503,"01:03:42","Shelley","Allen",null,"SW  33","f139","f","SW"]
[null,266,885,"01:03:42","Wendy","Whincup",null,"VW60-64  7","f140","f","VW60-64"]
[null,267,756,"01:04:15","Helen","Newman",null,"VW55-59  15","f141","f","VW55-59"]
[null,268,607,"01:04:32","Ruth","Day","Burgess Hill Runners","VW55-59  16","f142","f","VW55-59"]
[null,269,861,"01:05:35","Tiziana","Ulian",null,"VW50-54  25","f143","f","VW50-54"]
[null,270,883,"01:05:37","Dawn","Whamond",null,"VW45-49  25","f144","f","VW45-49"]
[null,271,857,"01:05:55","Aaron","Trosh",null,"SM  24","m127","m","SM"]
[null,272,650,"01:05:56","Georgia","Hale",null,"SW  34","f145","f","SW"]
[null,273,632,"01:06:31","Julie","Findlay",null,"VW45-49  26","f146","f","VW45-49"]
[null,274,621,"01:06:37","Kate","Evans","Run academy Worthing","VW40-44  36","f147","f","VW40-44"]
[null,275,622,"01:06:40","Louise","Evatt",null,"VW40-44  37","f148","f","VW40-44"]
[null,276,744,"01:06:40","Rebecca","Miller","Haywards Heath Harriers","VW45-49  27","f149","f","VW45-49"]
[null,277,692,"01:06:41","Tiffany","Jones",null,"VW40-44  38","f150","f","VW40-44"]
[null,278,888,"01:06:46","Liz","Wicks","Pound Hill Pounders","VW60-64  8","f151","f","VW60-64"]
[null,279,579,"01:07:08","Sarah","Clapp","Crawley Saints & Sinners Running Club","VW45-49  28","f152","f","VW45-49"]
[null,280,873,"01:07:13","Nina","Ware",null,"VW45-49  29","f153","f","VW45-49"]
[null,281,775,"01:07:19","Clare","Penfold","Crawley Saints & Sinners Running Club","VW45-49  30","f154","f","VW45-49"]
[null,282,752,"01:08:04","Kiki","Moss",null,"VW40-44  39","f155","f","VW40-44"]
[null,283,749,"01:08:34","Katherine","Monk",null,"VW45-49  31","f156","f","VW45-49"]
[null,284,856,"01:09:07","Janet","Trigwell","Crawley Run Crew","VW40-44  40","f157","f","VW40-44"]
[null,285,758,"01:09:47","Betty","Njuguna","Worth Way Runners","VW50-54  26","f158","f","VW50-54"]
[null,286,789,"01:10:41","Julie","Richardson","Worth Way Runners","VW65-69  3","f159","f","VW65-69"]
[null,287,882,"01:10:41","Sally","Westbrook-Miles",null,"VW55-59  17","f160","f","VW55-59"]
[null,288,864,"01:10:46","Fiona","Viles","Horley Harriers Running Club","VW60-64  9","f161","f","VW60-64"]
[null,289,587,"01:10:47","Dawn","Cobbett","Run academy Worthing","VW60-64  10","f162","f","VW60-64"]
[null,290,601,"01:10:49","Patricia","Cummins","Run academy Worthing","VW80-85  1","f163","f","VW80-85"]
[null,291,528,"01:11:32","Helen","Baverstock","Horley Harriers Running Club","VW60-64  11","f164","f","VW60-64"]
[null,292,802,"01:13:14","Caroline","Santer","Burgess Hill Runners","VW45-49  32","f165","f","VW45-49"]
[null,293,548,"01:14:09","Cheryl","Brogan",null,"VW50-54  27","f166","f","VW50-54"]
[null,294,714,"01:17:10","Maria","Leonard","Worth Way Runners","VW55-59  18","f167","f","VW55-59"]
[null,295,876,"01:18:14","Lucy","Wayland","Pound Hill Pounders","VW50-54  28","f168","f","VW50-54"]
[null,296,762,"01:18:44","Sarah","Oliver","Pound Hill Pounders","VW45-49  33","f169","f","VW45-49"]
[null,297,689,"01:21:47","Gail","Johnson",null,"VW55-59  19","f170","f","VW55-59"]
[null,298,894,"01:22:07","Roxanne","Wood",null,"SW  35","f171","f","SW"]

{"sheet":"SenMU20M","index":10,"n_rows":579,"n_cols":39,"rows_kept":579,"hidden":true,"merged":[[0,1,0,6],[1,1,1,10]]}
[null,"Sussex Athletics XC Championships\nBexhill, 07/01/2023",{"$nulls":11},"26 clubs - cols N to AM"]
[null,"U20 & Senior Men (Start together, different distance)"]
["Temp","Pos","Bib","Time","Forename","Surname","Club","Cat ","Sex","Rk","Club Rk",null,null,"HNJ","HY","LEW","CHI","CSS","PHX","HAI","EBR","BTC","HHH","CRA","VR","B&H","HBS","HAS","BWK","HMJ","SYN","CROW","WDH","GRR",""]
[{"$f":"+K4","v":{"$error":"#REF!"}},1,298,"29:38",{"$f":"+VLOOKUP($C4,#REF!,2,\"false\")","v":{"$error":"#REF!"}},{"$f":"+VLOOKUP($C4,#REF!,3,\"false\")","v":{"$error":"#REF!"}},{"$f":"+VLOOKUP($C4,#REF!,4,\"false\")","v":{"$error":"#REF!"}},{"$f":"+VLOOKUP($C4,#REF!,5,\"False\")","v":{"$error":"#REF!"}},{"$f":"+VLOOKUP($C4,#REF!,6,\"false\")","v":{"$error":"#REF!"}},{"$f":"TEXT(SUMPRODUCT(--(G4=$G$4:$G$469),--(B4>$B$4:$B$469))+1,0)","v":{"$error":"#REF!"}},{"$f":"+G4&\"  \"&J4","v":{"$error":"#REF!"}},null,1,{"$f":"+IF(ISNA(VLOOKUP(N$3&\"  \"&$M4,$A$3:$I$228,2,0)),\"\",VLOOKUP(N$3&\"  \"&$M4,$A$3:$I$228,2,0))","v":""},"","","","","","","","","",{"$f":"+IF(ISNA(VLOOKUP(X$3&\"  \"&$M4,$A$3:$I$228,2,0)),\"\",VLOOKUP(X$3&\"  \"&$M4,$A$3:$I$228,2,0))","v":""},"","","","","","","","","",{"$f":"+IF(ISNA(VLOOKUP(AH$3&\"  \"&$M4,$A$3:$I$228,2,0)),\"\",VLOOKUP(AH$3&\"  \"&$M4,$A$3:$I$228,2,0))","v":""},"","","","",""]
[{"$f":"+K5","v":{"$error":"#REF!"}},{"$f":"+B4+1","v":2},307,"29:51",{"$f":"+VLOOKUP($C5,#REF!,2,\"false\")","v":{"$error":"#REF!"}},{"$f":"+VLOOKUP($C5,#REF!,3,\"false\")","v":{"$error":"#REF!"}},{"$f":"+VLOOKUP($C5,#REF!,4,\"false\")","v":{"$error":"#REF!"}},{"$f":"+VLOOKUP($C5,#REF!,5,\"False\")","v":{"$error":"#REF!"}},{"$f":"+VLOOKUP($C5,#REF!,6,\"false\")","v":{"$error":"#REF!"}},{"$error":"#REF!"},{"$error":"#REF!"},null,{"$f":"+M4+1","v":2},"","","","","","","","","","","","","","","","","","","","","","","","","",""]
[{"$error":"#REF!"},{"$f":"+B5+1","v":3},299,"30:23",{"$f":"+VLOOKUP($C6,#REF!,2,\"false\")","v":{"$error":"#REF!"}},{"$f":"+VLOOKUP($C6,#REF!,3,\"false\")","v":{"$error":"#REF!"}},{"$f":"+VLOOKUP($C6,#REF!,4,\"false\")","v":{"$error":"#REF!"}},{"$f":"+VLOOKUP($C6,#REF!,5,\"False\")","v":{"$error":"#REF!"}},{"$f":"+VLOOKUP($C6,#REF!,6,\"false\")","v":{"$error":"#REF!"}},{"$error":"#REF!"},{"$error":"#REF!"},null,{"$f":"+M5+1","v":3},"","","","","","","","","","","","","","","","","","","","","","","","","",""]
[{"$error":"#REF!"},4,309,"30:25",{"$f":"+VLOOKUP($C7,#REF!,2,\"false\")","v":{"$error":"#REF!"}},{"$f":"+VLOOKUP($C7,#REF!,3,\"false\")","v":{"$error":"#REF!"}},{"$f":"+VLOOKUP($C7,#REF!,4,\"false\")","v":{"$error":"#REF!"}},{"$f":"+VLOOKUP($C7,#REF!,5,\"False\")","v":{"$error":"#REF!"}},{"$f":"+VLOOKUP($C7,#REF!,6,\"false\")","v":{"$error":"#REF!"}},{"$error":"#REF!"},{"$error":"#REF!"},null,{"$f":"+M6+1","v":4},"","","","","","","","","","","","","","","","","","","","","","","","","",""]
[{"$error":"#REF!"},5,500,"30:30",{"$f":"+VLOOKUP($C8,#REF!,2,\"false\")","v":{"$error":"#REF!"}},{"$f":"+VLOOKUP($C8,#REF!,3,\"false\")","v":{"$error":"#REF!"}},{"$f":"+VLOOKUP($C8,#REF!,4,\"false\")","v":{"$error":"#REF!"}},{"$f":"+VLOOKUP($C8,#REF!,5,\"False\")","v":{"$error":"#REF!"}},{"$f":"+VLOOKUP($C8,#REF!,6,\"false\")","v":{"$error":"#REF!"}},{"$error":"#REF!"},{"$error":"#REF!"},null,{"$f":"+M7+1","v":5},"","","","","","","","","","","","","","","","","","","","","","","","","",""]
[{"$error":"#REF!"},6,303,"31:40",{"$f":"+VLOOKUP($C9,#REF!,2,\"false\")","v":{"$error":"#REF!"}},{"$f":"+VLOOKUP($C9,#REF!,3,\"false\")","v":{"$error":"#REF!"}},{"$f":"+VLOOKUP($C9,#REF!,4,\"false\")","v":{"$error":"#REF!"}},{"$f":"+VLOOKUP($C9,#REF!,5,\"False\")","v":{"$error":"#REF!"}},{"$f":"+VLOOKUP($C9,#REF!,6,\"false\")","v":{"$error":"#REF!"}},{"$error":"#REF!"},{"$error":"#REF!"},null,{"$f":"+M8+1","v":6},"","","","","","","","","","","","","","","","","","","","","","","","","",""]
[{"$error":"#REF!"},7,302,"32:31",{"$f":"+VLOOKUP($C10,#REF!,2,\"false\")","v":{"$error":"#REF!"}},{"$f":"+VLOOKUP($C10,#REF!,3,\"false\")","v":{"$error":"#REF!"}},{"$f":"+VLOOKUP($C10,#REF!,4,\"false\")","v":{"$error":"#REF!"}},{"$f":"+VLOOKUP($C10,#REF!,5,\"False\")","v":{"$error":"#REF!"}},{"$f":"+VLOOKUP($C10,#REF!,6,\"false\")","v":{"$error":"#REF!"}},{"$error":"#REF!"},{"$error":"#REF!"},null,"Tot",{"$f":"IF(N9=\"\",1000,SUM(N4:N9))","v":1000},{"$f":"IF(O9=\"\",1000,SUM(O4:O9))","v":1000},1000,1000,1000,1000,1000,1000,1000,1000,1000,1000,1000,1000,1000,1000,1000,1000,1000,1000,1000,1000,1000,1000,1000,1000]
[{"$error":"#REF!"},8,297,"32:38",{"$f":"+VLOOKUP($C11,#REF!,2,\"false\")","v":{"$error":"#REF!"}},{"$f":"+VLOOKUP($C11,#REF!,3,\"false\")","v":{"$error":"#REF!"}},{"$f":"+VLOOKUP($C11,#REF!,4,\"false\")","v":{"$error":"#REF!"}},{"$f":"+VLOOKUP($C11,#REF!,5,\"False\")","v":{"$error":"#REF!"}},{"$f":"+VLOOKUP($C11,#REF!,6,\"false\")","v":{"$error":"#REF!"}},{"$error":"#REF!"},{"$error":"#REF!"},null,"Pos",{"$f":"RANK(N10,($N$10:$AM$10,$N$19:$AM$19,$N$28:$AM$28,$N$37:$AM$37),1)","v":1},{"$f":"RANK(O10,($N$10:$AM$10,$N$19:$AM$19,$N$28:$AM$28,$N$37:$AM$37),1)","v":1},{"$f":"RANK(P10,($N$10:$AM$10,$N$19:$AM$19,$N$28:$AM$28,$N$37:$AM$37),1)","v":1},{"$f":"RANK(Q10,($N$10:$AM$10,$N$19:$AM$19,$N$28:$AM$28,$N$37:$AM$37),1)","v":1},{"$f":"RANK(R10,($N$10:$AM$10,$N$19:$AM$19,$N$28:$AM$28,$N$37:$AM$37),1)","v":1},{"$f":"RANK(S10,($N$10:$AM$10,$N$19:$AM$19,$N$28:$AM$28,$N$37:$AM$37),1)","v":1},{"$f":"RANK(T10,($N$10:$AM$10,$N$19:$AM$19,$N$28:$AM$28,$N$37:$AM$37),1)","v":1},{"$f":"RANK(U10,($N$10:$AM$10,$N$19:$AM$19,$N$28:$AM$28,$N$37:$AM$37),1)","v":1},{"$f":"RANK(V10,($N$10:$AM$10,$N$19:$AM$19,$N$28:$AM$28,$N$37:$AM$37),1)","v":1},{"$f":"RANK(W10,($N$10:$AM$10,$N$19:$AM$19,$N$28:$AM$28,$N$37:$AM$37),1)","v":1},{"$f":"RANK(X10,($N$10:$AM$10,$N$19:$AM$19,$N$28:$AM$28,$N$37:$AM$37),1)","v":1},{"$f":"RANK(Y10,($N$10:$AM$10,$N$19:$AM$19,$N$28:$AM$28,$N$37:$AM$37),1)","v":1},{"$f":"RANK(Z10,($N$10:$AM$10,$N$19:$AM$19,$N$28:$AM$28,$N$37:$AM$37),1)","v":1},{"$f":"RANK(AA10,($N$10:$AM$10,$N$19:$AM$19,$N$28:$AM$28,$N$37:$AM$37),1)","v":1},{"$f":"RANK(AB10,($N$10:$AM$10,$N$19:$AM$19,$N$28:$AM$28,$N$37:$AM$37),1)","v":1},{"$f":"RANK(AC10,($N$10:$AM$10,$N$19:$AM$19,$N$28:$AM$28,$N$37:$AM$37),1)","v":1},{"$f":"RANK(AD10,($N$10:$AM$10,$N$19:$AM$19,$N$28:$AM$28,$N$37:$AM$37),1)","v":1},{"$f":"RANK(AE10,($N$10:$AM$10,$N$19:$AM$19,$N$28:$AM$28,$N$37:$AM$37),1)","v":1},{"$f":"RANK(AF10,($N$10:$AM$10,$N$19:$AM$19,$N$28:$AM$28,$N$37:$AM$37),1)","v":1},{"$f":"RANK(AG10,($N$10:$AM$10,$N$19:$AM$19,$N$28:$AM$28,$N$37:$AM$37),1)","v":1},{"$f":"RANK(AH10,($N$10:$AM$10,$N$19:$AM$19,$N$28:$AM$28,$N$37:$AM$37),1)","v":1},{"$f":"RANK(AI10,($N$10:$AM$10,$N$19:$AM$19,$N$28:$AM$28,$N$37:$AM$37),1)","v":1},{"$f":"RANK(AJ10,($N$10:$AM$10,$N$19:$AM$19,$N$28:$AM$28,$N$37:$AM$37),1)","v":1},{"$f":"RANK(AK10,($N$10:$AM$10,$N$19:$AM$19,$N$28:$AM$28,$N$37:$AM$37),1)","v":1},{"$f":"RANK(AL10,($N$10:$AM$10,$N$19:$AM$19,$N$28:$AM$28,$N$37:$AM$37),1)","v":1},{"$f":"RANK(AM10,($N$10:$AM$10,$N$19:$AM$19,$N$28:$AM$28,$N$37:$AM$37),1)","v":1}]
[{"$error":"#REF!"},9,311,"33:18",{"$f":"+VLOOKUP($C12,#REF!,2,\"false\")","v":{"$error":"#REF!"}},{"$f":"+VLOOKUP($C12,#REF!,3,\"false\")","v":{"$error":"#REF!"}},{"$f":"+VLOOKUP($C12,#REF!,4,\"false\")","v":{"$error":"#REF!"}},{"$f":"+VLOOKUP($C12,#REF!,5,\"False\")","v":{"$error":"#REF!"}},{"$f":"+VLOOKUP($C12,#REF!,6,\"false\")","v":{"$error":"#REF!"}},{"$error":"#REF!"},{"$error":"#REF!"}]
[{"$error":"#REF!"},10,380,"33:48",{"$f":"+VLOOKUP($C13,#REF!,2,\"false\")","v":{"$error":"#REF!"}},{"$f":"+VLOOKUP($C13,#REF!,3,\"false\")","v":{"$error":"#REF!"}},{"$f":"+VLOOKUP($C13,#REF!,4,\"false\")","v":{"$error":"#REF!"}},{"$f":"+VLOOKUP($C13,#REF!,5,\"False\")","v":{"$error":"#REF!"}},{"$f":"+VLOOKUP($C13,#REF!,6,\"false\")","v":{"$error":"#REF!"}},{"$error":"#REF!"},{"$error":"#REF!"},null,7,{"$f":"+IF(ISNA(VLOOKUP(N$3&\"  \"&$M13,$A$3:$I$228,2,0)),\"\",VLOOKUP(N$3&\"  \"&$M13,$A$3:$I$228,2,0))","v":""},"","","","","","","","","",{"$f":"+IF(ISNA(VLOOKUP(X$3&\"  \"&$M13,$A$3:$I$228,2,0)),\"\",VLOOKUP(X$3&\"  \"&$M13,$A$3:$I$228,2,0))","v":""},"","","","","","","","","",{"$f":"+IF(ISNA(VLOOKUP(AH$3&\"  \"&$M13,$A$3:$I$228,2,0)),\"\",VLOOKUP(AH$3&\"  \"&$M13,$A$3:$I$228,2,0))","v":""},"","","","",""]
[{"$error":"#REF!"},11,304,"34:08",{"$f":"+VLOOKUP($C14,#REF!,2,\"false\")","v":{"$error":"#REF!"}},{"$f":"+VLOOKUP($C14,#REF!,3,\"false\")","v":{"$error":"#REF!"}},{"$f":"+VLOOKUP($C14,#REF!,4,\"false\")","v":{"$error":"#REF!"}},{"$f":"+VLOOKUP($C14,#REF!,5,\"False\")","v":{"$error":"#REF!"}},{"$f":"+VLOOKUP($C14,#REF!,6,\"false\")","v":{"$error":"#REF!"}},{"$error":"#REF!"},{"$error":"#REF!"},null,{"$f":"+M13+1","v":8},"","","","","","","","","","","","","","","","","","","","","","","","","",""]
[{"$error":"#REF!"},12,347,"34:38",{"$f":"+VLOOKUP($C15,#REF!,2,\"false\")","v":{"$error":"#REF!"}},{"$f":"+VLOOKUP($C15,#REF!,3,\"false\")","v":{"$error":"#REF!"}},{"$f":"+VLOOKUP($C15,#REF!,4,\"false\")","v":{"$error":"#REF!"}},{"$f":"+VLOOKUP($C15,#REF!,5,\"False\")","v":{"$error":"#REF!"}},{"$f":"+VLOOKUP($C15,#REF!,6,\"false\")","v":{"$error":"#REF!"}},{"$error":"#REF!"},{"$error":"#REF!"},null,{"$f":"+M14+1","v":9},"","","","","","","","","","","","","","","","","","","","","","","","","",""]
[{"$error":"#REF!"},13,351,"34:49",{"$f":"+VLOOKUP($C16,#REF!,2,\"false\")","v":{"$error":"#REF!"}},{"$f":"+VLOOKUP($C16,#REF!,3,\"false\")","v":{"$error":"#REF!"}},{"$f":"+VLOOKUP($C16,#REF!,4,\"false\")","v":{"$error":"#REF!"}},{"$f":"+VLOOKUP($C16,#REF!,5,\"False\")","v":{"$error":"#REF!"}},{"$f":"+VLOOKUP($C16,#REF!,6,\"false\")","v":{"$error":"#REF!"}},{"$error":"#REF!"},{"$error":"#REF!"},null,{"$f":"+M15+1","v":10},"","","","","","","","","","","","","","","","","","","","","","","","","",""]
[{"$error":"#REF!"},14,310,"35:04",{"$f":"+VLOOKUP($C17,#REF!,2,\"false\")","v":{"$error":"#REF!"}},{"$f":"+VLOOKUP($C17,#REF!,3,\"false\")","v":{"$error":"#REF!"}},{"$f":"+VLOOKUP($C17,#REF!,4,\"false\")","v":{"$error":"#REF!"}},{"$f":"+VLOOKUP($C17,#REF!,5,\"False\")","v":{"$error":"#REF!"}},{"$f":"+VLOOKUP($C17,#REF!,6,\"false\")","v":{"$error":"#REF!"}},{"$error":"#REF!"},{"$error":"#REF!"},null,{"$f":"+M16+1","v":11},"","","","","","","","","","","","","","","","","","","","","","","","","",""]
[{"$error":"#REF!"},15,300,"35:05",{"$f":"+VLOOKUP($C18,#REF!,2,\"false\")","v":{"$error":"#REF!"}},{"$f":"+VLOOKUP($C18,#REF!,3,\"false\")","v":{"$error":"#REF!"}},{"$f":"+VLOOKUP($C18,#REF!,4,\"false\")","v":{"$error":"#REF!"}},{"$f":"+VLOOKUP($C18,#REF!,5,\"False\")","v":{"$error":"#REF!"}},{"$f":"+VLOOKUP($C18,#REF!,6,\"false\")","v":{"$error":"#REF!"}},{"$error":"#REF!"},{"$error":"#REF!"},null,{"$f":"+M17+1","v":12},"","","","","","","","","","","","","","","","","","","","","","","","","",""]
[{"$error":"#REF!"},16,308,"35:40",{"$f":"+VLOOKUP($C19,#REF!,2,\"false\")","v":{"$error":"#REF!"}},{"$f":"+VLOOKUP($C19,#REF!,3,\"false\")","v":{"$error":"#REF!"}},{"$f":"+VLOOKUP($C19,#REF!,4,\"false\")","v":{"$error":"#REF!"}},{"$f":"+VLOOKUP($C19,#REF!,5,\"False\")","v":{"$error":"#REF!"}},{"$f":"+VLOOKUP($C19,#REF!,6,\"false\")","v":{"$error":"#REF!"}},{"$error":"#REF!"},{"$error":"#REF!"},null,"Tot",{"$f":"IF(N18=\"\",1000,SUM(N13:N18))","v":1000},{"$f":"IF(O18=\"\",1000,SUM(O13:O18))","v":1000},1000,1000,1000,1000,1000,1000,1000,1000,1000,1000,1000,1000,1000,1000,1000,1000,1000,1000,1000,1000,1000,1000,1000,1000]
[{"$error":"#REF!"},17,362,"35:53",{"$f":"+VLOOKUP($C20,#REF!,2,\"false\")","v":{"$error":"#REF!"}},{"$f":"+VLOOKUP($C20,#REF!,3,\"false\")","v":{"$error":"#REF!"}},{"$f":"+VLOOKUP($C20,#REF!,4,\"false\")","v":{"$error":"#REF!"}},{"$f":"+VLOOKUP($C20,#REF!,5,\"False\")","v":{"$error":"#REF!"}},{"$f":"+VLOOKUP($C20,#REF!,6,\"false\")","v":{"$error":"#REF!"}},{"$error":"#REF!"},{"$error":"#REF!"},null,"Pos",{"$f":"RANK(N19,($N$10:$AM$10,$N$19:$AM$19,$N$28:$AM$28,$N$37:$AM$37),1)","v":1},{"$f":"RANK(O19,($N$10:$AM$10,$N$19:$AM$19,$N$28:$AM$28,$N$37:$AM$37),1)","v":1},{"$f":"RANK(P19,($N$10:$AM$10,$N$19:$AM$19,$N$28:$AM$28,$N$37:$AM$37),1)","v":1},{"$f":"RANK(Q19,($N$10:$AM$10,$N$19:$AM$19,$N$28:$AM$28,$N$37:$AM$37),1)","v":1},{"$f":"RANK(R19,($N$10:$AM$10,$N$19:$AM$19,$N$28:$AM$28,$N$37:$AM$37),1)","v":1},{"$f":"RANK(S19,($N$10:$AM$10,$N$19:$AM$19,$N$28:$AM$28,$N$37:$AM$37),1)","v":1},{"$f":"RANK(T19,($N$10:$AM$10,$N$19:$AM$19,$N$28:$AM$28,$N$37:$AM$37),1)","v":1},{"$f":"RANK(U19,($N$10:$AM$10,$N$19:$AM$19,$N$28:$AM$28,$N$37:$AM$37),1)","v":1},{"$f":"RANK(V19,($N$10:$AM$10,$N$19:$AM$19,$N$28:$AM$28,$N$37:$AM$37),1)","v":1},{"$f":"RANK(W19,($N$10:$AM$10,$N$19:$AM$19,$N$28:$AM$28,$N$37:$AM$37),1)","v":1},{"$f":"RANK(X19,($N$10:$AM$10,$N$19:$AM$19,$N$28:$AM$28,$N$37:$AM$37),1)","v":1},{"$f":"RANK(Y19,($N$10:$AM$10,$N$19:$AM$19,$N$28:$AM$28,$N$37:$AM$37),1)","v":1},{"$f":"RANK(Z19,($N$10:$AM$10,$N$19:$AM$19,$N$28:$AM$28,$N$37:$AM$37),1)","v":1},{"$f":"RANK(AA19,($N$10:$AM$10,$N$19:$AM$19,$N$28:$AM$28,$N$37:$AM$37),1)","v":1},{"$f":"RANK(AB19,($N$10:$AM$10,$N$19:$AM$19,$N$28:$AM$28,$N$37:$AM$37),1)","v":1},{"$f":"RANK(AC19,($N$10:$AM$10,$N$19:$AM$19,$N$28:$AM$28,$N$37:$AM$37),1)","v":1},{"$f":"RANK(AD19,($N$10:$AM$10,$N$19:$AM$19,$N$28:$AM$28,$N$37:$AM$37),1)","v":1},{"$f":"RANK(AE19,($N$10:$AM$10,$N$19:$AM$19,$N$28:$AM$28,$N$37:$AM$37),1)","v":1},{"$f":"RANK(AF19,($N$10:$AM$10,$N$19:$AM$19,$N$28:$AM$28,$N$37:$AM$37),1)","v":1},{"$f":"RANK(AG19,($N$10:$AM$10,$N$19:$AM$19,$N$28:$AM$28,$N$37:$AM$37),1)","v":1},{"$f":"RANK(AH19,($N$10:$AM$10,$N$19:$AM$19,$N$28:$AM$28,$N$37:$AM$37),1)","v":1},{"$f":"RANK(AI19,($N$10:$AM$10,$N$19:$AM$19,$N$28:$AM$28,$N$37:$AM$37),1)","v":1},{"$f":"RANK(AJ19,($N$10:$AM$10,$N$19:$AM$19,$N$28:$AM$28,$N$37:$AM$37),1)","v":1},{"$f":"RANK(AK19,($N$10:$AM$10,$N$19:$AM$19,$N$28:$AM$28,$N$37:$AM$37),1)","v":1},{"$f":"RANK(AL19,($N$10:$AM$10,$N$19:$AM$19,$N$28:$AM$28,$N$37:$AM$37),1)","v":1},{"$f":"RANK(AM19,($N$10:$AM$10,$N$19:$AM$19,$N$28:$AM$28,$N$37:$AM$37),1)","v":1}]
[{"$error":"#REF!"},18,375,"36:04",{"$f":"+VLOOKUP($C21,#REF!,2,\"false\")","v":{"$error":"#REF!"}},{"$f":"+VLOOKUP($C21,#REF!,3,\"false\")","v":{"$error":"#REF!"}},{"$f":"+VLOOKUP($C21,#REF!,4,\"false\")","v":{"$error":"#REF!"}},{"$f":"+VLOOKUP($C21,#REF!,5,\"False\")","v":{"$error":"#REF!"}},{"$f":"+VLOOKUP($C21,#REF!,6,\"false\")","v":{"$error":"#REF!"}},{"$error":"#REF!"},{"$error":"#REF!"}]
[{"$error":"#REF!"},19,392,"36:06",{"$f":"+VLOOKUP($C22,#REF!,2,\"false\")","v":{"$error":"#REF!"}},{"$f":"+VLOOKUP($C22,#REF!,3,\"false\")","v":{"$error":"#REF!"}},{"$f":"+VLOOKUP($C22,#REF!,4,\"false\")","v":{"$error":"#REF!"}},{"$f":"+VLOOKUP($C22,#REF!,5,\"False\")","v":{"$error":"#REF!"}},{"$f":"+VLOOKUP($C22,#REF!,6,\"false\")","v":{"$error":"#REF!"}},{"$error":"#REF!"},{"$error":"#REF!"},null,13,{"$f":"+IF(ISNA(VLOOKUP(N$3&\"  \"&$M22,$A$3:$I$228,2,0)),\"\",VLOOKUP(N$3&\"  \"&$M22,$A$3:$I$228,2,0))","v":""},"","","","","","","","","",{"$f":"+IF(ISNA(VLOOKUP(X$3&\"  \"&$M22,$A$3:$I$228,2,0)),\"\",VLOOKUP(X$3&\"  \"&$M22,$A$3:$I$228,2,0))","v":""},"","","","","","","","","",{"$f":"+IF(ISNA(VLOOKUP(AH$3&\"  \"&$M22,$A$3:$I$228,2,0)),\"\",VLOOKUP(AH$3&\"  \"&$M22,$A$3:$I$228,2,0))","v":""},"","","","",""]
[{"$error":"#REF!"},20,361,"36:10",{"$f":"+VLOOKUP($C23,#REF!,2,\"false\")","v":{"$error":"#REF!"}},{"$f":"+VLOOKUP($C23,#REF!,3,\"false\")","v":{"$error":"#REF!"}},{"$f":"+VLOOKUP($C23,#REF!,4,\"false\")","v":{"$error":"#REF!"}},{"$f":"+VLOOKUP($C23,#REF!,5,\"False\")","v":{"$error":"#REF!"}},{"$f":"+VLOOKUP($C23,#REF!,6,\"false\")","v":{"$error":"#REF!"}},{"$error":"#REF!"},{"$error":"#REF!"},null,{"$f":"+M22+1","v":14},"","","","","","","","","","","","","","","","","","","","","","","","","",""]
[{"$error":"#REF!"},21,407,"36:19",{"$f":"+VLOOKUP($C24,#REF!,2,\"false\")","v":{"$error":"#REF!"}},{"$f":"+VLOOKUP($C24,#REF!,3,\"false\")","v":{"$error":"#REF!"}},{"$f":"+VLOOKUP($C24,#REF!,4,\"false\")","v":{"$error":"#REF!"}},{"$f":"+VLOOKUP($C24,#REF!,5,\"False\")","v":{"$error":"#REF!"}},{"$f":"+VLOOKUP($C24,#REF!,6,\"false\")","v":{"$error":"#REF!"}},{"$error":"#REF!"},{"$error":"#REF!"},null,{"$f":"+M23+1","v":15},"","","","","","","","","","","","","","","","","","","","","","","","","",""]
[{"$error":"#REF!"},22,422,"36:30",{"$f":"+VLOOKUP($C25,#REF!,2,\"false\")","v":{"$error":"#REF!"}},{"$f":"+VLOOKUP($C25,#REF!,3,\"false\")","v":{"$error":"#REF!"}},{"$f":"+VLOOKUP($C25,#REF!,4,\"false\")","v":{"$error":"#REF!"}},{"$f":"+VLOOKUP($C25,#REF!,5,\"False\")","v":{"$error":"#REF!"}},{"$f":"+VLOOKUP($C25,#REF!,6,\"false\")","v":{"$error":"#REF!"}},{"$error":"#REF!"},{"$error":"#REF!"},null,{"$f":"+M24+1","v":16},"","","","","","","","","","","","","","","","","","","","","","","","","",""]
[{"$error":"#REF!"},23,384,"36:32",{"$f":"+VLOOKUP($C26,#REF!,2,\"false\")","v":{"$error":"#REF!"}},{"$f":"+VLOOKUP($C26,#REF!,3,\"false\")","v":{"$error":"#REF!"}},{"$f":"+VLOOKUP($C26,#REF!,4,\"false\")","v":{"$error":"#REF!"}},{"$f":"+VLOOKUP($C26,#REF!,5,\"False\")","v":{"$error":"#REF!"}},{"$f":"+VLOOKUP($C26,#REF!,6,\"false\")","v":{"$error":"#REF!"}},{"$error":"#REF!"},{"$error":"#REF!"},null,{"$f":"+M25+1","v":17},"","","","","","","","","","","","","","","","","","","","","","","","","",""]
[{"$error":"#REF!"},24,346,"36:34",{"$f":"+VLOOKUP($C27,#REF!,2,\"false\")","v":{"$error":"#REF!"}},{"$f":"+VLOOKUP($C27,#REF!,3,\"false\")","v":{"$error":"#REF!"}},{"$f":"+VLOOKUP($C27,#REF!,4,\"false\")","v":{"$error":"#REF!"}},{"$f":"+VLOOKUP($C27,#REF!,5,\"False\")","v":{"$error":"#REF!"}},{"$f":"+VLOOKUP($C27,#REF!,6,\"false\")","v":{"$error":"#REF!"}},{"$error":"#REF!"},{"$error":"#REF!"},null,{"$f":"+M26+1","v":18},"","","","","","","","","","","","","","","","","","","","","","","","","",""]
[{"$error":"#REF!"},25,442,"36:46",{"$f":"+VLOOKUP($C28,#REF!,2,\"false\")","v":{"$error":"#REF!"}},{"$f":"+VLOOKUP($C28,#REF!,3,\"false\")","v":{"$error":"#REF!"}},{"$f":"+VLOOKUP($C28,#REF!,4,\"false\")","v":{"$error":"#REF!"}},{"$f":"+VLOOKUP($C28,#REF!,5,\"False\")","v":{"$error":"#REF!"}},{"$f":"+VLOOKUP($C28,#REF!,6,\"false\")","v":{"$error":"#REF!"}},{"$error":"#REF!"},{"$error":"#REF!"},null,"Tot",{"$f":"IF(N27=\"\",1000,SUM(N22:N27))","v":1000},{"$f":"IF(O27=\"\",1000,SUM(O22:O27))","v":1000},1000,1000,1000,1000,1000,1000,1000,1000,1000,1000,1000,1000,1000,1000,1000,1000,1000,1000,1000,1000,1000,1000,1000,1000]
[{"$error":"#REF!"},26,350,"37:07",{"$f":"+VLOOKUP($C29,#REF!,2,\"false\")","v":{"$error":"#REF!"}},{"$f":"+VLOOKUP($C29,#REF!,3,\"false\")","v":{"$error":"#REF!"}},{"$f":"+VLOOKUP($C29,#REF!,4,\"false\")","v":{"$error":"#REF!"}},{"$f":"+VLOOKUP($C29,#REF!,5,\"False\")","v":{"$error":"#REF!"}},{"$f":"+VLOOKUP($C29,#REF!,6,\"false\")","v":{"$error":"#REF!"}},{"$error":"#REF!"},{"$error":"#REF!"},null,"Pos",{"$f":"RANK(N28,($N$10:$AM$10,$N$19:$AM$19,$N$28:$AM$28,$N$37:$AM$37),1)","v":1},{"$f":"RANK(O28,($N$10:$AM$10,$N$19:$AM$19,$N$28:$AM$28,$N$37:$AM$37),1)","v":1},{"$f":"RANK(P28,($N$10:$AM$10,$N$19:$AM$19,$N$28:$AM$28,$N$37:$AM$37),1)","v":1},{"$f":"RANK(Q28,($N$10:$AM$10,$N$19:$AM$19,$N$28:$AM$28,$N$37:$AM$37),1)","v":1},{"$f":"RANK(R28,($N$10:$AM$10,$N$19:$AM$19,$N$28:$AM$28,$N$37:$AM$37),1)","v":1},{"$f":"RANK(S28,($N$10:$AM$10,$N$19:$AM$19,$N$28:$AM$28,$N$37:$AM$37),1)","v":1},{"$f":"RANK(T28,($N$10:$AM$10,$N$19:$AM$19,$N$28:$AM$28,$N$37:$AM$37),1)","v":1},{"$f":"RANK(U28,($N$10:$AM$10,$N$19:$AM$19,$N$28:$AM$28,$N$37:$AM$37),1)","v":1},{"$f":"RANK(V28,($N$10:$AM$10,$N$19:$AM$19,$N$28:$AM$28,$N$37:$AM$37),1)","v":1},{"$f":"RANK(W28,($N$10:$AM$10,$N$19:$AM$19,$N$28:$AM$28,$N$37:$AM$37),1)","v":1},{"$f":"RANK(X28,($N$10:$AM$10,$N$19:$AM$19,$N$28:$AM$28,$N$37:$AM$37),1)","v":1},{"$f":"RANK(Y28,($N$10:$AM$10,$N$19:$AM$19,$N$28:$AM$28,$N$37:$AM$37),1)","v":1},{"$f":"RANK(Z28,($N$10:$AM$10,$N$19:$AM$19,$N$28:$AM$28,$N$37:$AM$37),1)","v":1},{"$f":"RANK(AA28,($N$10:$AM$10,$N$19:$AM$19,$N$28:$AM$28,$N$37:$AM$37),1)","v":1},{"$f":"RANK(AB28,($N$10:$AM$10,$N$19:$AM$19,$N$28:$AM$28,$N$37:$AM$37),1)","v":1},{"$f":"RANK(AC28,($N$10:$AM$10,$N$19:$AM$19,$N$28:$AM$28,$N$37:$AM$37),1)","v":1},{"$f":"RANK(AD28,($N$10:$AM$10,$N$19:$AM$19,$N$28:$AM$28,$N$37:$AM$37),1)","v":1},{"$f":"RANK(AE28,($N$10:$AM$10,$N$19:$AM$19,$N$28:$AM$28,$N$37:$AM$37),1)","v":1},{"$f":"RANK(AF28,($N$10:$AM$10,$N$19:$AM$19,$N$28:$AM$28,$N$37:$AM$37),1)","v":1},{"$f":"RANK(AG28,($N$10:$AM$10,$N$19:$AM$19,$N$28:$AM$28,$N$37:$AM$37),1)","v":1},{"$f":"RANK(AH28,($N$10:$AM$10,$N$19:$AM$19,$N$28:$AM$28,$N$37:$AM$37),1)","v":1},{"$f":"RANK(AI28,($N$10:$AM$10,$N$19:$AM$19,$N$28:$AM$28,$N$37:$AM$37),1)","v":1},{"$f":"RANK(AJ28,($N$10:$AM$10,$N$19:$AM$19,$N$28:$AM$28,$N$37:$AM$37),1)","v":1},{"$f":"RANK(AK28,($N$10:$AM$10,$N$19:$AM$19,$N$28:$AM$28,$N$37:$AM$37),1)","v":1},{"$f":"RANK(AL28,($N$10:$AM$10,$N$19:$AM$19,$N$28:$AM$28,$N$37:$AM$37),1)","v":1},{"$f":"RANK(AM28,($N$10:$AM$10,$N$19:$AM$19,$N$28:$AM$28,$N$37:$AM$37),1)","v":1}]
[{"$error":"#REF!"},27,433,"37:35",{"$f":"+VLOOKUP($C30,#REF!,2,\"false\")","v":{"$error":"#REF!"}},{"$f":"+VLOOKUP($C30,#REF!,3,\"false\")","v":{"$error":"#REF!"}},{"$f":"+VLOOKUP($C30,#REF!,4,\"false\")","v":{"$error":"#REF!"}},{"$f":"+VLOOKUP($C30,#REF!,5,\"False\")","v":{"$error":"#REF!"}},{"$f":"+VLOOKUP($C30,#REF!,6,\"false\")","v":{"$error":"#REF!"}},{"$error":"#REF!"},{"$error":"#REF!"}]
[{"$error":"#REF!"},28,404,"38:09",{"$f":"+VLOOKUP($C31,#REF!,2,\"false\")","v":{"$error":"#REF!"}},{"$f":"+VLOOKUP($C31,#REF!,3,\"false\")","v":{"$error":"#REF!"}},{"$f":"+VLOOKUP($C31,#REF!,4,\"false\")","v":{"$error":"#REF!"}},{"$f":"+VLOOKUP($C31,#REF!,5,\"False\")","v":{"$error":"#REF!"}},{"$f":"+VLOOKUP($C31,#REF!,6,\"false\")","v":{"$error":"#REF!"}},{"$error":"#REF!"},{"$error":"#REF!"},null,19,{"$f":"+IF(ISNA(VLOOKUP(N$3&\"  \"&$M31,$A$3:$I$228,2,0)),\"\",VLOOKUP(N$3&\"  \"&$M31,$A$3:$I$228,2,0))","v":""},"","","","","","","","","",{"$f":"+IF(ISNA(VLOOKUP(X$3&\"  \"&$M31,$A$3:$I$228,2,0)),\"\",VLOOKUP(X$3&\"  \"&$M31,$A$3:$I$228,2,0))","v":""},"","","","","","","","","",{"$f":"+IF(ISNA(VLOOKUP(AH$3&\"  \"&$M31,$A$3:$I$228,2,0)),\"\",VLOOKUP(AH$3&\"  \"&$M31,$A$3:$I$228,2,0))","v":""},"","","","",""]
[{"$error":"#REF!"},29,349,"38:28",{"$f":"+VLOOKUP($C32,#REF!,2,\"false\")","v":{"$error":"#REF!"}},{"$f":"+VLOOKUP($C32,#REF!,3,\"false\")","v":{"$error":"#REF!"}},{"$f":"+VLOOKUP($C32,#REF!,4,\"false\")","v":{"$error":"#REF!"}},{"$f":"+VLOOKUP($C32,#REF!,5,\"False\")","v":{"$error":"#REF!"}},{"$f":"+VLOOKUP($C32,#REF!,6,\"false\")","v":{"$error":"#REF!"}},{"$error":"#REF!"},{"$error":"#REF!"},null,{"$f":"+M31+1","v":20},"","","","","","","","","","","","","","","","","","","","","","","","","",""]
[{"$error":"#REF!"},30,413,"38:57",{"$f":"+VLOOKUP($C33,#REF!,2,\"false\")","v":{"$error":"#REF!"}},{"$f":"+VLOOKUP($C33,#REF!,3,\"false\")","v":{"$error":"#REF!"}},{"$f":"+VLOOKUP($C33,#REF!,4,\"false\")","v":{"$error":"#REF!"}},{"$f":"+VLOOKUP($C33,#REF!,5,\"False\")","v":{"$error":"#REF!"}},{"$f":"+VLOOKUP($C33,#REF!,6,\"false\")","v":{"$error":"#REF!"}},{"$error":"#REF!"},{"$f":"+G33&\"  \"&J33","v":{"$error":"#REF!"}},null,{"$f":"+M32+1","v":21},"","","","","","","","","","","","","","","","","","","","","","","","","",""]
[{"$error":"#REF!"},31,435,"39:02",{"$f":"+VLOOKUP($C34,#REF!,2,\"false\")","v":{"$error":"#REF!"}},{"$f":"+VLOOKUP($C34,#REF!,3,\"false\")","v":{"$error":"#REF!"}},{"$f":"+VLOOKUP($C34,#REF!,4,\"false\")","v":{"$error":"#REF!"}},{"$f":"+VLOOKUP($C34,#REF!,5,\"False\")","v":{"$error":"#REF!"}},{"$f":"+VLOOKUP($C34,#REF!,6,\"false\")","v":{"$error":"#REF!"}},{"$error":"#REF!"},{"$f":"+G34&\"  \"&J34","v":{"$error":"#REF!"}},null,{"$f":"+M33+1","v":22},"","","","","","","","","","","","","","","","","","","","","","","","","",""]
[{"$error":"#REF!"},32,323,"39:11",{"$f":"+VLOOKUP($C35,#REF!,2,\"false\")","v":{"$error":"#REF!"}},{"$f":"+VLOOKUP($C35,#REF!,3,\"false\")","v":{"$error":"#REF!"}},{"$f":"+VLOOKUP($C35,#REF!,4,\"false\")","v":{"$error":"#REF!"}},{"$f":"+VLOOKUP($C35,#REF!,5,\"False\")","v":{"$error":"#REF!"}},{"$f":"+VLOOKUP($C35,#REF!,6,\"false\")","v":{"$error":"#REF!"}},{"$error":"#REF!"},{"$f":"+G35&\"  \"&J35","v":{"$error":"#REF!"}},null,{"$f":"+M34+1","v":23},"","","","","","","","","","","","","","","","","","","","","","","","","",""]
[{"$error":"#REF!"},33,333,"39:20",{"$f":"+VLOOKUP($C36,#REF!,2,\"false\")","v":{"$error":"#REF!"}},{"$f":"+VLOOKUP($C36,#REF!,3,\"false\")","v":{"$error":"#REF!"}},{"$f":"+VLOOKUP($C36,#REF!,4,\"false\")","v":{"$error":"#REF!"}},{"$f":"+VLOOKUP($C36,#REF!,5,\"False\")","v":{"$error":"#REF!"}},{"$f":"+VLOOKUP($C36,#REF!,6,\"false\")","v":{"$error":"#REF!"}},{"$f":"TEXT(SUMPRODUCT(--(G36=$G$4:$G$469),--(B36>$B$4:$B$469))+1,0)","v":{"$error":"#REF!"}},{"$f":"+G36&\"  \"&J36","v":{"$error":"#REF!"}},null,{"$f":"+M35+1","v":24},"","","","","","","","","","","","","","","","","","","","","","","","","",""]
[{"$error":"#REF!"},34,418,"39:31",{"$f":"+VLOOKUP($C37,#REF!,2,\"false\")","v":{"$error":"#REF!"}},{"$f":"+VLOOKUP($C37,#REF!,3,\"false\")","v":{"$error":"#REF!"}},{"$f":"+VLOOKUP($C37,#REF!,4,\"false\")","v":{"$error":"#REF!"}},{"$f":"+VLOOKUP($C37,#REF!,5,\"False\")","v":{"$error":"#REF!"}},{"$f":"+VLOOKUP($C37,#REF!,6,\"false\")","v":{"$error":"#REF!"}},{"$error":"#REF!"},{"$error":"#REF!"},null,"Tot",{"$f":"IF(N36=\"\",1000,SUM(N31:N36))","v":1000},{"$f":"IF(O36=\"\",1000,SUM(O31:O36))","v":1000},1000,1000,1000,1000,1000,1000,1000,1000,1000,1000,1000,1000,1000,1000,1000,1000,1000,1000,1000,1000,1000,1000,1000,1000]
[{"$error":"#REF!"},35,410,"39:32",{"$f":"+VLOOKUP($C38,#REF!,2,\"false\")","v":{"$error":"#REF!"}},{"$f":"+VLOOKUP($C38,#REF!,3,\"false\")","v":{"$error":"#REF!"}},{"$f":"+VLOOKUP($C38,#REF!,4,\"false\")","v":{"$error":"#REF!"}},{"$f":"+VLOOKUP($C38,#REF!,5,\"False\")","v":{"$error":"#REF!"}},{"$f":"+VLOOKUP($C38,#REF!,6,\"false\")","v":{"$error":"#REF!"}},{"$error":"#REF!"},{"$error":"#REF!"},null,"Pos",{"$f":"RANK(N37,($N$10:$AM$10,$N$19:$AM$19,$N$28:$AM$28,$N$37:$AM$37),1)","v":1},{"$f":"RANK(O37,($N$10:$AM$10,$N$19:$AM$19,$N$28:$AM$28,$N$37:$AM$37),1)","v":1},{"$f":"RANK(P37,($N$10:$AM$10,$N$19:$AM$19,$N$28:$AM$28,$N$37:$AM$37),1)","v":1},{"$f":"RANK(Q37,($N$10:$AM$10,$N$19:$AM$19,$N$28:$AM$28,$N$37:$AM$37),1)","v":1},{"$f":"RANK(R37,($N$10:$AM$10,$N$19:$AM$19,$N$28:$AM$28,$N$37:$AM$37),1)","v":1},{"$f":"RANK(S37,($N$10:$AM$10,$N$19:$AM$19,$N$28:$AM$28,$N$37:$AM$37),1)","v":1},{"$f":"RANK(T37,($N$10:$AM$10,$N$19:$AM$19,$N$28:$AM$28,$N$37:$AM$37),1)","v":1},{"$f":"RANK(U37,($N$10:$AM$10,$N$19:$AM$19,$N$28:$AM$28,$N$37:$AM$37),1)","v":1},{"$f":"RANK(V37,($N$10:$AM$10,$N$19:$AM$19,$N$28:$AM$28,$N$37:$AM$37),1)","v":1},{"$f":"RANK(W37,($N$10:$AM$10,$N$19:$AM$19,$N$28:$AM$28,$N$37:$AM$37),1)","v":1},{"$f":"RANK(X37,($N$10:$AM$10,$N$19:$AM$19,$N$28:$AM$28,$N$37:$AM$37),1)","v":1},{"$f":"RANK(Y37,($N$10:$AM$10,$N$19:$AM$19,$N$28:$AM$28,$N$37:$AM$37),1)","v":1},{"$f":"RANK(Z37,($N$10:$AM$10,$N$19:$AM$19,$N$28:$AM$28,$N$37:$AM$37),1)","v":1},{"$f":"RANK(AA37,($N$10:$AM$10,$N$19:$AM$19,$N$28:$AM$28,$N$37:$AM$37),1)","v":1},{"$f":"RANK(AB37,($N$10:$AM$10,$N$19:$AM$19,$N$28:$AM$28,$N$37:$AM$37),1)","v":1},{"$f":"RANK(AC37,($N$10:$AM$10,$N$19:$AM$19,$N$28:$AM$28,$N$37:$AM$37),1)","v":1},{"$f":"RANK(AD37,($N$10:$AM$10,$N$19:$AM$19,$N$28:$AM$28,$N$37:$AM$37),1)","v":1},{"$f":"RANK(AE37,($N$10:$AM$10,$N$19:$AM$19,$N$28:$AM$28,$N$37:$AM$37),1)","v":1},{"$f":"RANK(AF37,($N$10:$AM$10,$N$19:$AM$19,$N$28:$AM$28,$N$37:$AM$37),1)","v":1},{"$f":"RANK(AG37,($N$10:$AM$10,$N$19:$AM$19,$N$28:$AM$28,$N$37:$AM$37),1)","v":1},{"$f":"RANK(AH37,($N$10:$AM$10,$N$19:$AM$19,$N$28:$AM$28,$N$37:$AM$37),1)","v":1},{"$f":"RANK(AI37,($N$10:$AM$10,$N$19:$AM$19,$N$28:$AM$28,$N$37:$AM$37),1)","v":1},{"$f":"RANK(AJ37,($N$10:$AM$10,$N$19:$AM$19,$N$28:$AM$28,$N$37:$AM$37),1)","v":1},{"$f":"RANK(AK37,($N$10:$AM$10,$N$19:$AM$19,$N$28:$AM$28,$N$37:$AM$37),1)","v":1},{"$f":"RANK(AL37,($N$10:$AM$10,$N$19:$AM$19,$N$28:$AM$28,$N$37:$AM$37),1)","v":1},{"$f":"RANK(AM37,($N$10:$AM$10,$N$19:$AM$19,$N$28:$AM$28,$N$37:$AM$37),1)","v":1}]
[{"$error":"#REF!"},36,385,"39:39",{"$f":"+VLOOKUP($C39,#REF!,2,\"false\")","v":{"$error":"#REF!"}},{"$f":"+VLOOKUP($C39,#REF!,3,\"false\")","v":{"$error":"#REF!"}},{"$f":"+VLOOKUP($C39,#REF!,4,\"false\")","v":{"$error":"#REF!"}},{"$f":"+VLOOKUP($C39,#REF!,5,\"False\")","v":{"$error":"#REF!"}},{"$f":"+VLOOKUP($C39,#REF!,6,\"false\")","v":{"$error":"#REF!"}},{"$error":"#REF!"},{"$error":"#REF!"}]
[{"$error":"#REF!"},37,411,"39:41",{"$f":"+VLOOKUP($C40,#REF!,2,\"false\")","v":{"$error":"#REF!"}},{"$f":"+VLOOKUP($C40,#REF!,3,\"false\")","v":{"$error":"#REF!"}},{"$f":"+VLOOKUP($C40,#REF!,4,\"false\")","v":{"$error":"#REF!"}},{"$f":"+VLOOKUP($C40,#REF!,5,\"False\")","v":{"$error":"#REF!"}},{"$f":"+VLOOKUP($C40,#REF!,6,\"false\")","v":{"$error":"#REF!"}},{"$error":"#REF!"},{"$error":"#REF!"}]
[{"$error":"#REF!"},38,443,"39:46",{"$f":"+VLOOKUP($C41,#REF!,2,\"false\")","v":{"$error":"#REF!"}},{"$f":"+VLOOKUP($C41,#REF!,3,\"false\")","v":{"$error":"#REF!"}},{"$f":"+VLOOKUP($C41,#REF!,4,\"false\")","v":{"$error":"#REF!"}},{"$f":"+VLOOKUP($C41,#REF!,5,\"False\")","v":{"$error":"#REF!"}},{"$f":"+VLOOKUP($C41,#REF!,6,\"false\")","v":{"$error":"#REF!"}},{"$error":"#REF!"},{"$error":"#REF!"}]
[{"$error":"#REF!"},39,421,"39:48",{"$f":"+VLOOKUP($C42,#REF!,2,\"false\")","v":{"$error":"#REF!"}},{"$f":"+VLOOKUP($C42,#REF!,3,\"false\")","v":{"$error":"#REF!"}},{"$f":"+VLOOKUP($C42,#REF!,4,\"false\")","v":{"$error":"#REF!"}},{"$f":"+VLOOKUP($C42,#REF!,5,\"False\")","v":{"$error":"#REF!"}},{"$f":"+VLOOKUP($C42,#REF!,6,\"false\")","v":{"$error":"#REF!"}},{"$error":"#REF!"},{"$error":"#REF!"}]
[{"$error":"#REF!"},40,340,"39:50",{"$f":"+VLOOKUP($C43,#REF!,2,\"false\")","v":{"$error":"#REF!"}},{"$f":"+VLOOKUP($C43,#REF!,3,\"false\")","v":{"$error":"#REF!"}},{"$f":"+VLOOKUP($C43,#REF!,4,\"false\")","v":{"$error":"#REF!"}},{"$f":"+VLOOKUP($C43,#REF!,5,\"False\")","v":{"$error":"#REF!"}},{"$f":"+VLOOKUP($C43,#REF!,6,\"false\")","v":{"$error":"#REF!"}},{"$error":"#REF!"},{"$error":"#REF!"}]
[{"$error":"#REF!"},41,382,"39:59",{"$f":"+VLOOKUP($C44,#REF!,2,\"false\")","v":{"$error":"#REF!"}},{"$f":"+VLOOKUP($C44,#REF!,3,\"false\")","v":{"$error":"#REF!"}},{"$f":"+VLOOKUP($C44,#REF!,4,\"false\")","v":{"$error":"#REF!"}},{"$f":"+VLOOKUP($C44,#REF!,5,\"False\")","v":{"$error":"#REF!"}},{"$f":"+VLOOKUP($C44,#REF!,6,\"false\")","v":{"$error":"#REF!"}},{"$error":"#REF!"},{"$error":"#REF!"}]
[{"$error":"#REF!"},42,434,"40:05",{"$f":"+VLOOKUP($C45,#REF!,2,\"false\")","v":{"$error":"#REF!"}},{"$f":"+VLOOKUP($C45,#REF!,3,\"false\")","v":{"$error":"#REF!"}},{"$f":"+VLOOKUP($C45,#REF!,4,\"false\")","v":{"$error":"#REF!"}},{"$f":"+VLOOKUP($C45,#REF!,5,\"False\")","v":{"$error":"#REF!"}},{"$f":"+VLOOKUP($C45,#REF!,6,\"false\")","v":{"$error":"#REF!"}},{"$error":"#REF!"},{"$error":"#REF!"}]
[{"$error":"#REF!"},43,394,"40:10",{"$f":"+VLOOKUP($C46,#REF!,2,\"false\")","v":{"$error":"#REF!"}},{"$f":"+VLOOKUP($C46,#REF!,3,\"false\")","v":{"$error":"#REF!"}},{"$f":"+VLOOKUP($C46,#REF!,4,\"false\")","v":{"$error":"#REF!"}},{"$f":"+VLOOKUP($C46,#REF!,5,\"False\")","v":{"$error":"#REF!"}},{"$f":"+VLOOKUP($C46,#REF!,6,\"false\")","v":{"$error":"#REF!"}},{"$error":"#REF!"},{"$error":"#REF!"}]
[{"$error":"#REF!"},44,335,"40:14",{"$f":"+VLOOKUP($C47,#REF!,2,\"false\")","v":{"$error":"#REF!"}},{"$f":"+VLOOKUP($C47,#REF!,3,\"false\")","v":{"$error":"#REF!"}},{"$f":"+VLOOKUP($C47,#REF!,4,\"false\")","v":{"$error":"#REF!"}},{"$f":"+VLOOKUP($C47,#REF!,5,\"False\")","v":{"$error":"#REF!"}},{"$f":"+VLOOKUP($C47,#REF!,6,\"false\")","v":{"$error":"#REF!"}},{"$error":"#REF!"},{"$error":"#REF!"}]
[{"$error":"#REF!"},45,437,"40:20",{"$f":"+VLOOKUP($C48,#REF!,2,\"false\")","v":{"$error":"#REF!"}},{"$f":"+VLOOKUP($C48,#REF!,3,\"false\")","v":{"$error":"#REF!"}},{"$f":"+VLOOKUP($C48,#REF!,4,\"false\")","v":{"$error":"#REF!"}},{"$f":"+VLOOKUP($C48,#REF!,5,\"False\")","v":{"$error":"#REF!"}},{"$f":"+VLOOKUP($C48,#REF!,6,\"false\")","v":{"$error":"#REF!"}},{"$error":"#REF!"},{"$error":"#REF!"}]
[{"$error":"#REF!"},46,503,"40:37",{"$f":"+VLOOKUP($C49,#REF!,2,\"false\")","v":{"$error":"#REF!"}},{"$f":"+VLOOKUP($C49,#REF!,3,\"false\")","v":{"$error":"#REF!"}},{"$f":"+VLOOKUP($C49,#REF!,4,\"false\")","v":{"$error":"#REF!"}},{"$f":"+VLOOKUP($C49,#REF!,5,\"False\")","v":{"$error":"#REF!"}},{"$f":"+VLOOKUP($C49,#REF!,6,\"false\")","v":{"$error":"#REF!"}},{"$error":"#REF!"},{"$error":"#REF!"}]
[{"$error":"#REF!"},47,387,"40:41",{"$f":"+VLOOKUP($C50,#REF!,2,\"false\")","v":{"$error":"#REF!"}},{"$f":"+VLOOKUP($C50,#REF!,3,\"false\")","v":{"$error":"#REF!"}},{"$f":"+VLOOKUP($C50,#REF!,4,\"false\")","v":{"$error":"#REF!"}},{"$f":"+VLOOKUP($C50,#REF!,5,\"False\")","v":{"$error":"#REF!"}},{"$f":"+VLOOKUP($C50,#REF!,6,\"false\")","v":{"$error":"#REF!"}},{"$error":"#REF!"},{"$error":"#REF!"}]
[{"$error":"#REF!"},48,381,"40:53",{"$f":"+VLOOKUP($C51,#REF!,2,\"false\")","v":{"$error":"#REF!"}},{"$f":"+VLOOKUP($C51,#REF!,3,\"false\")","v":{"$error":"#REF!"}},{"$f":"+VLOOKUP($C51,#REF!,4,\"false\")","v":{"$error":"#REF!"}},{"$f":"+VLOOKUP($C51,#REF!,5,\"False\")","v":{"$error":"#REF!"}},{"$f":"+VLOOKUP($C51,#REF!,6,\"false\")","v":{"$error":"#REF!"}},{"$error":"#REF!"},{"$error":"#REF!"}]
[{"$error":"#REF!"},49,354,"40:55",{"$f":"+VLOOKUP($C52,#REF!,2,\"false\")","v":{"$error":"#REF!"}},{"$f":"+VLOOKUP($C52,#REF!,3,\"false\")","v":{"$error":"#REF!"}},{"$f":"+VLOOKUP($C52,#REF!,4,\"false\")","v":{"$error":"#REF!"}},{"$f":"+VLOOKUP($C52,#REF!,5,\"False\")","v":{"$error":"#REF!"}},{"$f":"+VLOOKUP($C52,#REF!,6,\"false\")","v":{"$error":"#REF!"}},{"$error":"#REF!"},{"$error":"#REF!"}]
[{"$error":"#REF!"},50,369,"41:00",{"$f":"+VLOOKUP($C53,#REF!,2,\"false\")","v":{"$error":"#REF!"}},{"$f":"+VLOOKUP($C53,#REF!,3,\"false\")","v":{"$error":"#REF!"}},{"$f":"+VLOOKUP($C53,#REF!,4,\"false\")","v":{"$error":"#REF!"}},{"$f":"+VLOOKUP($C53,#REF!,5,\"False\")","v":{"$error":"#REF!"}},{"$f":"+VLOOKUP($C53,#REF!,6,\"false\")","v":{"$error":"#REF!"}},{"$error":"#REF!"},{"$error":"#REF!"}]
[{"$error":"#REF!"},51,320,"41:03",{"$f":"+VLOOKUP($C54,#REF!,2,\"false\")","v":{"$error":"#REF!"}},{"$f":"+VLOOKUP($C54,#REF!,3,\"false\")","v":{"$error":"#REF!"}},{"$f":"+VLOOKUP($C54,#REF!,4,\"false\")","v":{"$error":"#REF!"}},{"$f":"+VLOOKUP($C54,#REF!,5,\"False\")","v":{"$error":"#REF!"}},{"$f":"+VLOOKUP($C54,#REF!,6,\"false\")","v":{"$error":"#REF!"}},{"$error":"#REF!"},{"$error":"#REF!"}]
[{"$error":"#REF!"},52,339,"41:12",{"$f":"+VLOOKUP($C55,#REF!,2,\"false\")","v":{"$error":"#REF!"}},{"$f":"+VLOOKUP($C55,#REF!,3,\"false\")","v":{"$error":"#REF!"}},{"$f":"+VLOOKUP($C55,#REF!,4,\"false\")","v":{"$error":"#REF!"}},{"$f":"+VLOOKUP($C55,#REF!,5,\"False\")","v":{"$error":"#REF!"}},{"$f":"+VLOOKUP($C55,#REF!,6,\"false\")","v":{"$error":"#REF!"}},{"$error":"#REF!"},{"$error":"#REF!"}]
[{"$error":"#REF!"},{"$f":"+B55+1","v":53},373,"41:17",{"$f":"+VLOOKUP($C56,#REF!,2,\"false\")","v":{"$error":"#REF!"}},{"$f":"+VLOOKUP($C56,#REF!,3,\"false\")","v":{"$error":"#REF!"}},{"$f":"+VLOOKUP($C56,#REF!,4,\"false\")","v":{"$error":"#REF!"}},{"$f":"+VLOOKUP($C56,#REF!,5,\"False\")","v":{"$error":"#REF!"}},{"$f":"+VLOOKUP($C56,#REF!,6,\"false\")","v":{"$error":"#REF!"}},{"$error":"#REF!"},{"$error":"#REF!"}]
[{"$error":"#REF!"},{"$f":"+B56+1","v":54},366,"41:23",{"$f":"+VLOOKUP($C57,#REF!,2,\"false\")","v":{"$error":"#REF!"}},{"$f":"+VLOOKUP($C57,#REF!,3,\"false\")","v":{"$error":"#REF!"}},{"$f":"+VLOOKUP($C57,#REF!,4,\"false\")","v":{"$error":"#REF!"}},{"$f":"+VLOOKUP($C57,#REF!,5,\"False\")","v":{"$error":"#REF!"}},{"$f":"+VLOOKUP($C57,#REF!,6,\"false\")","v":{"$error":"#REF!"}},{"$error":"#REF!"},{"$f":"+G57&\"  \"&J57","v":{"$error":"#REF!"}}]
[{"$error":"#REF!"},55,355,"41:32",{"$f":"+VLOOKUP($C58,#REF!,2,\"false\")","v":{"$error":"#REF!"}},{"$f":"+VLOOKUP($C58,#REF!,3,\"false\")","v":{"$error":"#REF!"}},{"$f":"+VLOOKUP($C58,#REF!,4,\"false\")","v":{"$error":"#REF!"}},{"$f":"+VLOOKUP($C58,#REF!,5,\"False\")","v":{"$error":"#REF!"}},{"$f":"+VLOOKUP($C58,#REF!,6,\"false\")","v":{"$error":"#REF!"}},{"$error":"#REF!"},{"$error":"#REF!"}]
[{"$error":"#REF!"},56,438,"41:39",{"$f":"+VLOOKUP($C59,#REF!,2,\"false\")","v":{"$error":"#REF!"}},{"$f":"+VLOOKUP($C59,#REF!,3,\"false\")","v":{"$error":"#REF!"}},{"$f":"+VLOOKUP($C59,#REF!,4,\"false\")","v":{"$error":"#REF!"}},{"$f":"+VLOOKUP($C59,#REF!,5,\"False\")","v":{"$error":"#REF!"}},{"$f":"+VLOOKUP($C59,#REF!,6,\"false\")","v":{"$error":"#REF!"}},{"$error":"#REF!"},{"$error":"#REF!"}]
[{"$error":"#REF!"},57,363,"41:42",{"$f":"+VLOOKUP($C60,#REF!,2,\"false\")","v":{"$error":"#REF!"}},{"$f":"+VLOOKUP($C60,#REF!,3,\"false\")","v":{"$error":"#REF!"}},{"$f":"+VLOOKUP($C60,#REF!,4,\"false\")","v":{"$error":"#REF!"}},{"$f":"+VLOOKUP($C60,#REF!,5,\"False\")","v":{"$error":"#REF!"}},{"$f":"+VLOOKUP($C60,#REF!,6,\"false\")","v":{"$error":"#REF!"}},{"$error":"#REF!"},{"$error":"#REF!"}]
[{"$error":"#REF!"},58,409,"41:48",{"$f":"+VLOOKUP($C61,#REF!,2,\"false\")","v":{"$error":"#REF!"}},{"$f":"+VLOOKUP($C61,#REF!,3,\"false\")","v":{"$error":"#REF!"}},{"$f":"+VLOOKUP($C61,#REF!,4,\"false\")","v":{"$error":"#REF!"}},{"$f":"+VLOOKUP($C61,#REF!,5,\"False\")","v":{"$error":"#REF!"}},{"$f":"+VLOOKUP($C61,#REF!,6,\"false\")","v":{"$error":"#REF!"}},{"$error":"#REF!"},{"$error":"#REF!"}]
[{"$error":"#REF!"},59,400,"41:50",{"$f":"+VLOOKUP($C62,#REF!,2,\"false\")","v":{"$error":"#REF!"}},{"$f":"+VLOOKUP($C62,#REF!,3,\"false\")","v":{"$error":"#REF!"}},{"$f":"+VLOOKUP($C62,#REF!,4,\"false\")","v":{"$error":"#REF!"}},{"$f":"+VLOOKUP($C62,#REF!,5,\"False\")","v":{"$error":"#REF!"}},{"$f":"+VLOOKUP($C62,#REF!,6,\"false\")","v":{"$error":"#REF!"}},{"$error":"#REF!"},{"$error":"#REF!"}]
[{"$error":"#REF!"},60,360,"41:51",{"$f":"+VLOOKUP($C63,#REF!,2,\"false\")","v":{"$error":"#REF!"}},{"$f":"+VLOOKUP($C63,#REF!,3,\"false\")","v":{"$error":"#REF!"}},{"$f":"+VLOOKUP($C63,#REF!,4,\"false\")","v":{"$error":"#REF!"}},{"$f":"+VLOOKUP($C63,#REF!,5,\"False\")","v":{"$error":"#REF!"}},{"$f":"+VLOOKUP($C63,#REF!,6,\"false\")","v":{"$error":"#REF!"}},{"$error":"#REF!"},{"$error":"#REF!"}]
[{"$error":"#REF!"},61,408,"42:07",{"$f":"+VLOOKUP($C64,#REF!,2,\"false\")","v":{"$error":"#REF!"}},{"$f":"+VLOOKUP($C64,#REF!,3,\"false\")","v":{"$error":"#REF!"}},{"$f":"+VLOOKUP($C64,#REF!,4,\"false\")","v":{"$error":"#REF!"}},{"$f":"+VLOOKUP($C64,#REF!,5,\"False\")","v":{"$error":"#REF!"}},{"$f":"+VLOOKUP($C64,#REF!,6,\"false\")","v":{"$error":"#REF!"}},{"$error":"#REF!"},{"$error":"#REF!"}]
[{"$error":"#REF!"},62,424,"42:22",{"$f":"+VLOOKUP($C65,#REF!,2,\"false\")","v":{"$error":"#REF!"}},{"$f":"+VLOOKUP($C65,#REF!,3,\"false\")","v":{"$error":"#REF!"}},{"$f":"+VLOOKUP($C65,#REF!,4,\"false\")","v":{"$error":"#REF!"}},{"$f":"+VLOOKUP($C65,#REF!,5,\"False\")","v":{"$error":"#REF!"}},{"$f":"+VLOOKUP($C65,#REF!,6,\"false\")","v":{"$error":"#REF!"}},{"$error":"#REF!"},{"$error":"#REF!"}]
[{"$error":"#REF!"},63,447,"42:22",{"$f":"+VLOOKUP($C66,#REF!,2,\"false\")","v":{"$error":"#REF!"}},{"$f":"+VLOOKUP($C66,#REF!,3,\"false\")","v":{"$error":"#REF!"}},{"$f":"+VLOOKUP($C66,#REF!,4,\"false\")","v":{"$error":"#REF!"}},{"$f":"+VLOOKUP($C66,#REF!,5,\"False\")","v":{"$error":"#REF!"}},{"$f":"+VLOOKUP($C66,#REF!,6,\"false\")","v":{"$error":"#REF!"}},{"$error":"#REF!"},{"$error":"#REF!"}]
[{"$error":"#REF!"},64,348,"42:31",{"$f":"+VLOOKUP($C67,#REF!,2,\"false\")","v":{"$error":"#REF!"}},{"$f":"+VLOOKUP($C67,#REF!,3,\"false\")","v":{"$error":"#REF!"}},{"$f":"+VLOOKUP($C67,#REF!,4,\"false\")","v":{"$error":"#REF!"}},{"$f":"+VLOOKUP($C67,#REF!,5,\"False\")","v":{"$error":"#REF!"}},{"$f":"+VLOOKUP($C67,#REF!,6,\"false\")","v":{"$error":"#REF!"}},{"$error":"#REF!"},{"$error":"#REF!"}]
[{"$error":"#REF!"},65,428,"42:32",{"$f":"+VLOOKUP($C68,#REF!,2,\"false\")","v":{"$error":"#REF!"}},{"$f":"+VLOOKUP($C68,#REF!,3,\"false\")","v":{"$error":"#REF!"}},{"$f":"+VLOOKUP($C68,#REF!,4,\"false\")","v":{"$error":"#REF!"}},{"$f":"+VLOOKUP($C68,#REF!,5,\"False\")","v":{"$error":"#REF!"}},{"$f":"+VLOOKUP($C68,#REF!,6,\"false\")","v":{"$error":"#REF!"}},{"$f":"TEXT(SUMPRODUCT(--(G68=$G$4:$G$469),--(B68>$B$4:$B$469))+1,0)","v":{"$error":"#REF!"}},{"$error":"#REF!"}]
[{"$f":"+K69","v":{"$error":"#REF!"}},66,393,"42:49",{"$f":"+VLOOKUP($C69,#REF!,2,\"false\")","v":{"$error":"#REF!"}},{"$f":"+VLOOKUP($C69,#REF!,3,\"false\")","v":{"$error":"#REF!"}},{"$f":"+VLOOKUP($C69,#REF!,4,\"false\")","v":{"$error":"#REF!"}},{"$f":"+VLOOKUP($C69,#REF!,5,\"False\")","v":{"$error":"#REF!"}},{"$f":"+VLOOKUP($C69,#REF!,6,\"false\")","v":{"$error":"#REF!"}},{"$error":"#REF!"},{"$error":"#REF!"}]
[{"$error":"#REF!"},67,432,"42:53",{"$f":"+VLOOKUP($C70,#REF!,2,\"false\")","v":{"$error":"#REF!"}},{"$f":"+VLOOKUP($C70,#REF!,3,\"false\")","v":{"$error":"#REF!"}},{"$f":"+VLOOKUP($C70,#REF!,4,\"false\")","v":{"$error":"#REF!"}},{"$f":"+VLOOKUP($C70,#REF!,5,\"False\")","v":{"$error":"#REF!"}},{"$f":"+VLOOKUP($C70,#REF!,6,\"false\")","v":{"$error":"#REF!"}},{"$error":"#REF!"},{"$error":"#REF!"}]
[{"$error":"#REF!"},68,336,"43:08",{"$f":"+VLOOKUP($C71,#REF!,2,\"false\")","v":{"$error":"#REF!"}},{"$f":"+VLOOKUP($C71,#REF!,3,\"false\")","v":{"$error":"#REF!"}},{"$f":"+VLOOKUP($C71,#REF!,4,\"false\")","v":{"$error":"#REF!"}},{"$f":"+VLOOKUP($C71,#REF!,5,\"False\")","v":{"$error":"#REF!"}},{"$f":"+VLOOKUP($C71,#REF!,6,\"false\")","v":{"$error":"#REF!"}},{"$error":"#REF!"},{"$error":"#REF!"}]
[{"$error":"#REF!"},69,328,"43:21",{"$f":"+VLOOKUP($C72,#REF!,2,\"false\")","v":{"$error":"#REF!"}},{"$f":"+VLOOKUP($C72,#REF!,3,\"false\")","v":{"$error":"#REF!"}},{"$f":"+VLOOKUP($C72,#REF!,4,\"false\")","v":{"$error":"#REF!"}},{"$f":"+VLOOKUP($C72,#REF!,5,\"False\")","v":{"$error":"#REF!"}},{"$f":"+VLOOKUP($C72,#REF!,6,\"false\")","v":{"$error":"#REF!"}},{"$error":"#REF!"},{"$error":"#REF!"}]
[{"$error":"#REF!"},70,444,"43:26",{"$f":"+VLOOKUP($C73,#REF!,2,\"false\")","v":{"$error":"#REF!"}},{"$f":"+VLOOKUP($C73,#REF!,3,\"false\")","v":{"$error":"#REF!"}},{"$f":"+VLOOKUP($C73,#REF!,4,\"false\")","v":{"$error":"#REF!"}},{"$f":"+VLOOKUP($C73,#REF!,5,\"False\")","v":{"$error":"#REF!"}},{"$f":"+VLOOKUP($C73,#REF!,6,\"false\")","v":{"$error":"#REF!"}},{"$error":"#REF!"},{"$error":"#REF!"}]
[{"$error":"#REF!"},71,364,"43:26",{"$f":"+VLOOKUP($C74,#REF!,2,\"false\")","v":{"$error":"#REF!"}},{"$f":"+VLOOKUP($C74,#REF!,3,\"false\")","v":{"$error":"#REF!"}},{"$f":"+VLOOKUP($C74,#REF!,4,\"false\")","v":{"$error":"#REF!"}},{"$f":"+VLOOKUP($C74,#REF!,5,\"False\")","v":{"$error":"#REF!"}},{"$f":"+VLOOKUP($C74,#REF!,6,\"false\")","v":{"$error":"#REF!"}},{"$error":"#REF!"},{"$error":"#REF!"}]
[{"$error":"#REF!"},72,338,"43:36",{"$f":"+VLOOKUP($C75,#REF!,2,\"false\")","v":{"$error":"#REF!"}},{"$f":"+VLOOKUP($C75,#REF!,3,\"false\")","v":{"$error":"#REF!"}},{"$f":"+VLOOKUP($C75,#REF!,4,\"false\")","v":{"$error":"#REF!"}},{"$f":"+VLOOKUP($C75,#REF!,5,\"False\")","v":{"$error":"#REF!"}},{"$f":"+VLOOKUP($C75,#REF!,6,\"false\")","v":{"$error":"#REF!"}},{"$error":"#REF!"},{"$error":"#REF!"}]
[{"$error":"#REF!"},73,425,"43:44",{"$f":"+VLOOKUP($C76,#REF!,2,\"false\")","v":{"$error":"#REF!"}},{"$f":"+VLOOKUP($C76,#REF!,3,\"false\")","v":{"$error":"#REF!"}},{"$f":"+VLOOKUP($C76,#REF!,4,\"false\")","v":{"$error":"#REF!"}},{"$f":"+VLOOKUP($C76,#REF!,5,\"False\")","v":{"$error":"#REF!"}},{"$f":"+VLOOKUP($C76,#REF!,6,\"false\")","v":{"$error":"#REF!"}},{"$error":"#REF!"},{"$error":"#REF!"}]
[{"$error":"#REF!"},74,440,"43:48",{"$f":"+VLOOKUP($C77,#REF!,2,\"false\")","v":{"$error":"#REF!"}},{"$f":"+VLOOKUP($C77,#REF!,3,\"false\")","v":{"$error":"#REF!"}},{"$f":"+VLOOKUP($C77,#REF!,4,\"false\")","v":{"$error":"#REF!"}},{"$f":"+VLOOKUP($C77,#REF!,5,\"False\")","v":{"$error":"#REF!"}},{"$f":"+VLOOKUP($C77,#REF!,6,\"false\")","v":{"$error":"#REF!"}},{"$error":"#REF!"},{"$error":"#REF!"}]
[{"$error":"#REF!"},75,416,"43:56",{"$f":"+VLOOKUP($C78,#REF!,2,\"false\")","v":{"$error":"#REF!"}},{"$f":"+VLOOKUP($C78,#REF!,3,\"false\")","v":{"$error":"#REF!"}},{"$f":"+VLOOKUP($C78,#REF!,4,\"false\")","v":{"$error":"#REF!"}},{"$f":"+VLOOKUP($C78,#REF!,5,\"False\")","v":{"$error":"#REF!"}},{"$f":"+VLOOKUP($C78,#REF!,6,\"false\")","v":{"$error":"#REF!"}},{"$error":"#REF!"},{"$error":"#REF!"}]
[{"$error":"#REF!"},76,405,"43:58",{"$f":"+VLOOKUP($C79,#REF!,2,\"false\")","v":{"$error":"#REF!"}},{"$f":"+VLOOKUP($C79,#REF!,3,\"false\")","v":{"$error":"#REF!"}},{"$f":"+VLOOKUP($C79,#REF!,4,\"false\")","v":{"$error":"#REF!"}},{"$f":"+VLOOKUP($C79,#REF!,5,\"False\")","v":{"$error":"#REF!"}},{"$f":"+VLOOKUP($C79,#REF!,6,\"false\")","v":{"$error":"#REF!"}},{"$error":"#REF!"},{"$error":"#REF!"}]
[{"$error":"#REF!"},77,367,"44:21",{"$f":"+VLOOKUP($C80,#REF!,2,\"false\")","v":{"$error":"#REF!"}},{"$f":"+VLOOKUP($C80,#REF!,3,\"false\")","v":{"$error":"#REF!"}},{"$f":"+VLOOKUP($C80,#REF!,4,\"false\")","v":{"$error":"#REF!"}},{"$f":"+VLOOKUP($C80,#REF!,5,\"False\")","v":{"$error":"#REF!"}},{"$f":"+VLOOKUP($C80,#REF!,6,\"false\")","v":{"$error":"#REF!"}},{"$error":"#REF!"},{"$error":"#REF!"}]
[{"$f":"+K81","v":{"$error":"#REF!"}},78,417,"44:49",{"$f":"+VLOOKUP($C81,#REF!,2,\"false\")","v":{"$error":"#REF!"}},{"$f":"+VLOOKUP($C81,#REF!,3,\"false\")","v":{"$error":"#REF!"}},{"$f":"+VLOOKUP($C81,#REF!,4,\"false\")","v":{"$error":"#REF!"}},{"$f":"+VLOOKUP($C81,#REF!,5,\"False\")","v":{"$error":"#REF!"}},{"$f":"+VLOOKUP($C81,#REF!,6,\"false\")","v":{"$error":"#REF!"}},{"$error":"#REF!"},{"$f":"+G81&\"  \"&J81","v":{"$error":"#REF!"}}]
[{"$error":"#REF!"},79,395,"44:53",{"$f":"+VLOOKUP($C82,#REF!,2,\"false\")","v":{"$error":"#REF!"}},{"$f":"+VLOOKUP($C82,#REF!,3,\"false\")","v":{"$error":"#REF!"}},{"$f":"+VLOOKUP($C82,#REF!,4,\"false\")","v":{"$error":"#REF!"}},{"$f":"+VLOOKUP($C82,#REF!,5,\"False\")","v":{"$error":"#REF!"}},{"$f":"+VLOOKUP($C82,#REF!,6,\"false\")","v":{"$error":"#REF!"}},{"$error":"#REF!"},{"$error":"#REF!"}]
[{"$error":"#REF!"},80,448,"45:11",{"$f":"+VLOOKUP($C83,#REF!,2,\"false\")","v":{"$error":"#REF!"}},{"$f":"+VLOOKUP($C83,#REF!,3,\"false\")","v":{"$error":"#REF!"}},{"$f":"+VLOOKUP($C83,#REF!,4,\"false\")","v":{"$error":"#REF!"}},{"$f":"+VLOOKUP($C83,#REF!,5,\"False\")","v":{"$error":"#REF!"}},{"$f":"+VLOOKUP($C83,#REF!,6,\"false\")","v":{"$error":"#REF!"}},{"$error":"#REF!"},{"$error":"#REF!"}]
[{"$error":"#REF!"},81,430,"45:20",{"$f":"+VLOOKUP($C84,#REF!,2,\"false\")","v":{"$error":"#REF!"}},{"$f":"+VLOOKUP($C84,#REF!,3,\"false\")","v":{"$error":"#REF!"}},{"$f":"+VLOOKUP($C84,#REF!,4,\"false\")","v":{"$error":"#REF!"}},{"$f":"+VLOOKUP($C84,#REF!,5,\"False\")","v":{"$error":"#REF!"}},{"$f":"+VLOOKUP($C84,#REF!,6,\"false\")","v":{"$error":"#REF!"}},{"$error":"#REF!"},{"$error":"#REF!"}]
[{"$error":"#REF!"},82,368,"45:37",{"$f":"+VLOOKUP($C85,#REF!,2,\"false\")","v":{"$error":"#REF!"}},{"$f":"+VLOOKUP($C85,#REF!,3,\"false\")","v":{"$error":"#REF!"}},{"$f":"+VLOOKUP($C85,#REF!,4,\"false\")","v":{"$error":"#REF!"}},{"$f":"+VLOOKUP($C85,#REF!,5,\"False\")","v":{"$error":"#REF!"}},{"$f":"+VLOOKUP($C85,#REF!,6,\"false\")","v":{"$error":"#REF!"}},{"$error":"#REF!"},{"$error":"#REF!"}]
[{"$error":"#REF!"},83,344,"45:58",{"$f":"+VLOOKUP($C86,#REF!,2,\"false\")","v":{"$error":"#REF!"}},{"$f":"+VLOOKUP($C86,#REF!,3,\"false\")","v":{"$error":"#REF!"}},{"$f":"+VLOOKUP($C86,#REF!,4,\"false\")","v":{"$error":"#REF!"}},{"$f":"+VLOOKUP($C86,#REF!,5,\"False\")","v":{"$error":"#REF!"}},{"$f":"+VLOOKUP($C86,#REF!,6,\"false\")","v":{"$error":"#REF!"}},{"$error":"#REF!"},{"$error":"#REF!"}]
[{"$error":"#REF!"},84,342,"46:06",{"$f":"+VLOOKUP($C87,#REF!,2,\"false\")","v":{"$error":"#REF!"}},{"$f":"+VLOOKUP($C87,#REF!,3,\"false\")","v":{"$error":"#REF!"}},{"$f":"+VLOOKUP($C87,#REF!,4,\"false\")","v":{"$error":"#REF!"}},{"$f":"+VLOOKUP($C87,#REF!,5,\"False\")","v":{"$error":"#REF!"}},{"$f":"+VLOOKUP($C87,#REF!,6,\"false\")","v":{"$error":"#REF!"}},{"$error":"#REF!"},{"$error":"#REF!"}]
[{"$error":"#REF!"},85,326,"46:13",{"$f":"+VLOOKUP($C88,#REF!,2,\"false\")","v":{"$error":"#REF!"}},{"$f":"+VLOOKUP($C88,#REF!,3,\"false\")","v":{"$error":"#REF!"}},{"$f":"+VLOOKUP($C88,#REF!,4,\"false\")","v":{"$error":"#REF!"}},{"$f":"+VLOOKUP($C88,#REF!,5,\"False\")","v":{"$error":"#REF!"}},{"$f":"+VLOOKUP($C88,#REF!,6,\"false\")","v":{"$error":"#REF!"}},{"$error":"#REF!"},{"$error":"#REF!"}]
[{"$error":"#REF!"},86,401,"46:18",{"$f":"+VLOOKUP($C89,#REF!,2,\"false\")","v":{"$error":"#REF!"}},{"$f":"+VLOOKUP($C89,#REF!,3,\"false\")","v":{"$error":"#REF!"}},{"$f":"+VLOOKUP($C89,#REF!,4,\"false\")","v":{"$error":"#REF!"}},{"$f":"+VLOOKUP($C89,#REF!,5,\"False\")","v":{"$error":"#REF!"}},{"$f":"+VLOOKUP($C89,#REF!,6,\"false\")","v":{"$error":"#REF!"}},{"$error":"#REF!"},{"$error":"#REF!"}]
[{"$error":"#REF!"},87,403,"46:19",{"$f":"+VLOOKUP($C90,#REF!,2,\"false\")","v":{"$error":"#REF!"}},{"$f":"+VLOOKUP($C90,#REF!,3,\"false\")","v":{"$error":"#REF!"}},{"$f":"+VLOOKUP($C90,#REF!,4,\"false\")","v":{"$error":"#REF!"}},{"$f":"+VLOOKUP($C90,#REF!,5,\"False\")","v":{"$error":"#REF!"}},{"$f":"+VLOOKUP($C90,#REF!,6,\"false\")","v":{"$error":"#REF!"}},{"$error":"#REF!"},{"$error":"#REF!"}]
[{"$error":"#REF!"},88,406,"46:41",{"$f":"+VLOOKUP($C91,#REF!,2,\"false\")","v":{"$error":"#REF!"}},{"$f":"+VLOOKUP($C91,#REF!,3,\"false\")","v":{"$error":"#REF!"}},{"$f":"+VLOOKUP($C91,#REF!,4,\"false\")","v":{"$error":"#REF!"}},{"$f":"+VLOOKUP($C91,#REF!,5,\"False\")","v":{"$error":"#REF!"}},{"$f":"+VLOOKUP($C91,#REF!,6,\"false\")","v":{"$error":"#REF!"}},{"$error":"#REF!"},{"$error":"#REF!"}]
[{"$error":"#REF!"},89,426,"46:50",{"$f":"+VLOOKUP($C92,#REF!,2,\"false\")","v":{"$error":"#REF!"}},{"$f":"+VLOOKUP($C92,#REF!,3,\"false\")","v":{"$error":"#REF!"}},{"$f":"+VLOOKUP($C92,#REF!,4,\"false\")","v":{"$error":"#REF!"}},{"$f":"+VLOOKUP($C92,#REF!,5,\"False\")","v":{"$error":"#REF!"}},{"$f":"+VLOOKUP($C92,#REF!,6,\"false\")","v":{"$error":"#REF!"}},{"$error":"#REF!"},{"$error":"#REF!"}]
[{"$error":"#REF!"},90,419,"47:25",{"$f":"+VLOOKUP($C93,#REF!,2,\"false\")","v":{"$error":"#REF!"}},{"$f":"+VLOOKUP($C93,#REF!,3,\"false\")","v":{"$error":"#REF!"}},{"$f":"+VLOOKUP($C93,#REF!,4,\"false\")","v":{"$error":"#REF!"}},{"$f":"+VLOOKUP($C93,#REF!,5,\"False\")","v":{"$error":"#REF!"}},{"$f":"+VLOOKUP($C93,#REF!,6,\"false\")","v":{"$error":"#REF!"}},{"$error":"#REF!"},{"$error":"#REF!"}]
[{"$error":"#REF!"},91,376,"47:31",{"$f":"+VLOOKUP($C94,#REF!,2,\"false\")","v":{"$error":"#REF!"}},{"$f":"+VLOOKUP($C94,#REF!,3,\"false\")","v":{"$error":"#REF!"}},{"$f":"+VLOOKUP($C94,#REF!,4,\"false\")","v":{"$error":"#REF!"}},{"$f":"+VLOOKUP($C94,#REF!,5,\"False\")","v":{"$error":"#REF!"}},{"$f":"+VLOOKUP($C94,#REF!,6,\"false\")","v":{"$error":"#REF!"}},{"$error":"#REF!"},{"$error":"#REF!"}]
[{"$error":"#REF!"},92,420,"47:43",{"$f":"+VLOOKUP($C95,#REF!,2,\"false\")","v":{"$error":"#REF!"}},{"$f":"+VLOOKUP($C95,#REF!,3,\"false\")","v":{"$error":"#REF!"}},{"$f":"+VLOOKUP($C95,#REF!,4,\"false\")","v":{"$error":"#REF!"}},{"$f":"+VLOOKUP($C95,#REF!,5,\"False\")","v":{"$error":"#REF!"}},{"$f":"+VLOOKUP($C95,#REF!,6,\"false\")","v":{"$error":"#REF!"}},{"$error":"#REF!"},{"$error":"#REF!"}]
[{"$error":"#REF!"},93,331,"47:56",{"$f":"+VLOOKUP($C96,#REF!,2,\"false\")","v":{"$error":"#REF!"}},{"$f":"+VLOOKUP($C96,#REF!,3,\"false\")","v":{"$error":"#REF!"}},{"$f":"+VLOOKUP($C96,#REF!,4,\"false\")","v":{"$error":"#REF!"}},{"$f":"+VLOOKUP($C96,#REF!,5,\"False\")","v":{"$error":"#REF!"}},{"$f":"+VLOOKUP($C96,#REF!,6,\"false\")","v":{"$error":"#REF!"}},{"$error":"#REF!"},{"$error":"#REF!"}]
[{"$error":"#REF!"},94,370,"48:03",{"$f":"+VLOOKUP($C97,#REF!,2,\"false\")","v":{"$error":"#REF!"}},{"$f":"+VLOOKUP($C97,#REF!,3,\"false\")","v":{"$error":"#REF!"}},{"$f":"+VLOOKUP($C97,#REF!,4,\"false\")","v":{"$error":"#REF!"}},{"$f":"+VLOOKUP($C97,#REF!,5,\"False\")","v":{"$error":"#REF!"}},{"$f":"+VLOOKUP($C97,#REF!,6,\"false\")","v":{"$error":"#REF!"}},{"$error":"#REF!"},{"$error":"#REF!"}]
[{"$error":"#REF!"},95,365,"48:12",{"$f":"+VLOOKUP($C98,#REF!,2,\"false\")","v":{"$error":"#REF!"}},{"$f":"+VLOOKUP($C98,#REF!,3,\"false\")","v":{"$error":"#REF!"}},{"$f":"+VLOOKUP($C98,#REF!,4,\"false\")","v":{"$error":"#REF!"}},{"$f":"+VLOOKUP($C98,#REF!,5,\"False\")","v":{"$error":"#REF!"}},{"$f":"+VLOOKUP($C98,#REF!,6,\"false\")","v":{"$error":"#REF!"}},{"$error":"#REF!"},{"$error":"#REF!"}]
[{"$error":"#REF!"},96,445,"48:24",{"$f":"+VLOOKUP($C99,#REF!,2,\"false\")","v":{"$error":"#REF!"}},{"$f":"+VLOOKUP($C99,#REF!,3,\"false\")","v":{"$error":"#REF!"}},{"$f":"+VLOOKUP($C99,#REF!,4,\"false\")","v":{"$error":"#REF!"}},{"$f":"+VLOOKUP($C99,#REF!,5,\"False\")","v":{"$error":"#REF!"}},{"$f":"+VLOOKUP($C99,#REF!,6,\"false\")","v":{"$error":"#REF!"}},{"$error":"#REF!"},{"$error":"#REF!"}]
[{"$error":"#REF!"},97,446,"48:37",{"$f":"+VLOOKUP($C100,#REF!,2,\"false\")","v":{"$error":"#REF!"}},{"$f":"+VLOOKUP($C100,#REF!,3,\"false\")","v":{"$error":"#REF!"}},{"$f":"+VLOOKUP($C100,#REF!,4,\"false\")","v":{"$error":"#REF!"}},{"$f":"+VLOOKUP($C100,#REF!,5,\"False\")","v":{"$error":"#REF!"}},{"$f":"+VLOOKUP($C100,#REF!,6,\"false\")","v":{"$error":"#REF!"}},{"$f":"TEXT(SUMPRODUCT(--(G100=$G$4:$G$469),--(B100>$B$4:$B$469))+1,0)","v":{"$error":"#REF!"}},{"$error":"#REF!"},null,null,"HNJ"]
[{"$error":"#REF!"},98,402,"49:13",{"$f":"+VLOOKUP($C101,#REF!,2,\"false\")","v":{"$error":"#REF!"}},{"$f":"+VLOOKUP($C101,#REF!,3,\"false\")","v":{"$error":"#REF!"}},{"$f":"+VLOOKUP($C101,#REF!,4,\"false\")","v":{"$error":"#REF!"}},{"$f":"+VLOOKUP($C101,#REF!,5,\"False\")","v":{"$error":"#REF!"}},{"$f":"+VLOOKUP($C101,#REF!,6,\"false\")","v":{"$error":"#REF!"}},{"$error":"#REF!"},{"$error":"#REF!"},null,null,"HY"]
[{"$error":"#REF!"},99,499,"49:31",{"$f":"+VLOOKUP($C102,#REF!,2,\"false\")","v":{"$error":"#REF!"}},{"$f":"+VLOOKUP($C102,#REF!,3,\"false\")","v":{"$error":"#REF!"}},{"$f":"+VLOOKUP($C102,#REF!,4,\"false\")","v":{"$error":"#REF!"}},{"$f":"+VLOOKUP($C102,#REF!,5,\"False\")","v":{"$error":"#REF!"}},{"$f":"+VLOOKUP($C102,#REF!,6,\"false\")","v":{"$error":"#REF!"}},{"$error":"#REF!"},{"$error":"#REF!"},null,null,"LEW"]
[{"$error":"#REF!"},100,356,"49:36",{"$f":"+VLOOKUP($C103,#REF!,2,\"false\")","v":{"$error":"#REF!"}},{"$f":"+VLOOKUP($C103,#REF!,3,\"false\")","v":{"$error":"#REF!"}},{"$f":"+VLOOKUP($C103,#REF!,4,\"false\")","v":{"$error":"#REF!"}},{"$f":"+VLOOKUP($C103,#REF!,5,\"False\")","v":{"$error":"#REF!"}},{"$f":"+VLOOKUP($C103,#REF!,6,\"false\")","v":{"$error":"#REF!"}},{"$error":"#REF!"},{"$error":"#REF!"},null,null,"CHI"]
[{"$error":"#REF!"},101,345,"49:42",{"$f":"+VLOOKUP($C104,#REF!,2,\"false\")","v":{"$error":"#REF!"}},{"$f":"+VLOOKUP($C104,#REF!,3,\"false\")","v":{"$error":"#REF!"}},{"$f":"+VLOOKUP($C104,#REF!,4,\"false\")","v":{"$error":"#REF!"}},{"$f":"+VLOOKUP($C104,#REF!,5,\"False\")","v":{"$error":"#REF!"}},{"$f":"+VLOOKUP($C104,#REF!,6,\"false\")","v":{"$error":"#REF!"}},{"$error":"#REF!"},{"$error":"#REF!"},null,null,"CSS"]
[{"$error":"#REF!"},102,399,"49:50",{"$f":"+VLOOKUP($C105,#REF!,2,\"false\")","v":{"$error":"#REF!"}},{"$f":"+VLOOKUP($C105,#REF!,3,\"false\")","v":{"$error":"#REF!"}},{"$f":"+VLOOKUP($C105,#REF!,4,\"false\")","v":{"$error":"#REF!"}},{"$f":"+VLOOKUP($C105,#REF!,5,\"False\")","v":{"$error":"#REF!"}},{"$f":"+VLOOKUP($C105,#REF!,6,\"false\")","v":{"$error":"#REF!"}},{"$error":"#REF!"},{"$error":"#REF!"},null,null,"PHX"]
[{"$error":"#REF!"},103,441,"51:20",{"$f":"+VLOOKUP($C106,#REF!,2,\"false\")","v":{"$error":"#REF!"}},{"$f":"+VLOOKUP($C106,#REF!,3,\"false\")","v":{"$error":"#REF!"}},{"$f":"+VLOOKUP($C106,#REF!,4,\"false\")","v":{"$error":"#REF!"}},{"$f":"+VLOOKUP($C106,#REF!,5,\"False\")","v":{"$error":"#REF!"}},{"$f":"+VLOOKUP($C106,#REF!,6,\"false\")","v":{"$error":"#REF!"}},{"$error":"#REF!"},{"$error":"#REF!"},null,null,"HAI"]
[{"$error":"#REF!"},104,414,"51:32",{"$f":"+VLOOKUP($C107,#REF!,2,\"false\")","v":{"$error":"#REF!"}},{"$f":"+VLOOKUP($C107,#REF!,3,\"false\")","v":{"$error":"#REF!"}},{"$f":"+VLOOKUP($C107,#REF!,4,\"false\")","v":{"$error":"#REF!"}},{"$f":"+VLOOKUP($C107,#REF!,5,\"False\")","v":{"$error":"#REF!"}},{"$f":"+VLOOKUP($C107,#REF!,6,\"false\")","v":{"$error":"#REF!"}},{"$error":"#REF!"},{"$error":"#REF!"},null,null,"EBR"]
[{"$error":"#REF!"},105,504,"52:20",{"$f":"+VLOOKUP($C108,#REF!,2,\"false\")","v":{"$error":"#REF!"}},{"$f":"+VLOOKUP($C108,#REF!,3,\"false\")","v":{"$error":"#REF!"}},{"$f":"+VLOOKUP($C108,#REF!,4,\"false\")","v":{"$error":"#REF!"}},{"$f":"+VLOOKUP($C108,#REF!,5,\"False\")","v":{"$error":"#REF!"}},{"$f":"+VLOOKUP($C108,#REF!,6,\"false\")","v":{"$error":"#REF!"}},{"$error":"#REF!"},{"$error":"#REF!"},null,null,"BTC"]
[{"$error":"#REF!"},106,436,"52:28",{"$f":"+VLOOKUP($C109,#REF!,2,\"false\")","v":{"$error":"#REF!"}},{"$f":"+VLOOKUP($C109,#REF!,3,\"false\")","v":{"$error":"#REF!"}},{"$f":"+VLOOKUP($C109,#REF!,4,\"false\")","v":{"$error":"#REF!"}},{"$f":"+VLOOKUP($C109,#REF!,5,\"False\")","v":{"$error":"#REF!"}},{"$f":"+VLOOKUP($C109,#REF!,6,\"false\")","v":{"$error":"#REF!"}},{"$error":"#REF!"},{"$error":"#REF!"},null,null,"HHH"]
[{"$error":"#REF!"},107,325,"52:50",{"$f":"+VLOOKUP($C110,#REF!,2,\"false\")","v":{"$error":"#REF!"}},{"$f":"+VLOOKUP($C110,#REF!,3,\"false\")","v":{"$error":"#REF!"}},{"$f":"+VLOOKUP($C110,#REF!,4,\"false\")","v":{"$error":"#REF!"}},{"$f":"+VLOOKUP($C110,#REF!,5,\"False\")","v":{"$error":"#REF!"}},{"$f":"+VLOOKUP($C110,#REF!,6,\"false\")","v":{"$error":"#REF!"}},{"$error":"#REF!"},{"$error":"#REF!"},null,null,"CRA"]
[{"$error":"#REF!"},108,352,"52:59",{"$f":"+VLOOKUP($C111,#REF!,2,\"false\")","v":{"$error":"#REF!"}},{"$f":"+VLOOKUP($C111,#REF!,3,\"false\")","v":{"$error":"#REF!"}},{"$f":"+VLOOKUP($C111,#REF!,4,\"false\")","v":{"$error":"#REF!"}},{"$f":"+VLOOKUP($C111,#REF!,5,\"False\")","v":{"$error":"#REF!"}},{"$f":"+VLOOKUP($C111,#REF!,6,\"false\")","v":{"$error":"#REF!"}},{"$error":"#REF!"},{"$error":"#REF!"},null,null,"VR"]
[{"$error":"#REF!"},109,396,"53:16",{"$f":"+VLOOKUP($C112,#REF!,2,\"false\")","v":{"$error":"#REF!"}},{"$f":"+VLOOKUP($C112,#REF!,3,\"false\")","v":{"$error":"#REF!"}},{"$f":"+VLOOKUP($C112,#REF!,4,\"false\")","v":{"$error":"#REF!"}},{"$f":"+VLOOKUP($C112,#REF!,5,\"False\")","v":{"$error":"#REF!"}},{"$f":"+VLOOKUP($C112,#REF!,6,\"false\")","v":{"$error":"#REF!"}},{"$error":"#REF!"},{"$error":"#REF!"},null,null,"B&H"]
[{"$error":"#REF!"},110,379,"54:27",{"$f":"+VLOOKUP($C113,#REF!,2,\"false\")","v":{"$error":"#REF!"}},{"$f":"+VLOOKUP($C113,#REF!,3,\"false\")","v":{"$error":"#REF!"}},{"$f":"+VLOOKUP($C113,#REF!,4,\"false\")","v":{"$error":"#REF!"}},{"$f":"+VLOOKUP($C113,#REF!,5,\"False\")","v":{"$error":"#REF!"}},{"$f":"+VLOOKUP($C113,#REF!,6,\"false\")","v":{"$error":"#REF!"}},{"$error":"#REF!"},{"$error":"#REF!"},null,null,"HBS"]
[{"$error":"#REF!"},111,427,"54:45",{"$f":"+VLOOKUP($C114,#REF!,2,\"false\")","v":{"$error":"#REF!"}},{"$f":"+VLOOKUP($C114,#REF!,3,\"false\")","v":{"$error":"#REF!"}},{"$f":"+VLOOKUP($C114,#REF!,4,\"false\")","v":{"$error":"#REF!"}},{"$f":"+VLOOKUP($C114,#REF!,5,\"False\")","v":{"$error":"#REF!"}},{"$f":"+VLOOKUP($C114,#REF!,6,\"false\")","v":{"$error":"#REF!"}},{"$error":"#REF!"},{"$error":"#REF!"},null,null,"HAS"]
[{"$error":"#REF!"},112,439,"55:06",{"$f":"+VLOOKUP($C115,#REF!,2,\"false\")","v":{"$error":"#REF!"}},{"$f":"+VLOOKUP($C115,#REF!,3,\"false\")","v":{"$error":"#REF!"}},{"$f":"+VLOOKUP($C115,#REF!,4,\"false\")","v":{"$error":"#REF!"}},{"$f":"+VLOOKUP($C115,#REF!,5,\"False\")","v":{"$error":"#REF!"}},{"$f":"+VLOOKUP($C115,#REF!,6,\"false\")","v":{"$error":"#REF!"}},{"$error":"#REF!"},{"$error":"#REF!"},null,null,"BWK"]
[{"$error":"#REF!"},113,377,"56:03",{"$f":"+VLOOKUP($C116,#REF!,2,\"false\")","v":{"$error":"#REF!"}},{"$f":"+VLOOKUP($C116,#REF!,3,\"false\")","v":{"$error":"#REF!"}},{"$f":"+VLOOKUP($C116,#REF!,4,\"false\")","v":{"$error":"#REF!"}},{"$f":"+VLOOKUP($C116,#REF!,5,\"False\")","v":{"$error":"#REF!"}},{"$f":"+VLOOKUP($C116,#REF!,6,\"false\")","v":{"$error":"#REF!"}},{"$error":"#REF!"},{"$error":"#REF!"},null,null,"HMJ"]
[{"$error":"#REF!"},114,371,"56:17",{"$f":"+VLOOKUP($C117,#REF!,2,\"false\")","v":{"$error":"#REF!"}},{"$f":"+VLOOKUP($C117,#REF!,3,\"false\")","v":{"$error":"#REF!"}},{"$f":"+VLOOKUP($C117,#REF!,4,\"false\")","v":{"$error":"#REF!"}},{"$f":"+VLOOKUP($C117,#REF!,5,\"False\")","v":{"$error":"#REF!"}},{"$f":"+VLOOKUP($C117,#REF!,6,\"false\")","v":{"$error":"#REF!"}},{"$error":"#REF!"},{"$error":"#REF!"},null,null,"SYN"]
[{"$error":"#REF!"},115,327,"60:26",{"$f":"+VLOOKUP($C118,#REF!,2,\"false\")","v":{"$error":"#REF!"}},{"$f":"+VLOOKUP($C118,#REF!,3,\"false\")","v":{"$error":"#REF!"}},{"$f":"+VLOOKUP($C118,#REF!,4,\"false\")","v":{"$error":"#REF!"}},{"$f":"+VLOOKUP($C118,#REF!,5,\"False\")","v":{"$error":"#REF!"}},{"$f":"+VLOOKUP($C118,#REF!,6,\"false\")","v":{"$error":"#REF!"}},{"$error":"#REF!"},{"$error":"#REF!"},null,null,"CROW"]
[{"$error":"#REF!"},116,415,"61:52",{"$f":"+VLOOKUP($C119,#REF!,2,\"false\")","v":{"$error":"#REF!"}},{"$f":"+VLOOKUP($C119,#REF!,3,\"false\")","v":{"$error":"#REF!"}},{"$f":"+VLOOKUP($C119,#REF!,4,\"false\")","v":{"$error":"#REF!"}},{"$f":"+VLOOKUP($C119,#REF!,5,\"False\")","v":{"$error":"#REF!"}},{"$f":"+VLOOKUP($C119,#REF!,6,\"false\")","v":{"$error":"#REF!"}},{"$error":"#REF!"},{"$error":"#REF!"},null,null,"WDH"]
[{"$error":"#REF!"},117,398,"61:53",{"$f":"+VLOOKUP($C120,#REF!,2,\"false\")","v":{"$error":"#REF!"}},{"$f":"+VLOOKUP($C120,#REF!,3,\"false\")","v":{"$error":"#REF!"}},{"$f":"+VLOOKUP($C120,#REF!,4,\"false\")","v":{"$error":"#REF!"}},{"$f":"+VLOOKUP($C120,#REF!,5,\"False\")","v":{"$error":"#REF!"}},{"$f":"+VLOOKUP($C120,#REF!,6,\"false\")","v":{"$error":"#REF!"}},{"$error":"#REF!"},{"$error":"#REF!"},null,null,"GRR"]
[{"$error":"#REF!"},{"$f":"+B120+1","v":118},374,"62:46",{"$f":"+VLOOKUP($C121,#REF!,2,\"false\")","v":{"$error":"#REF!"}},{"$f":"+VLOOKUP($C121,#REF!,3,\"false\")","v":{"$error":"#REF!"}},{"$f":"+VLOOKUP($C121,#REF!,4,\"false\")","v":{"$error":"#REF!"}},{"$f":"+VLOOKUP($C121,#REF!,5,\"False\")","v":{"$error":"#REF!"}},{"$f":"+VLOOKUP($C121,#REF!,6,\"false\")","v":{"$error":"#REF!"}},{"$error":"#REF!"},{"$error":"#REF!"},null,null,""]
[{"$error":"#REF!"},{"$f":"+B121+1","v":119},431,"68:53",{"$f":"+VLOOKUP($C122,#REF!,2,\"false\")","v":{"$error":"#REF!"}},{"$f":"+VLOOKUP($C122,#REF!,3,\"false\")","v":{"$error":"#REF!"}},{"$f":"+VLOOKUP($C122,#REF!,4,\"false\")","v":{"$error":"#REF!"}},{"$f":"+VLOOKUP($C122,#REF!,5,\"False\")","v":{"$error":"#REF!"}},{"$f":"+VLOOKUP($C122,#REF!,6,\"false\")","v":{"$error":"#REF!"}},{"$error":"#REF!"},{"$error":"#REF!"}]
[{"$error":"#REF!"},{"$f":"+B122+1","v":120},383,"70:16",{"$f":"+VLOOKUP($C123,#REF!,2,\"false\")","v":{"$error":"#REF!"}},{"$f":"+VLOOKUP($C123,#REF!,3,\"false\")","v":{"$error":"#REF!"}},{"$f":"+VLOOKUP($C123,#REF!,4,\"false\")","v":{"$error":"#REF!"}},{"$f":"+VLOOKUP($C123,#REF!,5,\"False\")","v":{"$error":"#REF!"}},{"$f":"+VLOOKUP($C123,#REF!,6,\"false\")","v":{"$error":"#REF!"}},{"$error":"#REF!"},{"$error":"#REF!"}]
[{"$error":"#REF!"},{"$f":"+B123+1","v":121},334,"70:18",{"$f":"+VLOOKUP($C124,#REF!,2,\"false\")","v":{"$error":"#REF!"}},{"$f":"+VLOOKUP($C124,#REF!,3,\"false\")","v":{"$error":"#REF!"}},{"$f":"+VLOOKUP($C124,#REF!,4,\"false\")","v":{"$error":"#REF!"}},{"$f":"+VLOOKUP($C124,#REF!,5,\"False\")","v":{"$error":"#REF!"}},{"$f":"+VLOOKUP($C124,#REF!,6,\"false\")","v":{"$error":"#REF!"}},{"$error":"#REF!"},{"$error":"#REF!"}]
{"$rows_empty":104}
[null,"Pos","Bib","Time"]
[null,1,298,"29:38"]
[null,{"$f":"+B230+1","v":2},307,"29:51"]
[null,{"$f":"+B231+1","v":3},299,"30:23"]
[null,4,309,"30:25"]
[null,5,500,"30:30"]
[null,6,303,"31:40"]
[null,7,302,"32:31"]
[null,8,297,"32:38"]
[null,9,311,"33:18"]
[null,10,380,"33:48"]
[null,11,304,"34:08"]
[null,12,347,"34:38"]
[null,13,351,"34:49"]
[null,14,310,"35:04"]
[null,15,300,"35:05"]
[null,16,308,"35:40"]
[null,17,362,"35:53"]
[null,18,375,"36:04"]
[null,19,392,"36:06"]
[null,20,361,"36:10"]
[null,21,407,"36:19"]
[null,22,422,"36:30"]
[null,23,384,"36:32"]
[null,24,346,"36:34"]
[null,25,442,"36:46"]
[null,26,350,"37:07"]
[null,27,433,"37:35"]
[null,28,404,"38:09"]
[null,29,349,"38:28"]
[null,30,413,"38:57"]
[null,31,435,"39:02"]
[null,32,323,"39:11"]
[null,33,333,"39:20"]
[null,34,318,"39:31"]
[null,35,410,"39:32"]
[null,36,385,"39:39"]
[null,37,411,"39:41"]
[null,38,443,"39:46"]
[null,39,421,"39:48"]
[null,40,340,"39:50"]
[null,41,382,"39:59"]
[null,42,434,"40:05"]
[null,43,394,"40:10"]
[null,44,335,"40:14"]
[null,45,437,"40:20"]
[null,46,503,"40:37"]
[null,47,387,"40:41"]
[null,48,381,"40:53"]
[null,49,354,"40:55"]
[null,50,369,"41:00"]
[null,51,320,"41:03"]
[null,52,339,"41:12"]
[null,53,373,"41:17"]
[null,54,366,"41:23","correct"]
[null,55,355,"41:32"]
[null,56,438,"41:39"]
[null,57,363,"41:42"]
[null,58,409,"41:48"]
[null,59,400,"41:50"]
[null,60,360,"41:51"]
[null,61,408,"42:07"]
[null,62,424,"42:22"]
[null,63,447,"42:22"]
[null,64,348,"42:31"]
[null,65,428,"42:32"]
[null,66,393,"42:49"]
[null,{"$f":"+B295+1","v":67},432,"42:53"]
[null,68,336,"43:08","correct"]
[null,69,328,"43:21"]
[null,70,444,"43:26"]
[null,71,364,"43:26"]
[null,72,338,"43:36"]
[null,73,425,"43:44"]
[null,74,440,"43:48"]
[null,75,416,"43:56"]
[null,76,405,"43:58"]
[null,77,367,"44:21"]
[null,78,417,"44:49"]
[null,79,395,"44:53"]
[null,80,448,"45:11"]
[null,81,430,"45:20"]
[null,82,368,"45:37"]
[null,83,344,"45:58"]
[null,84,342,"46:06"]
[null,85,326,"46:13"]
[null,86,401,"46:18"]
[null,87,403,"46:19","inserted edited here toaccount for missing time"]
[null,88,406,"46:41"]
[null,89,426,"46:50"]
[null,90,419,"47:25"]
[null,91,376,"47:31"]
[null,92,420,"47:43"]
[null,93,331,"47:56"]
[null,94,370,"48:03"]
[null,95,365,"48:12"]
[null,96,445,"48:24",48.24]
[null,97,446,"48:37"]
[null,98,402,"49:13"]
[null,99,499,"49:31"]
[null,100,356,"49:36"]
[null,101,345,"49:42"]
[null,102,399,"49:50"]
[null,103,441,"51:20"]
[null,104,414,"51:32"]
[null,105,504,"52:20"]
[null,106,436,"52:28"]
[null,107,325,"52:50"]
[null,108,352,"52:59"]
[null,109,396,"53:16",53.16]
[null,110,379,"54:27"]
[null,111,427,"54:45"]
[null,112,439,"55:06"]
[null,113,377,"56:03"]
[null,114,371,"56:17",56.17]
[null,115,327,"60:26"]
[null,116,415,"61:52"]
[null,117,398,"61:53"]
[null,118,374,"62:46"]
[null,119,431,"68:53"]
[null,120,383,"70:16"]
[null,121,334,"70:18"]
[null,122]
[null,123]
[null,124]
[null,125]
[null,126]
[null,127]
[null,128]
[null,129]
[null,130]
[null,{"$f":"+B359+1","v":131}]
[null,132]
[null,133]
[null,134]
[null,135]
[null,136]
[null,137]
[null,138]
[null,139]
[null,140]
[null,141]
[null,142]
[null,143]
[null,144]
[null,145]
[null,146]
[null,147]
[null,148]
[null,149]
[null,150]
[null,151]
[null,152]
[null,153]
[null,154]
[null,155]
[null,156]
[null,157]
[null,158]
[null,159]
[null,160]
[null,161]
[null,162]
[null,163]
[null,164]
[null,165]
[null,166,"."]
[null,167]
[null,168]
[null,169]
[null,170]
[null,171]
[null,172]
[null,173]
[null,174]
[null,175]
[null,176]
[null,177]
[null,178]
[null,179]
[null,180]
[null,181]
[null,182]
[null,183]
[null,184]
[null,185]
[null,186]
[null,187]
[null,188]
[null,189]
[null,190]
[null,191]
[null,192]
[null,193]
[null,194]
[null,{"$f":"+B423+1","v":195}]
[null,196]
[null,197]
[null,198]
[null,199]
[null,200]
[null,201]
[null,202]
[null,203]
[null,204]
[null,205]
[null,206]
[null,207]
[null,208]
[null,209]
[null,210]
[null,211]
[null,212]
[null,213]
[null,214]
[null,215]
[null,216]
[null,217]
[null,218]
[null,219]
[null,220]
[null,221]
[null,222]
[null,223]
[null,224]
[null,225]
[null,226]
[null,227]
[null,228]
[null,229]
[null,230]
[null,231]
[null,232]
[null,233]
[null,234]
[null,235]
[null,236]
[null,237]
[null,238]
[null,239]
[null,240]
[null,241]
[null,242]
[null,243]
[null,244]
[null,245]
[null,246]
[null,247]
[null,248]
[null,249]
[null,250]
[null,251]
[null,252]
[null,253]
[null,254]
[null,255]
[null,256]
[null,257]
[null,258]
[null,{"$f":"+B487+1","v":259}]
[null,260]
[null,261]
[null,262]
[null,263]
[null,264]
[null,265]
[null,266]
[null,267]
[null,268]
[null,269]
[null,270]
[null,271]
[null,272]
[null,273]
[null,274]
[null,275]
[null,276]
[null,277]
[null,278]
[null,279]
[null,280]
[null,281]
[null,282]
[null,283]
[null,284]
[null,285]
[null,286]
[null,287]
[null,288]
[null,289]
[null,290]
[null,291]
[null,292]
[null,293]
[null,294]
[null,295]
[null,296]
[null,297]
[null,298]
[null,299]
[null,300]
[null,301]
[null,302]
[null,303]
[null,304]
[null,305]
[null,306]
[null,307]
[null,308]
[null,309]
[null,310]
[null,311]
[null,312]
[null,313]
[null,314]
[null,315]
[null,316]
[null,317]
[null,318]
[null,319]
[null,320]
[null,321]
[null,322]
[null,{"$f":"+B551+1","v":323}]
[null,324]
[null,325]
[null,326]
[null,327]
[null,328]
[null,329]
[null,330]
[null,331]
[null,332]
[null,333]
[null,334]
[null,335]
[null,336]
[null,337]
[null,338]
[null,339]
[null,340]
[null,341]
[null,342]
[null,343]
[null,344]
[null,345]
[null,346]
[null,347]
[null,348]
[null,349]
[null,350]

{"sheet":"U20W","index":11,"n_rows":708,"n_cols":39,"rows_kept":708,"hidden":true,"merged":[[0,1,0,6],[1,1,1,10],[355,1,355,6]]}
[null,"Sussex Athletics XC Championships\nBexhill, 07/01/2023",{"$nulls":11},"26 clubs - cols N to AM"]
[null,"U20 Women"]
["Temp","Pos","Bib","Time","Forename","Surname","Club","Cat ","Sex","Rk","Club Rk",null,null,"LEW","B&H","HBS","RAW","TON"]
[{"$f":"+K4","v":{"$error":"#REF!"}},1,519,"36:42",{"$f":"+VLOOKUP($C4,#REF!,2,\"false\")","v":{"$error":"#REF!"}},{"$f":"+VLOOKUP($C4,#REF!,3,\"false\")","v":{"$error":"#REF!"}},{"$f":"+VLOOKUP($C4,#REF!,4,\"false\")","v":{"$error":"#REF!"}},{"$f":"+VLOOKUP($C4,#REF!,5,\"False\")","v":{"$error":"#REF!"}},{"$f":"+VLOOKUP($C4,#REF!,6,\"false\")","v":{"$error":"#REF!"}},{"$f":"TEXT(SUMPRODUCT(--(G4=$G$4:$G$598),--(B4>$B$4:$B$598))+1,0)","v":{"$error":"#REF!"}},{"$f":"+G4&\"  \"&J4","v":{"$error":"#REF!"}},null,1,{"$f":"+IF(ISNA(VLOOKUP(N$3&\"  \"&$M4,$A$3:$I$110,2,0)),\"\",VLOOKUP(N$3&\"  \"&$M4,$A$3:$I$110,2,0))","v":""},{"$f":"+IF(ISNA(VLOOKUP(O$3&\"  \"&$M4,$A$3:$I$110,2,0)),\"\",VLOOKUP(O$3&\"  \"&$M4,$A$3:$I$110,2,0))","v":""},"","","","","","","","","","","","","","","","","","","","","","","",""]
[{"$error":"#REF!"},{"$f":"+B4+1","v":2},319,"36:54",{"$f":"+VLOOKUP($C5,#REF!,2,\"false\")","v":{"$error":"#REF!"}},{"$f":"+VLOOKUP($C5,#REF!,3,\"false\")","v":{"$error":"#REF!"}},{"$f":"+VLOOKUP($C5,#REF!,4,\"false\")","v":{"$error":"#REF!"}},{"$f":"+VLOOKUP($C5,#REF!,5,\"False\")","v":{"$error":"#REF!"}},{"$f":"+VLOOKUP($C5,#REF!,6,\"false\")","v":{"$error":"#REF!"}},{"$error":"#REF!"},{"$error":"#REF!"},null,2,"",{"$f":"+IF(ISNA(VLOOKUP(O$3&\"  \"&$M5,$A$3:$I$110,2,0)),\"\",VLOOKUP(O$3&\"  \"&$M5,$A$3:$I$110,2,0))","v":""},"","","","","","","","","","","","","","","","","","","","","","","",""]
[{"$error":"#REF!"},3,314,"37:58",{"$f":"+VLOOKUP($C6,#REF!,2,\"false\")","v":{"$error":"#REF!"}},{"$f":"+VLOOKUP($C6,#REF!,3,\"false\")","v":{"$error":"#REF!"}},{"$f":"+VLOOKUP($C6,#REF!,4,\"false\")","v":{"$error":"#REF!"}},{"$f":"+VLOOKUP($C6,#REF!,5,\"False\")","v":{"$error":"#REF!"}},{"$f":"+VLOOKUP($C6,#REF!,6,\"false\")","v":{"$error":"#REF!"}},{"$error":"#REF!"},{"$error":"#REF!"},null,3,"","","","","","","","","","","","","","","","","","","","","","","","","",""]
[{"$error":"#REF!"},4,315,"39:29",{"$f":"+VLOOKUP($C7,#REF!,2,\"false\")","v":{"$error":"#REF!"}},{"$f":"+VLOOKUP($C7,#REF!,3,\"false\")","v":{"$error":"#REF!"}},{"$f":"+VLOOKUP($C7,#REF!,4,\"false\")","v":{"$error":"#REF!"}},{"$f":"+VLOOKUP($C7,#REF!,5,\"False\")","v":{"$error":"#REF!"}},{"$f":"+VLOOKUP($C7,#REF!,6,\"false\")","v":{"$error":"#REF!"}},{"$error":"#REF!"},{"$error":"#REF!"},null,4,"","","","","","","","","","","","","","","","","","","","","","","","","",""]
[{"$error":"#REF!"},5,317,"41:04",{"$f":"+VLOOKUP($C8,#REF!,2,\"false\")","v":{"$error":"#REF!"}},{"$f":"+VLOOKUP($C8,#REF!,3,\"false\")","v":{"$error":"#REF!"}},{"$f":"+VLOOKUP($C8,#REF!,4,\"false\")","v":{"$error":"#REF!"}},{"$f":"+VLOOKUP($C8,#REF!,5,\"False\")","v":{"$error":"#REF!"}},{"$f":"+VLOOKUP($C8,#REF!,6,\"false\")","v":{"$error":"#REF!"}},{"$error":"#REF!"},{"$error":"#REF!"},null,null,"","","","","","","","","","","","","","","","","","","","","","","","","",""]
[{"$error":"#REF!"},6,286,"41:45",{"$f":"+VLOOKUP($C9,#REF!,2,\"false\")","v":{"$error":"#REF!"}},{"$f":"+VLOOKUP($C9,#REF!,3,\"false\")","v":{"$error":"#REF!"}},{"$f":"+VLOOKUP($C9,#REF!,4,\"false\")","v":{"$error":"#REF!"}},{"$f":"+VLOOKUP($C9,#REF!,5,\"False\")","v":{"$error":"#REF!"}},{"$f":"+VLOOKUP($C9,#REF!,6,\"false\")","v":{"$error":"#REF!"}},{"$error":"#REF!"},{"$error":"#REF!"},null,null,"","","","","","","","","","","","","","","","","","","","","","","","","",""]
[{"$error":"#REF!"},7,312,"48:33",{"$f":"+VLOOKUP($C10,#REF!,2,\"false\")","v":{"$error":"#REF!"}},{"$f":"+VLOOKUP($C10,#REF!,3,\"false\")","v":{"$error":"#REF!"}},{"$f":"+VLOOKUP($C10,#REF!,4,\"false\")","v":{"$error":"#REF!"}},{"$f":"+VLOOKUP($C10,#REF!,5,\"False\")","v":{"$error":"#REF!"}},{"$f":"+VLOOKUP($C10,#REF!,6,\"false\")","v":{"$error":"#REF!"}},{"$error":"#REF!"},{"$error":"#REF!"},null,"Tot",{"$f":"IF(N7=\"\",1000,SUM(N4:N7))","v":1000},{"$f":"IF(O7=\"\",1000,SUM(O4:O7))","v":1000},1000,1000,1000,1000,1000,1000,1000,1000,1000,1000,1000,1000,1000,1000,1000,1000,1000,1000,1000,1000,1000,1000,1000,1000]
[{"$nulls":12},"Pos",{"$f":"RANK(N10,($N$10:$AM$10,$N$19:$AM$19),1)","v":1},{"$f":"RANK(O10,($N$10:$AM$10,$N$19:$AM$19),1)","v":1},{"$f":"RANK(P10,($N$10:$AM$10,$N$19:$AM$19),1)","v":1},{"$f":"RANK(Q10,($N$10:$AM$10,$N$19:$AM$19),1)","v":1},{"$f":"RANK(R10,($N$10:$AM$10,$N$19:$AM$19),1)","v":1},{"$f":"RANK(S10,($N$10:$AM$10,$N$19:$AM$19),1)","v":1},{"$f":"RANK(T10,($N$10:$AM$10,$N$19:$AM$19),1)","v":1},{"$f":"RANK(U10,($N$10:$AM$10,$N$19:$AM$19),1)","v":1},{"$f":"RANK(V10,($N$10:$AM$10,$N$19:$AM$19),1)","v":1},{"$f":"RANK(W10,($N$10:$AM$10,$N$19:$AM$19),1)","v":1},{"$f":"RANK(X10,($N$10:$AM$10,$N$19:$AM$19),1)","v":1},{"$f":"RANK(Y10,($N$10:$AM$10,$N$19:$AM$19),1)","v":1},{"$f":"RANK(Z10,($N$10:$AM$10,$N$19:$AM$19),1)","v":1},{"$f":"RANK(AA10,($N$10:$AM$10,$N$19:$AM$19),1)","v":1},{"$f":"RANK(AB10,($N$10:$AM$10,$N$19:$AM$19),1)","v":1},{"$f":"RANK(AC10,($N$10:$AM$10,$N$19:$AM$19),1)","v":1},{"$f":"RANK(AD10,($N$10:$AM$10,$N$19:$AM$19),1)","v":1},{"$f":"RANK(AE10,($N$10:$AM$10,$N$19:$AM$19),1)","v":1},{"$f":"RANK(AF10,($N$10:$AM$10,$N$19:$AM$19),1)","v":1},{"$f":"RANK(AG10,($N$10:$AM$10,$N$19:$AM$19),1)","v":1},{"$f":"RANK(AH10,($N$10:$AM$10,$N$19:$AM$19),1)","v":1},{"$f":"RANK(AI10,($N$10:$AM$10,$N$19:$AM$19),1)","v":1},{"$f":"RANK(AJ10,($N$10:$AM$10,$N$19:$AM$19),1)","v":1},{"$f":"RANK(AK10,($N$10:$AM$10,$N$19:$AM$19),1)","v":1},{"$f":"RANK(AL10,($N$10:$AM$10,$N$19:$AM$19),1)","v":1},{"$f":"RANK(AM10,($N$10:$AM$10,$N$19:$AM$19),1)","v":1}]
[]
[{"$nulls":12},5,{"$f":"+IF(ISNA(VLOOKUP(N$3&\"  \"&$M13,$A$3:$I$110,2,0)),\"\",VLOOKUP(N$3&\"  \"&$M13,$A$3:$I$110,2,0))","v":""},{"$f":"+IF(ISNA(VLOOKUP(O$3&\"  \"&$M13,$A$3:$I$110,2,0)),\"\",VLOOKUP(O$3&\"  \"&$M13,$A$3:$I$110,2,0))","v":""},"","","","","","","","","","","","","","","",{"$f":"+IF(ISNA(VLOOKUP(AE$3&\"  \"&$M13,$A$3:$I$110,2,0)),\"\",VLOOKUP(AE$3&\"  \"&$M13,$A$3:$I$110,2,0))","v":""},"","","","","","","",""]
[{"$nulls":12},6,"","","","","","","","","","","","","","","","","","","","","","","","","",""]
[{"$nulls":12},7,"","","","","","","","","","","","","","","","","","","","","","","","","",""]
[{"$nulls":12},8,"","","","","","","","","","","","","","","","","","","","","","","","","",""]
[{"$nulls":13},"","","","","","","","","","","","","","","","","","","","","","","","","",""]
[{"$nulls":13},"","","","","","","","","","","","","","","","","","","","","","","","","",""]
[{"$nulls":12},"Tot",{"$f":"IF(N16=\"\",1000,SUM(N13:N16))","v":1000},{"$f":"IF(O16=\"\",1000,SUM(O13:O16))","v":1000},1000,1000,1000,1000,1000,1000,1000,1000,1000,1000,1000,1000,1000,1000,1000,1000,1000,1000,1000,1000,1000,1000,1000,1000]
[{"$nulls":12},"Pos",{"$f":"RANK(N19,($N$10:$AM$10,$N$19:$AM$19),1)","v":1},{"$f":"RANK(O19,($N$10:$AM$10,$N$19:$AM$19),1)","v":1},{"$f":"RANK(P19,($N$10:$AM$10,$N$19:$AM$19),1)","v":1},{"$f":"RANK(Q19,($N$10:$AM$10,$N$19:$AM$19),1)","v":1},{"$f":"RANK(R19,($N$10:$AM$10,$N$19:$AM$19),1)","v":1},{"$f":"RANK(S19,($N$10:$AM$10,$N$19:$AM$19),1)","v":1},{"$f":"RANK(T19,($N$10:$AM$10,$N$19:$AM$19),1)","v":1},{"$f":"RANK(U19,($N$10:$AM$10,$N$19:$AM$19),1)","v":1},{"$f":"RANK(V19,($N$10:$AM$10,$N$19:$AM$19),1)","v":1},{"$f":"RANK(W19,($N$10:$AM$10,$N$19:$AM$19),1)","v":1},{"$f":"RANK(X19,($N$10:$AM$10,$N$19:$AM$19),1)","v":1},{"$f":"RANK(Y19,($N$10:$AM$10,$N$19:$AM$19),1)","v":1},{"$f":"RANK(Z19,($N$10:$AM$10,$N$19:$AM$19),1)","v":1},{"$f":"RANK(AA19,($N$10:$AM$10,$N$19:$AM$19),1)","v":1},{"$f":"RANK(AB19,($N$10:$AM$10,$N$19:$AM$19),1)","v":1},{"$f":"RANK(AC19,($N$10:$AM$10,$N$19:$AM$19),1)","v":1},{"$f":"RANK(AD19,($N$10:$AM$10,$N$19:$AM$19),1)","v":1},{"$f":"RANK(AE19,($N$10:$AM$10,$N$19:$AM$19),1)","v":1},{"$f":"RANK(AF19,($N$10:$AM$10,$N$19:$AM$19),1)","v":1},{"$f":"RANK(AG19,($N$10:$AM$10,$N$19:$AM$19),1)","v":1},{"$f":"RANK(AH19,($N$10:$AM$10,$N$19:$AM$19),1)","v":1},{"$f":"RANK(AI19,($N$10:$AM$10,$N$19:$AM$19),1)","v":1},{"$f":"RANK(AJ19,($N$10:$AM$10,$N$19:$AM$19),1)","v":1},{"$f":"RANK(AK19,($N$10:$AM$10,$N$19:$AM$19),1)","v":1},{"$f":"RANK(AL19,($N$10:$AM$10,$N$19:$AM$19),1)","v":1},{"$f":"RANK(AM19,($N$10:$AM$10,$N$19:$AM$19),1)","v":1}]
{"$rows_empty":79}
[{"$nulls":13},"LEW"]
[{"$nulls":13},"B&H"]
[{"$nulls":13},"HBS"]
[{"$nulls":13},"RAW"]
[{"$nulls":13},"TON"]
{"$rows_empty":251}
[null,"Area for entering Bib Nos.  Then paste Times here.  Check they synch."]
[]
[null,"Pos","Bib","Time"]
[null,1]
[null,{"$f":"+B359+1","v":2}]
[null,{"$f":"+B360+1","v":3}]
[null,4]
[null,5]
[null,6]
[null,7]
[null,8]
[null,9]
[null,10]
[null,11]
[null,12]
[null,13]
[null,14]
[null,15]
[null,16]
[null,17]
[null,18]
[null,19]
[null,20]
[null,21]
[null,22]
[null,23]
[null,24]
[null,25]
[null,26]
[null,27]
[null,28]
[null,29]
[null,30]
[null,31]
[null,32]
[null,33]
[null,34]
[null,35]
[null,36]
[null,37]
[null,38]
[null,39]
[null,40]
[null,41]
[null,42]
[null,43]
[null,44]
[null,45]
[null,46]
[null,47]
[null,48]
[null,49]
[null,50]
[null,51]
[null,52]
[null,53]
[null,54]
[null,55]
[null,56]
[null,57]
[null,58]
[null,59]
[null,60]
[null,61]
[null,62]
[null,63]
[null,64]
[null,65]
[null,66]
[null,{"$f":"+B424+1","v":67}]
[null,68]
[null,69]
[null,70]
[null,71]
[null,72]
[null,73]
[null,74]
[null,75]
[null,76]
[null,77]
[null,78]
[null,79]
[null,80]
[null,81]
[null,82]
[null,83]
[null,84]
[null,85]
[null,86]
[null,87]
[null,88]
[null,89]
[null,90]
[null,91]
[null,92]
[null,93]
[null,94]
[null,95]
[null,96]
[null,97]
[null,98]
[null,99]
[null,100]
[null,101]
[null,102]
[null,103]
[null,104]
[null,105]
[null,106]
[null,107]
[null,108]
[null,109]
[null,110]
[null,111]
[null,112]
[null,113]
[null,114]
[null,115]
[null,116]
[null,117]
[null,118]
[null,119]
[null,120]
[null,121]
[null,122]
[null,123]
[null,124]
[null,125]
[null,126]
[null,127]
[null,128]
[null,129]
[null,130]
[null,{"$f":"+B488+1","v":131}]
[null,132]
[null,133]
[null,134]
[null,135]
[null,136]
[null,137]
[null,138]
[null,139]
[null,140]
[null,141]
[null,142]
[null,143]
[null,144]
[null,145]
[null,146]
[null,147]
[null,148]
[null,149]
[null,150]
[null,151]
[null,152]
[null,153]
[null,154]
[null,155]
[null,156]
[null,157]
[null,158]
[null,159]
[null,160]
[null,161]
[null,162]
[null,163]
[null,164]
[null,165]
[null,166]
[null,167]
[null,168]
[null,169]
[null,170]
[null,171]
[null,172]
[null,173]
[null,174]
[null,175]
[null,176]
[null,177]
[null,178]
[null,179]
[null,180]
[null,181]
[null,182]
[null,183]
[null,184]
[null,185]
[null,186]
[null,187]
[null,188]
[null,189]
[null,190]
[null,191]
[null,192]
[null,193]
[null,194]
[null,{"$f":"+B552+1","v":195}]
[null,196]
[null,197]
[null,198]
[null,199]
[null,200]
[null,201]
[null,202]
[null,203]
[null,204]
[null,205]
[null,206]
[null,207]
[null,208]
[null,209]
[null,210]
[null,211]
[null,212]
[null,213]
[null,214]
[null,215]
[null,216]
[null,217]
[null,218]
[null,219]
[null,220]
[null,221]
[null,222]
[null,223]
[null,224]
[null,225]
[null,226]
[null,227]
[null,228]
[null,229]
[null,230]
[null,231]
[null,232]
[null,233]
[null,234]
[null,235]
[null,236]
[null,237]
[null,238]
[null,239]
[null,240]
[null,241]
[null,242]
[null,243]
[null,244]
[null,245]
[null,246]
[null,247]
[null,248]
[null,249]
[null,250]
[null,251]
[null,252]
[null,253]
[null,254]
[null,255]
[null,256]
[null,257]
[null,258]
[null,{"$f":"+B616+1","v":259}]
[null,260]
[null,261]
[null,262]
[null,263]
[null,264]
[null,265]
[null,266]
[null,267]
[null,268]
[null,269]
[null,270]
[null,271]
[null,272]
[null,273]
[null,274]
[null,275]
[null,276]
[null,277]
[null,278]
[null,279]
[null,280]
[null,281]
[null,282]
[null,283]
[null,284]
[null,285]
[null,286]
[null,287]
[null,288]
[null,289]
[null,290]
[null,291]
[null,292]
[null,293]
[null,294]
[null,295]
[null,296]
[null,297]
[null,298]
[null,299]
[null,300]
[null,301]
[null,302]
[null,303]
[null,304]
[null,305]
[null,306]
[null,307]
[null,308]
[null,309]
[null,310]
[null,311]
[null,312]
[null,313]
[null,314]
[null,315]
[null,316]
[null,317]
[null,318]
[null,319]
[null,320]
[null,321]
[null,322]
[null,{"$f":"+B680+1","v":323}]
[null,324]
[null,325]
[null,326]
[null,327]
[null,328]
[null,329]
[null,330]
[null,331]
[null,332]
[null,333]
[null,334]
[null,335]
[null,336]
[null,337]
[null,338]
[null,339]
[null,340]
[null,341]
[null,342]
[null,343]
[null,344]
[null,345]
[null,346]
[null,347]
[null,348]
[null,349]
[null,350]

{"sheet":"SenW","index":12,"n_rows":337,"n_cols":39,"rows_kept":337,"hidden":true,"merged":[[0,1,0,6],[1,1,1,8]]}
[null,"Sussex Athletics XC Championships\nBexhill, 07/01/2023",{"$nulls":11},"26 clubs - cols N to AM"]
[null,"Senior Women"]
["Temp","Pos","Bib","Time","Forename","Surname","Club","Cat ","Sex","Rk","Club Rk",null,null,"TON","HAS","LEW","HAI","HY","BWT","EAS","B&H","PHX","CHI","HHH","CSS","GRR",""]
[{"$f":"+K4","v":{"$error":"#REF!"}},1,463,"32:12",{"$f":"+VLOOKUP($C4,#REF!,2,\"false\")","v":{"$error":"#REF!"}},{"$f":"+VLOOKUP($C4,#REF!,3,\"false\")","v":{"$error":"#REF!"}},{"$f":"+VLOOKUP($C4,#REF!,4,\"false\")","v":{"$error":"#REF!"}},{"$f":"+VLOOKUP($C4,#REF!,5,\"false\")","v":{"$error":"#REF!"}},{"$f":"+VLOOKUP($C4,#REF!,6,\"false\")","v":{"$error":"#REF!"}},{"$f":"TEXT(SUMPRODUCT(--(G4=$G$4:$G$598),--(B4>$B$4:$B$598))+1,0)","v":{"$error":"#REF!"}},{"$f":"+G4&\"  \"&J4","v":{"$error":"#REF!"}},null,1,{"$f":"+IF(ISNA(VLOOKUP(N$3&\"  \"&$M4,$A$3:$I$110,2,0)),\"\",VLOOKUP(N$3&\"  \"&$M4,$A$3:$I$110,2,0))","v":""},{"$f":"+IF(ISNA(VLOOKUP(O$3&\"  \"&$M4,$A$3:$I$110,2,0)),\"\",VLOOKUP(O$3&\"  \"&$M4,$A$3:$I$110,2,0))","v":""},"","","","","","","","","","","","","","","","","","","","","","","",""]
[{"$error":"#REF!"},{"$f":"+B4+1","v":2},490,"33:38",{"$f":"+VLOOKUP($C5,#REF!,2,\"false\")","v":{"$error":"#REF!"}},{"$f":"+VLOOKUP($C5,#REF!,3,\"false\")","v":{"$error":"#REF!"}},{"$f":"+VLOOKUP($C5,#REF!,4,\"false\")","v":{"$error":"#REF!"}},{"$f":"+VLOOKUP($C5,#REF!,5,\"false\")","v":{"$error":"#REF!"}},{"$f":"+VLOOKUP($C5,#REF!,6,\"false\")","v":{"$error":"#REF!"}},{"$error":"#REF!"},{"$error":"#REF!"},null,2,"",{"$f":"+IF(ISNA(VLOOKUP(O$3&\"  \"&$M5,$A$3:$I$110,2,0)),\"\",VLOOKUP(O$3&\"  \"&$M5,$A$3:$I$110,2,0))","v":""},"","","","","","","","","","","","","","","","","","","","","","","",""]
[{"$error":"#REF!"},{"$f":"+B5+1","v":3},458,"33:58",{"$f":"+VLOOKUP($C6,#REF!,2,\"false\")","v":{"$error":"#REF!"}},{"$f":"+VLOOKUP($C6,#REF!,3,\"false\")","v":{"$error":"#REF!"}},{"$f":"+VLOOKUP($C6,#REF!,4,\"false\")","v":{"$error":"#REF!"}},{"$f":"+VLOOKUP($C6,#REF!,5,\"false\")","v":{"$error":"#REF!"}},{"$f":"+VLOOKUP($C6,#REF!,6,\"false\")","v":{"$error":"#REF!"}},{"$error":"#REF!"},{"$error":"#REF!"},null,3,"","","","","","","","","","","","","","","","","","","","","","","","","",""]
[{"$error":"#REF!"},4,482,"35:41",{"$f":"+VLOOKUP($C7,#REF!,2,\"false\")","v":{"$error":"#REF!"}},{"$f":"+VLOOKUP($C7,#REF!,3,\"false\")","v":{"$error":"#REF!"}},{"$f":"+VLOOKUP($C7,#REF!,4,\"false\")","v":{"$error":"#REF!"}},{"$f":"+VLOOKUP($C7,#REF!,5,\"false\")","v":{"$error":"#REF!"}},{"$f":"+VLOOKUP($C7,#REF!,6,\"false\")","v":{"$error":"#REF!"}},{"$error":"#REF!"},{"$error":"#REF!"},null,4,"","","","","","","","","","","","","","","","","","","","","","","","","",""]
[{"$error":"#REF!"},5,479,"35:42",{"$f":"+VLOOKUP($C8,#REF!,2,\"false\")","v":{"$error":"#REF!"}},{"$f":"+VLOOKUP($C8,#REF!,3,\"false\")","v":{"$error":"#REF!"}},{"$f":"+VLOOKUP($C8,#REF!,4,\"false\")","v":{"$error":"#REF!"}},{"$f":"+VLOOKUP($C8,#REF!,5,\"false\")","v":{"$error":"#REF!"}},{"$f":"+VLOOKUP($C8,#REF!,6,\"false\")","v":{"$error":"#REF!"}},{"$error":"#REF!"},{"$error":"#REF!"},null,null,"","","","","","","","","","","","","","","","","","","","","","","","","",""]
[{"$error":"#REF!"},6,456,"35:43",{"$f":"+VLOOKUP($C9,#REF!,2,\"false\")","v":{"$error":"#REF!"}},{"$f":"+VLOOKUP($C9,#REF!,3,\"false\")","v":{"$error":"#REF!"}},{"$f":"+VLOOKUP($C9,#REF!,4,\"false\")","v":{"$error":"#REF!"}},{"$f":"+VLOOKUP($C9,#REF!,5,\"false\")","v":{"$error":"#REF!"}},{"$f":"+VLOOKUP($C9,#REF!,6,\"false\")","v":{"$error":"#REF!"}},{"$error":"#REF!"},{"$error":"#REF!"},null,null,"","","","","","","","","","","","","","","","","","","","","","","","","",""]
[{"$error":"#REF!"},7,457,"35:44",{"$f":"+VLOOKUP($C10,#REF!,2,\"false\")","v":{"$error":"#REF!"}},{"$f":"+VLOOKUP($C10,#REF!,3,\"false\")","v":{"$error":"#REF!"}},{"$f":"+VLOOKUP($C10,#REF!,4,\"false\")","v":{"$error":"#REF!"}},{"$f":"+VLOOKUP($C10,#REF!,5,\"false\")","v":{"$error":"#REF!"}},{"$f":"+VLOOKUP($C10,#REF!,6,\"false\")","v":{"$error":"#REF!"}},{"$error":"#REF!"},{"$error":"#REF!"},null,"Tot",{"$f":"IF(N7=\"\",1000,SUM(N4:N7))","v":1000},{"$f":"IF(O7=\"\",1000,SUM(O4:O7))","v":1000},1000,1000,1000,1000,1000,1000,1000,1000,1000,1000,1000,1000,1000,1000,1000,1000,1000,1000,1000,1000,1000,1000,1000,1000]
[{"$error":"#REF!"},8,461,"36:11",{"$f":"+VLOOKUP($C11,#REF!,2,\"false\")","v":{"$error":"#REF!"}},{"$f":"+VLOOKUP($C11,#REF!,3,\"false\")","v":{"$error":"#REF!"}},{"$f":"+VLOOKUP($C11,#REF!,4,\"false\")","v":{"$error":"#REF!"}},{"$f":"+VLOOKUP($C11,#REF!,5,\"false\")","v":{"$error":"#REF!"}},{"$f":"+VLOOKUP($C11,#REF!,6,\"false\")","v":{"$error":"#REF!"}},{"$error":"#REF!"},{"$error":"#REF!"},null,"Pos",{"$f":"RANK(N10,($N$10:$AM$10,$N$19:$AM$19),1)","v":1},{"$f":"RANK(O10,($N$10:$AM$10,$N$19:$AM$19),1)","v":1},{"$f":"RANK(P10,($N$10:$AM$10,$N$19:$AM$19),1)","v":1},{"$f":"RANK(Q10,($N$10:$AM$10,$N$19:$AM$19),1)","v":1},{"$f":"RANK(R10,($N$10:$AM$10,$N$19:$AM$19),1)","v":1},{"$f":"RANK(S10,($N$10:$AM$10,$N$19:$AM$19),1)","v":1},{"$f":"RANK(T10,($N$10:$AM$10,$N$19:$AM$19),1)","v":1},{"$f":"RANK(U10,($N$10:$AM$10,$N$19:$AM$19),1)","v":1},{"$f":"RANK(V10,($N$10:$AM$10,$N$19:$AM$19),1)","v":1},{"$f":"RANK(W10,($N$10:$AM$10,$N$19:$AM$19),1)","v":1},{"$f":"RANK(X10,($N$10:$AM$10,$N$19:$AM$19),1)","v":1},{"$f":"RANK(Y10,($N$10:$AM$10,$N$19:$AM$19),1)","v":1},{"$f":"RANK(Z10,($N$10:$AM$10,$N$19:$AM$19),1)","v":1},{"$f":"RANK(AA10,($N$10:$AM$10,$N$19:$AM$19),1)","v":1},{"$f":"RANK(AB10,($N$10:$AM$10,$N$19:$AM$19),1)","v":1},{"$f":"RANK(AC10,($N$10:$AM$10,$N$19:$AM$19),1)","v":1},{"$f":"RANK(AD10,($N$10:$AM$10,$N$19:$AM$19),1)","v":1},{"$f":"RANK(AE10,($N$10:$AM$10,$N$19:$AM$19),1)","v":1},{"$f":"RANK(AF10,($N$10:$AM$10,$N$19:$AM$19),1)","v":1},{"$f":"RANK(AG10,($N$10:$AM$10,$N$19:$AM$19),1)","v":1},{"$f":"RANK(AH10,($N$10:$AM$10,$N$19:$AM$19),1)","v":1},{"$f":"RANK(AI10,($N$10:$AM$10,$N$19:$AM$19),1)","v":1},{"$f":"RANK(AJ10,($N$10:$AM$10,$N$19:$AM$19),1)","v":1},{"$f":"RANK(AK10,($N$10:$AM$10,$N$19:$AM$19),1)","v":1},{"$f":"RANK(AL10,($N$10:$AM$10,$N$19:$AM$19),1)","v":1},{"$f":"RANK(AM10,($N$10:$AM$10,$N$19:$AM$19),1)","v":1}]
[{"$f":"+K12","v":{"$error":"#REF!"}},9,486,"36:15",{"$f":"+VLOOKUP($C12,#REF!,2,\"false\")","v":{"$error":"#REF!"}},{"$f":"+VLOOKUP($C12,#REF!,3,\"false\")","v":{"$error":"#REF!"}},{"$f":"+VLOOKUP($C12,#REF!,4,\"false\")","v":{"$error":"#REF!"}},{"$f":"+VLOOKUP($C12,#REF!,5,\"false\")","v":{"$error":"#REF!"}},{"$f":"+VLOOKUP($C12,#REF!,6,\"false\")","v":{"$error":"#REF!"}},{"$f":"TEXT(SUMPRODUCT(--(G12=$G$4:$G$598),--(B12>$B$4:$B$598))+1,0)","v":{"$error":"#REF!"}},{"$f":"+G12&\"  \"&J12","v":{"$error":"#REF!"}}]
[{"$error":"#REF!"},10,449,"36:31",{"$f":"+VLOOKUP($C13,#REF!,2,\"false\")","v":{"$error":"#REF!"}},{"$f":"+VLOOKUP($C13,#REF!,3,\"false\")","v":{"$error":"#REF!"}},{"$f":"+VLOOKUP($C13,#REF!,4,\"false\")","v":{"$error":"#REF!"}},{"$f":"+VLOOKUP($C13,#REF!,5,\"false\")","v":{"$error":"#REF!"}},{"$f":"+VLOOKUP($C13,#REF!,6,\"false\")","v":{"$error":"#REF!"}},{"$error":"#REF!"},{"$error":"#REF!"},null,5,{"$f":"+IF(ISNA(VLOOKUP(N$3&\"  \"&$M13,$A$3:$I$110,2,0)),\"\",VLOOKUP(N$3&\"  \"&$M13,$A$3:$I$110,2,0))","v":""},{"$f":"+IF(ISNA(VLOOKUP(O$3&\"  \"&$M13,$A$3:$I$110,2,0)),\"\",VLOOKUP(O$3&\"  \"&$M13,$A$3:$I$110,2,0))","v":""},"","","","","","","","","","","","","","","",{"$f":"+IF(ISNA(VLOOKUP(AE$3&\"  \"&$M13,$A$3:$I$110,2,0)),\"\",VLOOKUP(AE$3&\"  \"&$M13,$A$3:$I$110,2,0))","v":""},"","","","","","","",""]
[{"$error":"#REF!"},11,466,"37:29",{"$f":"+VLOOKUP($C14,#REF!,2,\"false\")","v":{"$error":"#REF!"}},{"$f":"+VLOOKUP($C14,#REF!,3,\"false\")","v":{"$error":"#REF!"}},{"$f":"+VLOOKUP($C14,#REF!,4,\"false\")","v":{"$error":"#REF!"}},{"$f":"+VLOOKUP($C14,#REF!,5,\"false\")","v":{"$error":"#REF!"}},{"$f":"+VLOOKUP($C14,#REF!,6,\"false\")","v":{"$error":"#REF!"}},{"$error":"#REF!"},{"$error":"#REF!"},null,6,"","","","","","","","","","","","","","","","","","","","","","","","","",""]
[{"$error":"#REF!"},12,483,"38:33",{"$f":"+VLOOKUP($C15,#REF!,2,\"false\")","v":{"$error":"#REF!"}},{"$f":"+VLOOKUP($C15,#REF!,3,\"false\")","v":{"$error":"#REF!"}},{"$f":"+VLOOKUP($C15,#REF!,4,\"false\")","v":{"$error":"#REF!"}},{"$f":"+VLOOKUP($C15,#REF!,5,\"false\")","v":{"$error":"#REF!"}},{"$f":"+VLOOKUP($C15,#REF!,6,\"false\")","v":{"$error":"#REF!"}},{"$error":"#REF!"},{"$error":"#REF!"},null,7,"","","","","","","","","","","","","","","","","","","","","","","","","",""]
[{"$error":"#REF!"},13,473,"38:40",{"$f":"+VLOOKUP($C16,#REF!,2,\"false\")","v":{"$error":"#REF!"}},{"$f":"+VLOOKUP($C16,#REF!,3,\"false\")","v":{"$error":"#REF!"}},{"$f":"+VLOOKUP($C16,#REF!,4,\"false\")","v":{"$error":"#REF!"}},{"$f":"+VLOOKUP($C16,#REF!,5,\"false\")","v":{"$error":"#REF!"}},{"$f":"+VLOOKUP($C16,#REF!,6,\"false\")","v":{"$error":"#REF!"}},{"$error":"#REF!"},{"$error":"#REF!"},null,8,"","","","","","","","","","","","","","","","","","","","","","","","","",""]
[{"$error":"#REF!"},14,496,"38:51",{"$f":"+VLOOKUP($C17,#REF!,2,\"false\")","v":{"$error":"#REF!"}},{"$f":"+VLOOKUP($C17,#REF!,3,\"false\")","v":{"$error":"#REF!"}},{"$f":"+VLOOKUP($C17,#REF!,4,\"false\")","v":{"$error":"#REF!"}},{"$f":"+VLOOKUP($C17,#REF!,5,\"false\")","v":{"$error":"#REF!"}},{"$f":"+VLOOKUP($C17,#REF!,6,\"false\")","v":{"$error":"#REF!"}},{"$error":"#REF!"},{"$error":"#REF!"},null,null,"","","","","","","","","","","","","","","","","","","","","","","","","",""]
[{"$error":"#REF!"},15,489,"38:53",{"$f":"+VLOOKUP($C18,#REF!,2,\"false\")","v":{"$error":"#REF!"}},{"$f":"+VLOOKUP($C18,#REF!,3,\"false\")","v":{"$error":"#REF!"}},{"$f":"+VLOOKUP($C18,#REF!,4,\"false\")","v":{"$error":"#REF!"}},{"$f":"+VLOOKUP($C18,#REF!,5,\"false\")","v":{"$error":"#REF!"}},{"$f":"+VLOOKUP($C18,#REF!,6,\"false\")","v":{"$error":"#REF!"}},{"$error":"#REF!"},{"$error":"#REF!"},null,null,"","","","","","","","","","","","","","","","","","","","","","","","","",""]
[{"$error":"#REF!"},16,452,"39:01",{"$f":"+VLOOKUP($C19,#REF!,2,\"false\")","v":{"$error":"#REF!"}},{"$f":"+VLOOKUP($C19,#REF!,3,\"false\")","v":{"$error":"#REF!"}},{"$f":"+VLOOKUP($C19,#REF!,4,\"false\")","v":{"$error":"#REF!"}},{"$f":"+VLOOKUP($C19,#REF!,5,\"false\")","v":{"$error":"#REF!"}},{"$f":"+VLOOKUP($C19,#REF!,6,\"false\")","v":{"$error":"#REF!"}},{"$error":"#REF!"},{"$error":"#REF!"},null,"Tot",{"$f":"IF(N16=\"\",1000,SUM(N13:N16))","v":1000},{"$f":"IF(O16=\"\",1000,SUM(O13:O16))","v":1000},1000,1000,1000,1000,1000,1000,1000,1000,1000,1000,1000,1000,1000,1000,1000,1000,1000,1000,1000,1000,1000,1000,1000,1000]
[{"$error":"#REF!"},17,469,"39:13",{"$f":"+VLOOKUP($C20,#REF!,2,\"false\")","v":{"$error":"#REF!"}},{"$f":"+VLOOKUP($C20,#REF!,3,\"false\")","v":{"$error":"#REF!"}},{"$f":"+VLOOKUP($C20,#REF!,4,\"false\")","v":{"$error":"#REF!"}},{"$f":"+VLOOKUP($C20,#REF!,5,\"false\")","v":{"$error":"#REF!"}},{"$f":"+VLOOKUP($C20,#REF!,6,\"false\")","v":{"$error":"#REF!"}},{"$error":"#REF!"},{"$error":"#REF!"},null,"Pos",{"$f":"RANK(N19,($N$10:$AM$10,$N$19:$AM$19),1)","v":1},{"$f":"RANK(O19,($N$10:$AM$10,$N$19:$AM$19),1)","v":1},{"$f":"RANK(P19,($N$10:$AM$10,$N$19:$AM$19),1)","v":1},{"$f":"RANK(Q19,($N$10:$AM$10,$N$19:$AM$19),1)","v":1},{"$f":"RANK(R19,($N$10:$AM$10,$N$19:$AM$19),1)","v":1},{"$f":"RANK(S19,($N$10:$AM$10,$N$19:$AM$19),1)","v":1},{"$f":"RANK(T19,($N$10:$AM$10,$N$19:$AM$19),1)","v":1},{"$f":"RANK(U19,($N$10:$AM$10,$N$19:$AM$19),1)","v":1},{"$f":"RANK(V19,($N$10:$AM$10,$N$19:$AM$19),1)","v":1},{"$f":"RANK(W19,($N$10:$AM$10,$N$19:$AM$19),1)","v":1},{"$f":"RANK(X19,($N$10:$AM$10,$N$19:$AM$19),1)","v":1},{"$f":"RANK(Y19,($N$10:$AM$10,$N$19:$AM$19),1)","v":1},{"$f":"RANK(Z19,($N$10:$AM$10,$N$19:$AM$19),1)","v":1},{"$f":"RANK(AA19,($N$10:$AM$10,$N$19:$AM$19),1)","v":1},{"$f":"RANK(AB19,($N$10:$AM$10,$N$19:$AM$19),1)","v":1},{"$f":"RANK(AC19,($N$10:$AM$10,$N$19:$AM$19),1)","v":1},{"$f":"RANK(AD19,($N$10:$AM$10,$N$19:$AM$19),1)","v":1},{"$f":"RANK(AE19,($N$10:$AM$10,$N$19:$AM$19),1)","v":1},{"$f":"RANK(AF19,($N$10:$AM$10,$N$19:$AM$19),1)","v":1},{"$f":"RANK(AG19,($N$10:$AM$10,$N$19:$AM$19),1)","v":1},{"$f":"RANK(AH19,($N$10:$AM$10,$N$19:$AM$19),1)","v":1},{"$f":"RANK(AI19,($N$10:$AM$10,$N$19:$AM$19),1)","v":1},{"$f":"RANK(AJ19,($N$10:$AM$10,$N$19:$AM$19),1)","v":1},{"$f":"RANK(AK19,($N$10:$AM$10,$N$19:$AM$19),1)","v":1},{"$f":"RANK(AL19,($N$10:$AM$10,$N$19:$AM$19),1)","v":1},{"$f":"RANK(AM19,($N$10:$AM$10,$N$19:$AM$19),1)","v":1}]
[{"$error":"#REF!"},18,470,"39:36",{"$f":"+VLOOKUP($C21,#REF!,2,\"false\")","v":{"$error":"#REF!"}},{"$f":"+VLOOKUP($C21,#REF!,3,\"false\")","v":{"$error":"#REF!"}},{"$f":"+VLOOKUP($C21,#REF!,4,\"false\")","v":{"$error":"#REF!"}},{"$f":"+VLOOKUP($C21,#REF!,5,\"false\")","v":{"$error":"#REF!"}},{"$f":"+VLOOKUP($C21,#REF!,6,\"false\")","v":{"$error":"#REF!"}},{"$error":"#REF!"},{"$error":"#REF!"}]
[{"$error":"#REF!"},19,497,"39:42",{"$f":"+VLOOKUP($C22,#REF!,2,\"false\")","v":{"$error":"#REF!"}},{"$f":"+VLOOKUP($C22,#REF!,3,\"false\")","v":{"$error":"#REF!"}},{"$f":"+VLOOKUP($C22,#REF!,4,\"false\")","v":{"$error":"#REF!"}},{"$f":"+VLOOKUP($C22,#REF!,5,\"false\")","v":{"$error":"#REF!"}},{"$f":"+VLOOKUP($C22,#REF!,6,\"false\")","v":{"$error":"#REF!"}},{"$error":"#REF!"},{"$error":"#REF!"},null,9,{"$f":"+IF(ISNA(VLOOKUP(N$3&\"  \"&$M22,$A$3:$I$110,2,0)),\"\",VLOOKUP(N$3&\"  \"&$M22,$A$3:$I$110,2,0))","v":""},{"$f":"+IF(ISNA(VLOOKUP(O$3&\"  \"&$M22,$A$3:$I$110,2,0)),\"\",VLOOKUP(O$3&\"  \"&$M22,$A$3:$I$110,2,0))","v":""},"","","","","","","","","","","","","","","","","","","","","","","",""]
[{"$error":"#REF!"},20,453,"39:54",{"$f":"+VLOOKUP($C23,#REF!,2,\"false\")","v":{"$error":"#REF!"}},{"$f":"+VLOOKUP($C23,#REF!,3,\"false\")","v":{"$error":"#REF!"}},{"$f":"+VLOOKUP($C23,#REF!,4,\"false\")","v":{"$error":"#REF!"}},{"$f":"+VLOOKUP($C23,#REF!,5,\"false\")","v":{"$error":"#REF!"}},{"$f":"+VLOOKUP($C23,#REF!,6,\"false\")","v":{"$error":"#REF!"}},{"$error":"#REF!"},{"$error":"#REF!"},null,10,"",{"$f":"+IF(ISNA(VLOOKUP(O$3&\"  \"&$M23,$A$3:$I$110,2,0)),\"\",VLOOKUP(O$3&\"  \"&$M23,$A$3:$I$110,2,0))","v":""},"","","","","","","","","","","","","","","","","","","","","","","",""]
[{"$error":"#REF!"},21,450,"42:08",{"$f":"+VLOOKUP($C24,#REF!,2,\"false\")","v":{"$error":"#REF!"}},{"$f":"+VLOOKUP($C24,#REF!,3,\"false\")","v":{"$error":"#REF!"}},{"$f":"+VLOOKUP($C24,#REF!,4,\"false\")","v":{"$error":"#REF!"}},{"$f":"+VLOOKUP($C24,#REF!,5,\"false\")","v":{"$error":"#REF!"}},{"$f":"+VLOOKUP($C24,#REF!,6,\"false\")","v":{"$error":"#REF!"}},{"$error":"#REF!"},{"$error":"#REF!"},null,11,"","","","","","","","","","","","","","","","","","","","","","","","","",""]
[{"$error":"#REF!"},22,474,"42:13",{"$f":"+VLOOKUP($C25,#REF!,2,\"false\")","v":{"$error":"#REF!"}},{"$f":"+VLOOKUP($C25,#REF!,3,\"false\")","v":{"$error":"#REF!"}},{"$f":"+VLOOKUP($C25,#REF!,4,\"false\")","v":{"$error":"#REF!"}},{"$f":"+VLOOKUP($C25,#REF!,5,\"false\")","v":{"$error":"#REF!"}},{"$f":"+VLOOKUP($C25,#REF!,6,\"false\")","v":{"$error":"#REF!"}},{"$error":"#REF!"},{"$error":"#REF!"},null,12,"","","","","","","","","","","","","","","","","","","","","","","","","",""]
[{"$error":"#REF!"},23,459,"42:32",{"$f":"+VLOOKUP($C26,#REF!,2,\"false\")","v":{"$error":"#REF!"}},{"$f":"+VLOOKUP($C26,#REF!,3,\"false\")","v":{"$error":"#REF!"}},{"$f":"+VLOOKUP($C26,#REF!,4,\"false\")","v":{"$error":"#REF!"}},{"$f":"+VLOOKUP($C26,#REF!,5,\"false\")","v":{"$error":"#REF!"}},{"$f":"+VLOOKUP($C26,#REF!,6,\"false\")","v":{"$error":"#REF!"}},{"$error":"#REF!"},{"$error":"#REF!"},null,null,"","","","","","","","","","","","","","","","","","","","","","","","","",""]
[{"$error":"#REF!"},24,485,"44:49",{"$f":"+VLOOKUP($C27,#REF!,2,\"false\")","v":{"$error":"#REF!"}},{"$f":"+VLOOKUP($C27,#REF!,3,\"false\")","v":{"$error":"#REF!"}},{"$f":"+VLOOKUP($C27,#REF!,4,\"false\")","v":{"$error":"#REF!"}},{"$f":"+VLOOKUP($C27,#REF!,5,\"false\")","v":{"$error":"#REF!"}},{"$f":"+VLOOKUP($C27,#REF!,6,\"false\")","v":{"$error":"#REF!"}},{"$error":"#REF!"},{"$error":"#REF!"},null,null,"","","","","","","","","","","","","","","","","","","","","","","","","",""]
[{"$error":"#REF!"},25,471,"45:02",{"$f":"+VLOOKUP($C28,#REF!,2,\"false\")","v":{"$error":"#REF!"}},{"$f":"+VLOOKUP($C28,#REF!,3,\"false\")","v":{"$error":"#REF!"}},{"$f":"+VLOOKUP($C28,#REF!,4,\"false\")","v":{"$error":"#REF!"}},{"$f":"+VLOOKUP($C28,#REF!,5,\"false\")","v":{"$error":"#REF!"}},{"$f":"+VLOOKUP($C28,#REF!,6,\"false\")","v":{"$error":"#REF!"}},{"$error":"#REF!"},{"$error":"#REF!"},null,"Tot",{"$f":"IF(N24=\"\",1000,SUM(N22:N24))","v":1000},{"$f":"IF(O24=\"\",1000,SUM(O22:O24))","v":1000},1000,1000,1000,1000,1000,1000,1000,1000,1000,1000,1000,1000,1000,1000,1000,1000,1000,1000,1000,1000,1000,1000,1000,1000]
[{"$error":"#REF!"},26,491,"45:11",{"$f":"+VLOOKUP($C29,#REF!,2,\"false\")","v":{"$error":"#REF!"}},{"$f":"+VLOOKUP($C29,#REF!,3,\"false\")","v":{"$error":"#REF!"}},{"$f":"+VLOOKUP($C29,#REF!,4,\"false\")","v":{"$error":"#REF!"}},{"$f":"+VLOOKUP($C29,#REF!,5,\"false\")","v":{"$error":"#REF!"}},{"$f":"+VLOOKUP($C29,#REF!,6,\"false\")","v":{"$error":"#REF!"}},{"$error":"#REF!"},{"$error":"#REF!"},null,"Pos",{"$f":"RANK(N28,($N$10:$AM$10,$N$19:$AM$19,$N$28:$AM$28, $N$37:$AM$37),1)","v":1},{"$f":"RANK(O28,($N$10:$AM$10,$N$19:$AM$19,$N$28:$AM$28, $N$37:$AM$37),1)","v":1},{"$f":"RANK(P28,($N$10:$AM$10,$N$19:$AM$19,$N$28:$AM$28, $N$37:$AM$37),1)","v":1},{"$f":"RANK(Q28,($N$10:$AM$10,$N$19:$AM$19,$N$28:$AM$28, $N$37:$AM$37),1)","v":1},{"$f":"RANK(R28,($N$10:$AM$10,$N$19:$AM$19,$N$28:$AM$28, $N$37:$AM$37),1)","v":1},{"$f":"RANK(S28,($N$10:$AM$10,$N$19:$AM$19,$N$28:$AM$28, $N$37:$AM$37),1)","v":1},{"$f":"RANK(T28,($N$10:$AM$10,$N$19:$AM$19,$N$28:$AM$28, $N$37:$AM$37),1)","v":1},{"$f":"RANK(U28,($N$10:$AM$10,$N$19:$AM$19,$N$28:$AM$28, $N$37:$AM$37),1)","v":1},{"$f":"RANK(V28,($N$10:$AM$10,$N$19:$AM$19,$N$28:$AM$28, $N$37:$AM$37),1)","v":1},{"$f":"RANK(W28,($N$10:$AM$10,$N$19:$AM$19,$N$28:$AM$28, $N$37:$AM$37),1)","v":1},{"$f":"RANK(X28,($N$10:$AM$10,$N$19:$AM$19,$N$28:$AM$28, $N$37:$AM$37),1)","v":1},{"$f":"RANK(Y28,($N$10:$AM$10,$N$19:$AM$19,$N$28:$AM$28, $N$37:$AM$37),1)","v":1},{"$f":"RANK(Z28,($N$10:$AM$10,$N$19:$AM$19,$N$28:$AM$28, $N$37:$AM$37),1)","v":1},{"$f":"RANK(AA28,($N$10:$AM$10,$N$19:$AM$19,$N$28:$AM$28, $N$37:$AM$37),1)","v":1},{"$f":"RANK(AB28,($N$10:$AM$10,$N$19:$AM$19,$N$28:$AM$28, $N$37:$AM$37),1)","v":1},{"$f":"RANK(AC28,($N$10:$AM$10,$N$19:$AM$19,$N$28:$AM$28, $N$37:$AM$37),1)","v":1},{"$f":"RANK(AD28,($N$10:$AM$10,$N$19:$AM$19,$N$28:$AM$28, $N$37:$AM$37),1)","v":1},{"$f":"RANK(AE28,($N$10:$AM$10,$N$19:$AM$19,$N$28:$AM$28, $N$37:$AM$37),1)","v":1},{"$f":"RANK(AF28,($N$10:$AM$10,$N$19:$AM$19,$N$28:$AM$28, $N$37:$AM$37),1)","v":1},{"$f":"RANK(AG28,($N$10:$AM$10,$N$19:$AM$19,$N$28:$AM$28, $N$37:$AM$37),1)","v":1},{"$f":"RANK(AH28,($N$10:$AM$10,$N$19:$AM$19,$N$28:$AM$28, $N$37:$AM$37),1)","v":1},{"$f":"RANK(AI28,($N$10:$AM$10,$N$19:$AM$19,$N$28:$AM$28, $N$37:$AM$37),1)","v":1},{"$f":"RANK(AJ28,($N$10:$AM$10,$N$19:$AM$19,$N$28:$AM$28, $N$37:$AM$37),1)","v":1},{"$f":"RANK(AK28,($N$10:$AM$10,$N$19:$AM$19,$N$28:$AM$28, $N$37:$AM$37),1)","v":1},{"$f":"RANK(AL28,($N$10:$AM$10,$N$19:$AM$19,$N$28:$AM$28, $N$37:$AM$37),1)","v":1},{"$f":"RANK(AM28,($N$10:$AM$10,$N$19:$AM$19,$N$28:$AM$28, $N$37:$AM$37),1)","v":1}]
[{"$error":"#REF!"},27,488,"45:34",{"$f":"+VLOOKUP($C30,#REF!,2,\"false\")","v":{"$error":"#REF!"}},{"$f":"+VLOOKUP($C30,#REF!,3,\"false\")","v":{"$error":"#REF!"}},{"$f":"+VLOOKUP($C30,#REF!,4,\"false\")","v":{"$error":"#REF!"}},{"$f":"+VLOOKUP($C30,#REF!,5,\"false\")","v":{"$error":"#REF!"}},{"$f":"+VLOOKUP($C30,#REF!,6,\"false\")","v":{"$error":"#REF!"}},{"$error":"#REF!"},{"$error":"#REF!"}]
[{"$error":"#REF!"},28,484,"45:43",{"$f":"+VLOOKUP($C31,#REF!,2,\"false\")","v":{"$error":"#REF!"}},{"$f":"+VLOOKUP($C31,#REF!,3,\"false\")","v":{"$error":"#REF!"}},{"$f":"+VLOOKUP($C31,#REF!,4,\"false\")","v":{"$error":"#REF!"}},{"$f":"+VLOOKUP($C31,#REF!,5,\"false\")","v":{"$error":"#REF!"}},{"$f":"+VLOOKUP($C31,#REF!,6,\"false\")","v":{"$error":"#REF!"}},{"$error":"#REF!"},{"$error":"#REF!"},null,13,{"$f":"+IF(ISNA(VLOOKUP(N$3&\"  \"&$M31,$A$3:$I$110,2,0)),\"\",VLOOKUP(N$3&\"  \"&$M31,$A$3:$I$110,2,0))","v":""},{"$f":"+IF(ISNA(VLOOKUP(O$3&\"  \"&$M31,$A$3:$I$110,2,0)),\"\",VLOOKUP(O$3&\"  \"&$M31,$A$3:$I$110,2,0))","v":""},"","","","","","","","","","","","","","","",{"$f":"+IF(ISNA(VLOOKUP(AE$3&\"  \"&$M31,$A$3:$I$110,2,0)),\"\",VLOOKUP(AE$3&\"  \"&$M31,$A$3:$I$110,2,0))","v":""},"","","","","","","",""]
[{"$error":"#REF!"},29,492,"46:16",{"$f":"+VLOOKUP($C32,#REF!,2,\"false\")","v":{"$error":"#REF!"}},{"$f":"+VLOOKUP($C32,#REF!,3,\"false\")","v":{"$error":"#REF!"}},{"$f":"+VLOOKUP($C32,#REF!,4,\"false\")","v":{"$error":"#REF!"}},{"$f":"+VLOOKUP($C32,#REF!,5,\"false\")","v":{"$error":"#REF!"}},{"$f":"+VLOOKUP($C32,#REF!,6,\"false\")","v":{"$error":"#REF!"}},{"$error":"#REF!"},{"$error":"#REF!"},null,14,"","","","","","","","","","","","","","","","","","","","","","","","","",""]
[{"$error":"#REF!"},30,495,"47:43",{"$f":"+VLOOKUP($C33,#REF!,2,\"false\")","v":{"$error":"#REF!"}},{"$f":"+VLOOKUP($C33,#REF!,3,\"false\")","v":{"$error":"#REF!"}},{"$f":"+VLOOKUP($C33,#REF!,4,\"false\")","v":{"$error":"#REF!"}},{"$f":"+VLOOKUP($C33,#REF!,5,\"false\")","v":{"$error":"#REF!"}},{"$f":"+VLOOKUP($C33,#REF!,6,\"false\")","v":{"$error":"#REF!"}},{"$error":"#REF!"},{"$error":"#REF!"},null,15,"","","","","","","","","","","","","","","","","","","","","","","","","",""]
[{"$error":"#REF!"},31,477,"47:57",{"$f":"+VLOOKUP($C34,#REF!,2,\"false\")","v":{"$error":"#REF!"}},{"$f":"+VLOOKUP($C34,#REF!,3,\"false\")","v":{"$error":"#REF!"}},{"$f":"+VLOOKUP($C34,#REF!,4,\"false\")","v":{"$error":"#REF!"}},{"$f":"+VLOOKUP($C34,#REF!,5,\"false\")","v":{"$error":"#REF!"}},{"$f":"+VLOOKUP($C34,#REF!,6,\"false\")","v":{"$error":"#REF!"}},{"$error":"#REF!"},{"$error":"#REF!"},null,16,"","","","","","","","","","","","","","","","","","","","","","","","","",""]
[{"$error":"#REF!"},32,460,"48:56",{"$f":"+VLOOKUP($C35,#REF!,2,\"false\")","v":{"$error":"#REF!"}},{"$f":"+VLOOKUP($C35,#REF!,3,\"false\")","v":{"$error":"#REF!"}},{"$f":"+VLOOKUP($C35,#REF!,4,\"false\")","v":{"$error":"#REF!"}},{"$f":"+VLOOKUP($C35,#REF!,5,\"false\")","v":{"$error":"#REF!"}},{"$f":"+VLOOKUP($C35,#REF!,6,\"false\")","v":{"$error":"#REF!"}},{"$error":"#REF!"},{"$error":"#REF!"},null,null,"","","","","","","","","","","","","","","","","","","","","","","","","",""]
[{"$error":"#REF!"},33,487,"49:09",{"$f":"+VLOOKUP($C36,#REF!,2,\"false\")","v":{"$error":"#REF!"}},{"$f":"+VLOOKUP($C36,#REF!,3,\"false\")","v":{"$error":"#REF!"}},{"$f":"+VLOOKUP($C36,#REF!,4,\"false\")","v":{"$error":"#REF!"}},{"$f":"+VLOOKUP($C36,#REF!,5,\"false\")","v":{"$error":"#REF!"}},{"$f":"+VLOOKUP($C36,#REF!,6,\"false\")","v":{"$error":"#REF!"}},{"$error":"#REF!"},{"$error":"#REF!"},null,null,"","","","","","","","","","","","","","","","","","","","","","","","","",""]
[{"$error":"#REF!"},34,494,"50:20",{"$f":"+VLOOKUP($C37,#REF!,2,\"false\")","v":{"$error":"#REF!"}},{"$f":"+VLOOKUP($C37,#REF!,3,\"false\")","v":{"$error":"#REF!"}},{"$f":"+VLOOKUP($C37,#REF!,4,\"false\")","v":{"$error":"#REF!"}},{"$f":"+VLOOKUP($C37,#REF!,5,\"false\")","v":{"$error":"#REF!"}},{"$f":"+VLOOKUP($C37,#REF!,6,\"false\")","v":{"$error":"#REF!"}},{"$error":"#REF!"},{"$error":"#REF!"},null,"Tot",{"$f":"IF(N33=\"\",1000,SUM(N31:N33))","v":1000},{"$f":"IF(O33=\"\",1000,SUM(O31:O33))","v":1000},1000,1000,1000,1000,1000,1000,1000,1000,1000,1000,1000,1000,1000,1000,1000,1000,1000,1000,1000,1000,1000,1000,1000,1000]
[{"$error":"#REF!"},35,481,"50:23",{"$f":"+VLOOKUP($C38,#REF!,2,\"false\")","v":{"$error":"#REF!"}},{"$f":"+VLOOKUP($C38,#REF!,3,\"false\")","v":{"$error":"#REF!"}},{"$f":"+VLOOKUP($C38,#REF!,4,\"false\")","v":{"$error":"#REF!"}},{"$f":"+VLOOKUP($C38,#REF!,5,\"false\")","v":{"$error":"#REF!"}},{"$f":"+VLOOKUP($C38,#REF!,6,\"false\")","v":{"$error":"#REF!"}},{"$error":"#REF!"},{"$error":"#REF!"},null,"Pos",{"$f":"RANK(N37,($N$10:$AM$10,$N$19:$AM$19,$N$28:$AM$28, $N$37:$AM$37),1)","v":1},{"$f":"RANK(O37,($N$10:$AM$10,$N$19:$AM$19,$N$28:$AM$28, $N$37:$AM$37),1)","v":1},{"$f":"RANK(P37,($N$10:$AM$10,$N$19:$AM$19,$N$28:$AM$28, $N$37:$AM$37),1)","v":1},{"$f":"RANK(Q37,($N$10:$AM$10,$N$19:$AM$19,$N$28:$AM$28, $N$37:$AM$37),1)","v":1},{"$f":"RANK(R37,($N$10:$AM$10,$N$19:$AM$19,$N$28:$AM$28, $N$37:$AM$37),1)","v":1},{"$f":"RANK(S37,($N$10:$AM$10,$N$19:$AM$19,$N$28:$AM$28, $N$37:$AM$37),1)","v":1},{"$f":"RANK(T37,($N$10:$AM$10,$N$19:$AM$19,$N$28:$AM$28, $N$37:$AM$37),1)","v":1},{"$f":"RANK(U37,($N$10:$AM$10,$N$19:$AM$19,$N$28:$AM$28, $N$37:$AM$37),1)","v":1},{"$f":"RANK(V37,($N$10:$AM$10,$N$19:$AM$19,$N$28:$AM$28, $N$37:$AM$37),1)","v":1},{"$f":"RANK(W37,($N$10:$AM$10,$N$19:$AM$19,$N$28:$AM$28, $N$37:$AM$37),1)","v":1},{"$f":"RANK(X37,($N$10:$AM$10,$N$19:$AM$19,$N$28:$AM$28, $N$37:$AM$37),1)","v":1},{"$f":"RANK(Y37,($N$10:$AM$10,$N$19:$AM$19,$N$28:$AM$28, $N$37:$AM$37),1)","v":1},{"$f":"RANK(Z37,($N$10:$AM$10,$N$19:$AM$19,$N$28:$AM$28, $N$37:$AM$37),1)","v":1},{"$f":"RANK(AA37,($N$10:$AM$10,$N$19:$AM$19,$N$28:$AM$28, $N$37:$AM$37),1)","v":1},{"$f":"RANK(AB37,($N$10:$AM$10,$N$19:$AM$19,$N$28:$AM$28, $N$37:$AM$37),1)","v":1},{"$f":"RANK(AC37,($N$10:$AM$10,$N$19:$AM$19,$N$28:$AM$28, $N$37:$AM$37),1)","v":1},{"$f":"RANK(AD37,($N$10:$AM$10,$N$19:$AM$19,$N$28:$AM$28, $N$37:$AM$37),1)","v":1},{"$f":"RANK(AE37,($N$10:$AM$10,$N$19:$AM$19,$N$28:$AM$28, $N$37:$AM$37),1)","v":1},{"$f":"RANK(AF37,($N$10:$AM$10,$N$19:$AM$19,$N$28:$AM$28, $N$37:$AM$37),1)","v":1},{"$f":"RANK(AG37,($N$10:$AM$10,$N$19:$AM$19,$N$28:$AM$28, $N$37:$AM$37),1)","v":1},{"$f":"RANK(AH37,($N$10:$AM$10,$N$19:$AM$19,$N$28:$AM$28, $N$37:$AM$37),1)","v":1},{"$f":"RANK(AI37,($N$10:$AM$10,$N$19:$AM$19,$N$28:$AM$28, $N$37:$AM$37),1)","v":1},{"$f":"RANK(AJ37,($N$10:$AM$10,$N$19:$AM$19,$N$28:$AM$28, $N$37:$AM$37),1)","v":1},{"$f":"RANK(AK37,($N$10:$AM$10,$N$19:$AM$19,$N$28:$AM$28, $N$37:$AM$37),1)","v":1},{"$f":"RANK(AL37,($N$10:$AM$10,$N$19:$AM$19,$N$28:$AM$28, $N$37:$AM$37),1)","v":1},{"$f":"RANK(AM37,($N$10:$AM$10,$N$19:$AM$19,$N$28:$AM$28, $N$37:$AM$37),1)","v":1}]
[{"$error":"#REF!"},36,478,"52:13",{"$f":"+VLOOKUP($C39,#REF!,2,\"false\")","v":{"$error":"#REF!"}},{"$f":"+VLOOKUP($C39,#REF!,3,\"false\")","v":{"$error":"#REF!"}},{"$f":"+VLOOKUP($C39,#REF!,4,\"false\")","v":{"$error":"#REF!"}},{"$f":"+VLOOKUP($C39,#REF!,5,\"false\")","v":{"$error":"#REF!"}},{"$f":"+VLOOKUP($C39,#REF!,6,\"false\")","v":{"$error":"#REF!"}},{"$error":"#REF!"},{"$error":"#REF!"}]
[{"$error":"#REF!"},37,498,"52:21",{"$f":"+VLOOKUP($C40,#REF!,2,\"false\")","v":{"$error":"#REF!"}},{"$f":"+VLOOKUP($C40,#REF!,3,\"false\")","v":{"$error":"#REF!"}},{"$f":"+VLOOKUP($C40,#REF!,4,\"false\")","v":{"$error":"#REF!"}},{"$f":"+VLOOKUP($C40,#REF!,5,\"false\")","v":{"$error":"#REF!"}},{"$f":"+VLOOKUP($C40,#REF!,6,\"false\")","v":{"$error":"#REF!"}},{"$error":"#REF!"},{"$error":"#REF!"}]
[{"$error":"#REF!"},38,480,"53:11",{"$f":"+VLOOKUP($C41,#REF!,2,\"false\")","v":{"$error":"#REF!"}},{"$f":"+VLOOKUP($C41,#REF!,3,\"false\")","v":{"$error":"#REF!"}},{"$f":"+VLOOKUP($C41,#REF!,4,\"false\")","v":{"$error":"#REF!"}},{"$f":"+VLOOKUP($C41,#REF!,5,\"false\")","v":{"$error":"#REF!"}},{"$f":"+VLOOKUP($C41,#REF!,6,\"false\")","v":{"$error":"#REF!"}},{"$error":"#REF!"},{"$error":"#REF!"}]
[{"$error":"#REF!"},39,472,"54:20",{"$f":"+VLOOKUP($C42,#REF!,2,\"false\")","v":{"$error":"#REF!"}},{"$f":"+VLOOKUP($C42,#REF!,3,\"false\")","v":{"$error":"#REF!"}},{"$f":"+VLOOKUP($C42,#REF!,4,\"false\")","v":{"$error":"#REF!"}},{"$f":"+VLOOKUP($C42,#REF!,5,\"false\")","v":{"$error":"#REF!"}},{"$f":"+VLOOKUP($C42,#REF!,6,\"false\")","v":{"$error":"#REF!"}},{"$error":"#REF!"},{"$error":"#REF!"}]
[{"$error":"#REF!"},40,465,"56:15",{"$f":"+VLOOKUP($C43,#REF!,2,\"false\")","v":{"$error":"#REF!"}},{"$f":"+VLOOKUP($C43,#REF!,3,\"false\")","v":{"$error":"#REF!"}},{"$f":"+VLOOKUP($C43,#REF!,4,\"false\")","v":{"$error":"#REF!"}},{"$f":"+VLOOKUP($C43,#REF!,5,\"false\")","v":{"$error":"#REF!"}},{"$f":"+VLOOKUP($C43,#REF!,6,\"false\")","v":{"$error":"#REF!"}},{"$error":"#REF!"},{"$error":"#REF!"}]
[{"$error":"#REF!"},41,467,"58:21",{"$f":"+VLOOKUP($C44,#REF!,2,\"false\")","v":{"$error":"#REF!"}},{"$f":"+VLOOKUP($C44,#REF!,3,\"false\")","v":{"$error":"#REF!"}},{"$f":"+VLOOKUP($C44,#REF!,4,\"false\")","v":{"$error":"#REF!"}},{"$f":"+VLOOKUP($C44,#REF!,5,\"false\")","v":{"$error":"#REF!"}},{"$f":"+VLOOKUP($C44,#REF!,6,\"false\")","v":{"$error":"#REF!"}},{"$error":"#REF!"},{"$error":"#REF!"}]
[{"$error":"#REF!"},42,493,"59:04",{"$f":"+VLOOKUP($C45,#REF!,2,\"false\")","v":{"$error":"#REF!"}},{"$f":"+VLOOKUP($C45,#REF!,3,\"false\")","v":{"$error":"#REF!"}},{"$f":"+VLOOKUP($C45,#REF!,4,\"false\")","v":{"$error":"#REF!"}},{"$f":"+VLOOKUP($C45,#REF!,5,\"false\")","v":{"$error":"#REF!"}},{"$f":"+VLOOKUP($C45,#REF!,6,\"false\")","v":{"$error":"#REF!"}},{"$error":"#REF!"},{"$error":"#REF!"}]
[{"$error":"#REF!"},43,520,"62:24",{"$f":"+VLOOKUP($C46,#REF!,2,\"false\")","v":{"$error":"#REF!"}},{"$f":"+VLOOKUP($C46,#REF!,3,\"false\")","v":{"$error":"#REF!"}},{"$f":"+VLOOKUP($C46,#REF!,4,\"false\")","v":{"$error":"#REF!"}},{"$f":"+VLOOKUP($C46,#REF!,5,\"false\")","v":{"$error":"#REF!"}},{"$f":"+VLOOKUP($C46,#REF!,6,\"false\")","v":{"$error":"#REF!"}},{"$error":"#REF!"},{"$error":"#REF!"}]
{"$rows_empty":110}
[null,"Pos","Bib","Time"]
[null,1]
[null,2]
[null,3]
[null,4]
[null,5]
[null,6]
[null,7]
[null,8]
[null,9]
[null,10]
[null,11]
[null,12]
[null,13]
[null,14]
[null,15]
[null,16]
[null,17]
[null,18]
[null,19]
[null,20]
[null,21]
[null,22]
[null,23]
[null,24]
[null,25]
[null,26]
[null,27]
[null,28]
[null,29]
[null,30]
[null,31]
[null,32]
[null,33]
[null,34]
[null,35]
[null,36]
[null,37]
[null,38]
[null,39]
[null,40]
[null,41]
[null,42]
[null,43]
[null,44]
[null,45]
[null,46]
[null,47]
[null,48]
[null,49]
[null,50]
[null,51]
[null,52]
[null,53]
[null,54]
[null,55]
[null,56]
[null,57]
[null,58]
[null,59]
[null,60]
[null,61]
[null,62]
[null,63]
[null,64]
[null,65]
[null,66]
[null,67]
[null,68]
[null,69]
[null,70]
[null,71]
[null,72]
[null,73]
[null,74]
[null,75]
[null,76]
[null,77]
[null,78]
[null,79]
[null,80]
[null,81]
[null,82]
[null,83]
[null,84]
[null,85]
[null,86]
[null,87]
[null,88]
[null,89]
[null,90]
[null,91]
[null,92]
[null,93]
[null,94]
[null,95]
[null,96]
[null,97]
[null,98]
[null,99]
[null,100]
[null,101]
[null,102]
[null,103]
[null,104]
[null,105]
[null,106]
[null,107]
[null,108]
[null,109]
[null,110]
[null,111]
[null,112]
[null,113]
[null,114]
[null,115]
[null,116]
[null,117]
[null,118]
[null,119]
[null,120]
[null,121]
[null,122]
[null,123]
[null,124]
[null,125]
[null,126]
[null,127]
[null,128]
[null,129]
[null,130]
[null,131]
[null,132]
[null,133]
[null,134]
[null,135]
[null,136]
[null,137]
[null,138]
[null,139]
[null,140]
[null,141]
[null,142]
[null,143]
[null,144]
[null,145]
[null,146]
[null,147]
[null,148]
[null,149]
[null,150]
[null,151]
[null,152]
[null,153]
[null,154]
[null,155]
[null,156]
[null,157]
[null,158]
[null,159]
[null,160]
[null,161]
[null,162]
[null,163]
[null,164]
[null,165]
[null,166]
[null,167]
[null,168]
[null,169]
[null,170]
[null,171]
[null,172]
[null,173]
[null,174]
[null,175]
[null,176]
[null,177]
[null,178]
[null,179]
[null,180]

{"sheet":"SenWU20W","index":13,"n_rows":508,"n_cols":39,"rows_kept":508,"hidden":true,"merged":[[0,1,0,6],[1,1,1,10]]}
[null,"Sussex Athletics XC Championships\nBexhill, 07/01/2023",{"$nulls":11},"26 clubs - cols N to AM"]
[null,"U20 & Senior Women (Start together, same distance)"]
["Temp","Pos","Bib","Time","Forename","Surname","Club","Cat ","Sex","Rk","Club Rk",null,null,"CHI","TON","PHX","LEW","B&H","EBR","HY","WDH","CRA","HBS","CSS","BHWRC","GRR","HAI","HHH"]
[{"$f":"+K4","v":{"$error":"#REF!"}},1,463,"32:12",{"$f":"+VLOOKUP($C4,#REF!,2,\"false\")","v":{"$error":"#REF!"}},{"$f":"+VLOOKUP($C4,#REF!,3,\"false\")","v":{"$error":"#REF!"}},{"$f":"+VLOOKUP($C4,#REF!,4,\"false\")","v":{"$error":"#REF!"}},{"$f":"+VLOOKUP($C4,#REF!,5,\"False\")","v":{"$error":"#REF!"}},{"$f":"+VLOOKUP($C4,#REF!,6,\"false\")","v":{"$error":"#REF!"}},{"$f":"TEXT(SUMPRODUCT(--(G4=$G$4:$G$398),--(B4>$B$4:$B$398))+1,0)","v":{"$error":"#REF!"}},{"$f":"+G4&\"  \"&J4","v":{"$error":"#REF!"}},null,1,{"$f":"+IF(ISNA(VLOOKUP(N$3&\"  \"&$M4,$A$3:$I$110,2,0)),\"\",VLOOKUP(N$3&\"  \"&$M4,$A$3:$I$110,2,0))","v":""},{"$f":"+IF(ISNA(VLOOKUP(O$3&\"  \"&$M4,$A$3:$I$110,2,0)),\"\",VLOOKUP(O$3&\"  \"&$M4,$A$3:$I$110,2,0))","v":""},"","","","","","","","","","","","","","","","","","","","","","","",""]
[{"$f":"+K5","v":{"$error":"#REF!"}},{"$f":"+B4+1","v":2},490,"33:38",{"$f":"+VLOOKUP($C5,#REF!,2,\"false\")","v":{"$error":"#REF!"}},{"$f":"+VLOOKUP($C5,#REF!,3,\"false\")","v":{"$error":"#REF!"}},{"$f":"+VLOOKUP($C5,#REF!,4,\"false\")","v":{"$error":"#REF!"}},{"$f":"+VLOOKUP($C5,#REF!,5,\"False\")","v":{"$error":"#REF!"}},{"$f":"+VLOOKUP($C5,#REF!,6,\"false\")","v":{"$error":"#REF!"}},{"$error":"#REF!"},{"$error":"#REF!"},null,2,"",{"$f":"+IF(ISNA(VLOOKUP(O$3&\"  \"&$M5,$A$3:$I$110,2,0)),\"\",VLOOKUP(O$3&\"  \"&$M5,$A$3:$I$110,2,0))","v":""},"","","","","","","","","","","","","","","","","","","","","","","",""]
[{"$error":"#REF!"},{"$f":"+B5+1","v":3},458,"33:58",{"$f":"+VLOOKUP($C6,#REF!,2,\"false\")","v":{"$error":"#REF!"}},{"$f":"+VLOOKUP($C6,#REF!,3,\"false\")","v":{"$error":"#REF!"}},{"$f":"+VLOOKUP($C6,#REF!,4,\"false\")","v":{"$error":"#REF!"}},{"$f":"+VLOOKUP($C6,#REF!,5,\"False\")","v":{"$error":"#REF!"}},{"$f":"+VLOOKUP($C6,#REF!,6,\"false\")","v":{"$error":"#REF!"}},{"$error":"#REF!"},{"$error":"#REF!"},null,3,"","","","","","","","","","","","","","","","","","","","","","","","","",""]
[{"$error":"#REF!"},4,482,"35:41",{"$f":"+VLOOKUP($C7,#REF!,2,\"false\")","v":{"$error":"#REF!"}},{"$f":"+VLOOKUP($C7,#REF!,3,\"false\")","v":{"$error":"#REF!"}},{"$f":"+VLOOKUP($C7,#REF!,4,\"false\")","v":{"$error":"#REF!"}},{"$f":"+VLOOKUP($C7,#REF!,5,\"False\")","v":{"$error":"#REF!"}},{"$f":"+VLOOKUP($C7,#REF!,6,\"false\")","v":{"$error":"#REF!"}},{"$error":"#REF!"},{"$error":"#REF!"},null,4,"","","","","","","","","","","","","","","","","","","","","","","","","",""]
[{"$error":"#REF!"},5,479,"35:42",{"$f":"+VLOOKUP($C8,#REF!,2,\"false\")","v":{"$error":"#REF!"}},{"$f":"+VLOOKUP($C8,#REF!,3,\"false\")","v":{"$error":"#REF!"}},{"$f":"+VLOOKUP($C8,#REF!,4,\"false\")","v":{"$error":"#REF!"}},{"$f":"+VLOOKUP($C8,#REF!,5,\"False\")","v":{"$error":"#REF!"}},{"$f":"+VLOOKUP($C8,#REF!,6,\"false\")","v":{"$error":"#REF!"}},{"$error":"#REF!"},{"$error":"#REF!"},null,null,"","","","","","","","","","","","","","","","","","","","","","","","","",""]
[{"$error":"#REF!"},6,456,"35:43",{"$f":"+VLOOKUP($C9,#REF!,2,\"false\")","v":{"$error":"#REF!"}},{"$f":"+VLOOKUP($C9,#REF!,3,\"false\")","v":{"$error":"#REF!"}},{"$f":"+VLOOKUP($C9,#REF!,4,\"false\")","v":{"$error":"#REF!"}},{"$f":"+VLOOKUP($C9,#REF!,5,\"False\")","v":{"$error":"#REF!"}},{"$f":"+VLOOKUP($C9,#REF!,6,\"false\")","v":{"$error":"#REF!"}},{"$error":"#REF!"},{"$error":"#REF!"},null,null,"","","","","","","","","","","","","","","","","","","","","","","","","",""]
[{"$error":"#REF!"},7,457,"35:44",{"$f":"+VLOOKUP($C10,#REF!,2,\"false\")","v":{"$error":"#REF!"}},{"$f":"+VLOOKUP($C10,#REF!,3,\"false\")","v":{"$error":"#REF!"}},{"$f":"+VLOOKUP($C10,#REF!,4,\"false\")","v":{"$error":"#REF!"}},{"$f":"+VLOOKUP($C10,#REF!,5,\"False\")","v":{"$error":"#REF!"}},{"$f":"+VLOOKUP($C10,#REF!,6,\"false\")","v":{"$error":"#REF!"}},{"$error":"#REF!"},{"$error":"#REF!"},null,"Tot",{"$f":"IF(N7=\"\",1000,SUM(N4:N7))","v":1000},{"$f":"IF(O7=\"\",1000,SUM(O4:O7))","v":1000},1000,1000,1000,1000,1000,1000,1000,1000,1000,1000,1000,1000,1000,1000,1000,1000,1000,1000,1000,1000,1000,1000,1000,1000]
[{"$error":"#REF!"},8,461,"36:11",{"$f":"+VLOOKUP($C11,#REF!,2,\"false\")","v":{"$error":"#REF!"}},{"$f":"+VLOOKUP($C11,#REF!,3,\"false\")","v":{"$error":"#REF!"}},{"$f":"+VLOOKUP($C11,#REF!,4,\"false\")","v":{"$error":"#REF!"}},{"$f":"+VLOOKUP($C11,#REF!,5,\"False\")","v":{"$error":"#REF!"}},{"$f":"+VLOOKUP($C11,#REF!,6,\"false\")","v":{"$error":"#REF!"}},{"$error":"#REF!"},{"$error":"#REF!"},null,"Pos",{"$f":"RANK(N10,($N$10:$AM$10,$N$19:$AM$19),1)","v":1},{"$f":"RANK(O10,($N$10:$AM$10,$N$19:$AM$19),1)","v":1},{"$f":"RANK(P10,($N$10:$AM$10,$N$19:$AM$19),1)","v":1},{"$f":"RANK(Q10,($N$10:$AM$10,$N$19:$AM$19),1)","v":1},{"$f":"RANK(R10,($N$10:$AM$10,$N$19:$AM$19),1)","v":1},{"$f":"RANK(S10,($N$10:$AM$10,$N$19:$AM$19),1)","v":1},{"$f":"RANK(T10,($N$10:$AM$10,$N$19:$AM$19),1)","v":1},{"$f":"RANK(U10,($N$10:$AM$10,$N$19:$AM$19),1)","v":1},{"$f":"RANK(V10,($N$10:$AM$10,$N$19:$AM$19),1)","v":1},{"$f":"RANK(W10,($N$10:$AM$10,$N$19:$AM$19),1)","v":1},{"$f":"RANK(X10,($N$10:$AM$10,$N$19:$AM$19),1)","v":1},{"$f":"RANK(Y10,($N$10:$AM$10,$N$19:$AM$19),1)","v":1},{"$f":"RANK(Z10,($N$10:$AM$10,$N$19:$AM$19),1)","v":1},{"$f":"RANK(AA10,($N$10:$AM$10,$N$19:$AM$19),1)","v":1},{"$f":"RANK(AB10,($N$10:$AM$10,$N$19:$AM$19),1)","v":1},{"$f":"RANK(AC10,($N$10:$AM$10,$N$19:$AM$19),1)","v":1},{"$f":"RANK(AD10,($N$10:$AM$10,$N$19:$AM$19),1)","v":1},{"$f":"RANK(AE10,($N$10:$AM$10,$N$19:$AM$19),1)","v":1},{"$f":"RANK(AF10,($N$10:$AM$10,$N$19:$AM$19),1)","v":1},{"$f":"RANK(AG10,($N$10:$AM$10,$N$19:$AM$19),1)","v":1},{"$f":"RANK(AH10,($N$10:$AM$10,$N$19:$AM$19),1)","v":1},{"$f":"RANK(AI10,($N$10:$AM$10,$N$19:$AM$19),1)","v":1},{"$f":"RANK(AJ10,($N$10:$AM$10,$N$19:$AM$19),1)","v":1},{"$f":"RANK(AK10,($N$10:$AM$10,$N$19:$AM$19),1)","v":1},{"$f":"RANK(AL10,($N$10:$AM$10,$N$19:$AM$19),1)","v":1},{"$f":"RANK(AM10,($N$10:$AM$10,$N$19:$AM$19),1)","v":1}]
[{"$error":"#REF!"},9,486,"36:15",{"$f":"+VLOOKUP($C12,#REF!,2,\"false\")","v":{"$error":"#REF!"}},{"$f":"+VLOOKUP($C12,#REF!,3,\"false\")","v":{"$error":"#REF!"}},{"$f":"+VLOOKUP($C12,#REF!,4,\"false\")","v":{"$error":"#REF!"}},{"$f":"+VLOOKUP($C12,#REF!,5,\"False\")","v":{"$error":"#REF!"}},{"$f":"+VLOOKUP($C12,#REF!,6,\"false\")","v":{"$error":"#REF!"}},{"$error":"#REF!"},{"$error":"#REF!"}]
[{"$error":"#REF!"},10,449,"36:31",{"$f":"+VLOOKUP($C13,#REF!,2,\"false\")","v":{"$error":"#REF!"}},{"$f":"+VLOOKUP($C13,#REF!,3,\"false\")","v":{"$error":"#REF!"}},{"$f":"+VLOOKUP($C13,#REF!,4,\"false\")","v":{"$error":"#REF!"}},{"$f":"+VLOOKUP($C13,#REF!,5,\"False\")","v":{"$error":"#REF!"}},{"$f":"+VLOOKUP($C13,#REF!,6,\"false\")","v":{"$error":"#REF!"}},{"$error":"#REF!"},{"$error":"#REF!"},null,5,{"$f":"+IF(ISNA(VLOOKUP(N$3&\"  \"&$M13,$A$3:$I$110,2,0)),\"\",VLOOKUP(N$3&\"  \"&$M13,$A$3:$I$110,2,0))","v":""},{"$f":"+IF(ISNA(VLOOKUP(O$3&\"  \"&$M13,$A$3:$I$110,2,0)),\"\",VLOOKUP(O$3&\"  \"&$M13,$A$3:$I$110,2,0))","v":""},"","","","","","","","","","","","","","","",{"$f":"+IF(ISNA(VLOOKUP(AE$3&\"  \"&$M13,$A$3:$I$110,2,0)),\"\",VLOOKUP(AE$3&\"  \"&$M13,$A$3:$I$110,2,0))","v":""},"","","","","","","",""]
[{"$error":"#REF!"},11,519,"36:42",{"$f":"+VLOOKUP($C14,#REF!,2,\"false\")","v":{"$error":"#REF!"}},{"$f":"+VLOOKUP($C14,#REF!,3,\"false\")","v":{"$error":"#REF!"}},{"$f":"+VLOOKUP($C14,#REF!,4,\"false\")","v":{"$error":"#REF!"}},{"$f":"+VLOOKUP($C14,#REF!,5,\"False\")","v":{"$error":"#REF!"}},{"$f":"+VLOOKUP($C14,#REF!,6,\"false\")","v":{"$error":"#REF!"}},{"$error":"#REF!"},{"$error":"#REF!"},null,6,"","","","","","","","","","","","","","","","","","","","","","","","","",""]
[{"$error":"#REF!"},12,319,"36:54",{"$f":"+VLOOKUP($C15,#REF!,2,\"false\")","v":{"$error":"#REF!"}},{"$f":"+VLOOKUP($C15,#REF!,3,\"false\")","v":{"$error":"#REF!"}},{"$f":"+VLOOKUP($C15,#REF!,4,\"false\")","v":{"$error":"#REF!"}},{"$f":"+VLOOKUP($C15,#REF!,5,\"False\")","v":{"$error":"#REF!"}},{"$f":"+VLOOKUP($C15,#REF!,6,\"false\")","v":{"$error":"#REF!"}},{"$error":"#REF!"},{"$error":"#REF!"},null,7,"","","","","","","","","","","","","","","","","","","","","","","","","",""]
[{"$error":"#REF!"},13,466,"37:29",{"$f":"+VLOOKUP($C16,#REF!,2,\"false\")","v":{"$error":"#REF!"}},{"$f":"+VLOOKUP($C16,#REF!,3,\"false\")","v":{"$error":"#REF!"}},{"$f":"+VLOOKUP($C16,#REF!,4,\"false\")","v":{"$error":"#REF!"}},{"$f":"+VLOOKUP($C16,#REF!,5,\"False\")","v":{"$error":"#REF!"}},{"$f":"+VLOOKUP($C16,#REF!,6,\"false\")","v":{"$error":"#REF!"}},{"$error":"#REF!"},{"$error":"#REF!"},null,8,"","","","","","","","","","","","","","","","","","","","","","","","","",""]
[{"$error":"#REF!"},14,314,"37:58",{"$f":"+VLOOKUP($C17,#REF!,2,\"false\")","v":{"$error":"#REF!"}},{"$f":"+VLOOKUP($C17,#REF!,3,\"false\")","v":{"$error":"#REF!"}},{"$f":"+VLOOKUP($C17,#REF!,4,\"false\")","v":{"$error":"#REF!"}},{"$f":"+VLOOKUP($C17,#REF!,5,\"False\")","v":{"$error":"#REF!"}},{"$f":"+VLOOKUP($C17,#REF!,6,\"false\")","v":{"$error":"#REF!"}},{"$error":"#REF!"},{"$error":"#REF!"},null,null,"","","","","","","","","","","","","","","","","","","","","","","","","",""]
[{"$error":"#REF!"},15,483,"38:33",{"$f":"+VLOOKUP($C18,#REF!,2,\"false\")","v":{"$error":"#REF!"}},{"$f":"+VLOOKUP($C18,#REF!,3,\"false\")","v":{"$error":"#REF!"}},{"$f":"+VLOOKUP($C18,#REF!,4,\"false\")","v":{"$error":"#REF!"}},{"$f":"+VLOOKUP($C18,#REF!,5,\"False\")","v":{"$error":"#REF!"}},{"$f":"+VLOOKUP($C18,#REF!,6,\"false\")","v":{"$error":"#REF!"}},{"$error":"#REF!"},{"$error":"#REF!"},null,null,"","","","","","","","","","","","","","","","","","","","","","","","","",""]
[{"$error":"#REF!"},16,473,"38:40",{"$f":"+VLOOKUP($C19,#REF!,2,\"false\")","v":{"$error":"#REF!"}},{"$f":"+VLOOKUP($C19,#REF!,3,\"false\")","v":{"$error":"#REF!"}},{"$f":"+VLOOKUP($C19,#REF!,4,\"false\")","v":{"$error":"#REF!"}},{"$f":"+VLOOKUP($C19,#REF!,5,\"False\")","v":{"$error":"#REF!"}},{"$f":"+VLOOKUP($C19,#REF!,6,\"false\")","v":{"$error":"#REF!"}},{"$error":"#REF!"},{"$error":"#REF!"},null,"Tot",{"$f":"IF(N16=\"\",1000,SUM(N13:N16))","v":1000},{"$f":"IF(O16=\"\",1000,SUM(O13:O16))","v":1000},1000,1000,1000,1000,1000,1000,1000,1000,1000,1000,1000,1000,1000,1000,1000,1000,1000,1000,1000,1000,1000,1000,1000,1000]
[{"$error":"#REF!"},17,496,"38:51",{"$f":"+VLOOKUP($C20,#REF!,2,\"false\")","v":{"$error":"#REF!"}},{"$f":"+VLOOKUP($C20,#REF!,3,\"false\")","v":{"$error":"#REF!"}},{"$f":"+VLOOKUP($C20,#REF!,4,\"false\")","v":{"$error":"#REF!"}},{"$f":"+VLOOKUP($C20,#REF!,5,\"False\")","v":{"$error":"#REF!"}},{"$f":"+VLOOKUP($C20,#REF!,6,\"false\")","v":{"$error":"#REF!"}},{"$error":"#REF!"},{"$error":"#REF!"},null,"Pos",{"$f":"RANK(N19,($N$10:$AM$10,$N$19:$AM$19),1)","v":1},{"$f":"RANK(O19,($N$10:$AM$10,$N$19:$AM$19),1)","v":1},{"$f":"RANK(P19,($N$10:$AM$10,$N$19:$AM$19),1)","v":1},{"$f":"RANK(Q19,($N$10:$AM$10,$N$19:$AM$19),1)","v":1},{"$f":"RANK(R19,($N$10:$AM$10,$N$19:$AM$19),1)","v":1},{"$f":"RANK(S19,($N$10:$AM$10,$N$19:$AM$19),1)","v":1},{"$f":"RANK(T19,($N$10:$AM$10,$N$19:$AM$19),1)","v":1},{"$f":"RANK(U19,($N$10:$AM$10,$N$19:$AM$19),1)","v":1},{"$f":"RANK(V19,($N$10:$AM$10,$N$19:$AM$19),1)","v":1},{"$f":"RANK(W19,($N$10:$AM$10,$N$19:$AM$19),1)","v":1},{"$f":"RANK(X19,($N$10:$AM$10,$N$19:$AM$19),1)","v":1},{"$f":"RANK(Y19,($N$10:$AM$10,$N$19:$AM$19),1)","v":1},{"$f":"RANK(Z19,($N$10:$AM$10,$N$19:$AM$19),1)","v":1},{"$f":"RANK(AA19,($N$10:$AM$10,$N$19:$AM$19),1)","v":1},{"$f":"RANK(AB19,($N$10:$AM$10,$N$19:$AM$19),1)","v":1},{"$f":"RANK(AC19,($N$10:$AM$10,$N$19:$AM$19),1)","v":1},{"$f":"RANK(AD19,($N$10:$AM$10,$N$19:$AM$19),1)","v":1},{"$f":"RANK(AE19,($N$10:$AM$10,$N$19:$AM$19),1)","v":1},{"$f":"RANK(AF19,($N$10:$AM$10,$N$19:$AM$19),1)","v":1},{"$f":"RANK(AG19,($N$10:$AM$10,$N$19:$AM$19),1)","v":1},{"$f":"RANK(AH19,($N$10:$AM$10,$N$19:$AM$19),1)","v":1},{"$f":"RANK(AI19,($N$10:$AM$10,$N$19:$AM$19),1)","v":1},{"$f":"RANK(AJ19,($N$10:$AM$10,$N$19:$AM$19),1)","v":1},{"$f":"RANK(AK19,($N$10:$AM$10,$N$19:$AM$19),1)","v":1},{"$f":"RANK(AL19,($N$10:$AM$10,$N$19:$AM$19),1)","v":1},{"$f":"RANK(AM19,($N$10:$AM$10,$N$19:$AM$19),1)","v":1}]
[{"$error":"#REF!"},18,489,"38:53",{"$f":"+VLOOKUP($C21,#REF!,2,\"false\")","v":{"$error":"#REF!"}},{"$f":"+VLOOKUP($C21,#REF!,3,\"false\")","v":{"$error":"#REF!"}},{"$f":"+VLOOKUP($C21,#REF!,4,\"false\")","v":{"$error":"#REF!"}},{"$f":"+VLOOKUP($C21,#REF!,5,\"False\")","v":{"$error":"#REF!"}},{"$f":"+VLOOKUP($C21,#REF!,6,\"false\")","v":{"$error":"#REF!"}},{"$error":"#REF!"},{"$error":"#REF!"}]
[{"$error":"#REF!"},19,452,"39:01",{"$f":"+VLOOKUP($C22,#REF!,2,\"false\")","v":{"$error":"#REF!"}},{"$f":"+VLOOKUP($C22,#REF!,3,\"false\")","v":{"$error":"#REF!"}},{"$f":"+VLOOKUP($C22,#REF!,4,\"false\")","v":{"$error":"#REF!"}},{"$f":"+VLOOKUP($C22,#REF!,5,\"False\")","v":{"$error":"#REF!"}},{"$f":"+VLOOKUP($C22,#REF!,6,\"false\")","v":{"$error":"#REF!"}},{"$error":"#REF!"},{"$error":"#REF!"},null,9,{"$f":"+IF(ISNA(VLOOKUP(N$3&\"  \"&$M22,$A$3:$I$110,2,0)),\"\",VLOOKUP(N$3&\"  \"&$M22,$A$3:$I$110,2,0))","v":""},{"$f":"+IF(ISNA(VLOOKUP(O$3&\"  \"&$M22,$A$3:$I$110,2,0)),\"\",VLOOKUP(O$3&\"  \"&$M22,$A$3:$I$110,2,0))","v":""},"","","","","","","","","","","","","","","","","","","","","","","",""]
[{"$error":"#REF!"},20,469,"39:13",{"$f":"+VLOOKUP($C23,#REF!,2,\"false\")","v":{"$error":"#REF!"}},{"$f":"+VLOOKUP($C23,#REF!,3,\"false\")","v":{"$error":"#REF!"}},{"$f":"+VLOOKUP($C23,#REF!,4,\"false\")","v":{"$error":"#REF!"}},{"$f":"+VLOOKUP($C23,#REF!,5,\"False\")","v":{"$error":"#REF!"}},{"$f":"+VLOOKUP($C23,#REF!,6,\"false\")","v":{"$error":"#REF!"}},{"$error":"#REF!"},{"$error":"#REF!"},null,10,"",{"$f":"+IF(ISNA(VLOOKUP(O$3&\"  \"&$M23,$A$3:$I$110,2,0)),\"\",VLOOKUP(O$3&\"  \"&$M23,$A$3:$I$110,2,0))","v":""},"","","","","","","","","","","","","","","","","","","","","","","",""]
[{"$error":"#REF!"},21,315,"39:29",{"$f":"+VLOOKUP($C24,#REF!,2,\"false\")","v":{"$error":"#REF!"}},{"$f":"+VLOOKUP($C24,#REF!,3,\"false\")","v":{"$error":"#REF!"}},{"$f":"+VLOOKUP($C24,#REF!,4,\"false\")","v":{"$error":"#REF!"}},{"$f":"+VLOOKUP($C24,#REF!,5,\"False\")","v":{"$error":"#REF!"}},{"$f":"+VLOOKUP($C24,#REF!,6,\"false\")","v":{"$error":"#REF!"}},{"$error":"#REF!"},{"$error":"#REF!"},null,11,"","","","","","","","","","","","","","","","","","","","","","","","","",""]
[{"$error":"#REF!"},22,470,"39:36",{"$f":"+VLOOKUP($C25,#REF!,2,\"false\")","v":{"$error":"#REF!"}},{"$f":"+VLOOKUP($C25,#REF!,3,\"false\")","v":{"$error":"#REF!"}},{"$f":"+VLOOKUP($C25,#REF!,4,\"false\")","v":{"$error":"#REF!"}},{"$f":"+VLOOKUP($C25,#REF!,5,\"False\")","v":{"$error":"#REF!"}},{"$f":"+VLOOKUP($C25,#REF!,6,\"false\")","v":{"$error":"#REF!"}},{"$error":"#REF!"},{"$error":"#REF!"},null,12,"","","","","","","","","","","","","","","","","","","","","","","","","",""]
[{"$error":"#REF!"},23,497,"39:42",{"$f":"+VLOOKUP($C26,#REF!,2,\"false\")","v":{"$error":"#REF!"}},{"$f":"+VLOOKUP($C26,#REF!,3,\"false\")","v":{"$error":"#REF!"}},{"$f":"+VLOOKUP($C26,#REF!,4,\"false\")","v":{"$error":"#REF!"}},{"$f":"+VLOOKUP($C26,#REF!,5,\"False\")","v":{"$error":"#REF!"}},{"$f":"+VLOOKUP($C26,#REF!,6,\"false\")","v":{"$error":"#REF!"}},{"$error":"#REF!"},{"$error":"#REF!"},null,null,"","","","","","","","","","","","","","","","","","","","","","","","","",""]
[{"$error":"#REF!"},24,453,"39:54",{"$f":"+VLOOKUP($C27,#REF!,2,\"false\")","v":{"$error":"#REF!"}},{"$f":"+VLOOKUP($C27,#REF!,3,\"false\")","v":{"$error":"#REF!"}},{"$f":"+VLOOKUP($C27,#REF!,4,\"false\")","v":{"$error":"#REF!"}},{"$f":"+VLOOKUP($C27,#REF!,5,\"False\")","v":{"$error":"#REF!"}},{"$f":"+VLOOKUP($C27,#REF!,6,\"false\")","v":{"$error":"#REF!"}},{"$error":"#REF!"},{"$error":"#REF!"},null,null,"","","","","","","","","","","","","","","","","","","","","","","","","",""]
[{"$error":"#REF!"},25,317,"41:04",{"$f":"+VLOOKUP($C28,#REF!,2,\"false\")","v":{"$error":"#REF!"}},{"$f":"+VLOOKUP($C28,#REF!,3,\"false\")","v":{"$error":"#REF!"}},{"$f":"+VLOOKUP($C28,#REF!,4,\"false\")","v":{"$error":"#REF!"}},{"$f":"+VLOOKUP($C28,#REF!,5,\"False\")","v":{"$error":"#REF!"}},{"$f":"+VLOOKUP($C28,#REF!,6,\"false\")","v":{"$error":"#REF!"}},{"$error":"#REF!"},{"$error":"#REF!"},null,"Tot",{"$f":"IF(N24=\"\",1000,SUM(N22:N24))","v":1000},{"$f":"IF(O24=\"\",1000,SUM(O22:O24))","v":1000},1000,1000,1000,1000,1000,1000,1000,1000,1000,1000,1000,1000,1000,1000,1000,1000,1000,1000,1000,1000,1000,1000,1000,1000]
[{"$error":"#REF!"},26,286,"41:45",{"$f":"+VLOOKUP($C29,#REF!,2,\"false\")","v":{"$error":"#REF!"}},{"$f":"+VLOOKUP($C29,#REF!,3,\"false\")","v":{"$error":"#REF!"}},{"$f":"+VLOOKUP($C29,#REF!,4,\"false\")","v":{"$error":"#REF!"}},{"$f":"+VLOOKUP($C29,#REF!,5,\"False\")","v":{"$error":"#REF!"}},{"$f":"+VLOOKUP($C29,#REF!,6,\"false\")","v":{"$error":"#REF!"}},{"$error":"#REF!"},{"$error":"#REF!"},null,"Pos",{"$f":"RANK(N28,($N$10:$AM$10,$N$19:$AM$19,$N$28:$AM$28, $N$37:$AM$37),1)","v":1},{"$f":"RANK(O28,($N$10:$AM$10,$N$19:$AM$19,$N$28:$AM$28, $N$37:$AM$37),1)","v":1},{"$f":"RANK(P28,($N$10:$AM$10,$N$19:$AM$19,$N$28:$AM$28, $N$37:$AM$37),1)","v":1},{"$f":"RANK(Q28,($N$10:$AM$10,$N$19:$AM$19,$N$28:$AM$28, $N$37:$AM$37),1)","v":1},{"$f":"RANK(R28,($N$10:$AM$10,$N$19:$AM$19,$N$28:$AM$28, $N$37:$AM$37),1)","v":1},{"$f":"RANK(S28,($N$10:$AM$10,$N$19:$AM$19,$N$28:$AM$28, $N$37:$AM$37),1)","v":1},{"$f":"RANK(T28,($N$10:$AM$10,$N$19:$AM$19,$N$28:$AM$28, $N$37:$AM$37),1)","v":1},{"$f":"RANK(U28,($N$10:$AM$10,$N$19:$AM$19,$N$28:$AM$28, $N$37:$AM$37),1)","v":1},{"$f":"RANK(V28,($N$10:$AM$10,$N$19:$AM$19,$N$28:$AM$28, $N$37:$AM$37),1)","v":1},{"$f":"RANK(W28,($N$10:$AM$10,$N$19:$AM$19,$N$28:$AM$28, $N$37:$AM$37),1)","v":1},{"$f":"RANK(X28,($N$10:$AM$10,$N$19:$AM$19,$N$28:$AM$28, $N$37:$AM$37),1)","v":1},{"$f":"RANK(Y28,($N$10:$AM$10,$N$19:$AM$19,$N$28:$AM$28, $N$37:$AM$37),1)","v":1},{"$f":"RANK(Z28,($N$10:$AM$10,$N$19:$AM$19,$N$28:$AM$28, $N$37:$AM$37),1)","v":1},{"$f":"RANK(AA28,($N$10:$AM$10,$N$19:$AM$19,$N$28:$AM$28, $N$37:$AM$37),1)","v":1},{"$f":"RANK(AB28,($N$10:$AM$10,$N$19:$AM$19,$N$28:$AM$28, $N$37:$AM$37),1)","v":1},{"$f":"RANK(AC28,($N$10:$AM$10,$N$19:$AM$19,$N$28:$AM$28, $N$37:$AM$37),1)","v":1},{"$f":"RANK(AD28,($N$10:$AM$10,$N$19:$AM$19,$N$28:$AM$28, $N$37:$AM$37),1)","v":1},{"$f":"RANK(AE28,($N$10:$AM$10,$N$19:$AM$19,$N$28:$AM$28, $N$37:$AM$37),1)","v":1},{"$f":"RANK(AF28,($N$10:$AM$10,$N$19:$AM$19,$N$28:$AM$28, $N$37:$AM$37),1)","v":1},{"$f":"RANK(AG28,($N$10:$AM$10,$N$19:$AM$19,$N$28:$AM$28, $N$37:$AM$37),1)","v":1},{"$f":"RANK(AH28,($N$10:$AM$10,$N$19:$AM$19,$N$28:$AM$28, $N$37:$AM$37),1)","v":1},{"$f":"RANK(AI28,($N$10:$AM$10,$N$19:$AM$19,$N$28:$AM$28, $N$37:$AM$37),1)","v":1},{"$f":"RANK(AJ28,($N$10:$AM$10,$N$19:$AM$19,$N$28:$AM$28, $N$37:$AM$37),1)","v":1},{"$f":"RANK(AK28,($N$10:$AM$10,$N$19:$AM$19,$N$28:$AM$28, $N$37:$AM$37),1)","v":1},{"$f":"RANK(AL28,($N$10:$AM$10,$N$19:$AM$19,$N$28:$AM$28, $N$37:$AM$37),1)","v":1},{"$f":"RANK(AM28,($N$10:$AM$10,$N$19:$AM$19,$N$28:$AM$28, $N$37:$AM$37),1)","v":1}]
[{"$error":"#REF!"},27,450,"42:08",{"$f":"+VLOOKUP($C30,#REF!,2,\"false\")","v":{"$error":"#REF!"}},{"$f":"+VLOOKUP($C30,#REF!,3,\"false\")","v":{"$error":"#REF!"}},{"$f":"+VLOOKUP($C30,#REF!,4,\"false\")","v":{"$error":"#REF!"}},{"$f":"+VLOOKUP($C30,#REF!,5,\"False\")","v":{"$error":"#REF!"}},{"$f":"+VLOOKUP($C30,#REF!,6,\"false\")","v":{"$error":"#REF!"}},{"$error":"#REF!"},{"$error":"#REF!"}]
[{"$error":"#REF!"},28,474,"42:13",{"$f":"+VLOOKUP($C31,#REF!,2,\"false\")","v":{"$error":"#REF!"}},{"$f":"+VLOOKUP($C31,#REF!,3,\"false\")","v":{"$error":"#REF!"}},{"$f":"+VLOOKUP($C31,#REF!,4,\"false\")","v":{"$error":"#REF!"}},{"$f":"+VLOOKUP($C31,#REF!,5,\"False\")","v":{"$error":"#REF!"}},{"$f":"+VLOOKUP($C31,#REF!,6,\"false\")","v":{"$error":"#REF!"}},{"$error":"#REF!"},{"$error":"#REF!"},null,13,{"$f":"+IF(ISNA(VLOOKUP(N$3&\"  \"&$M31,$A$3:$I$110,2,0)),\"\",VLOOKUP(N$3&\"  \"&$M31,$A$3:$I$110,2,0))","v":""},{"$f":"+IF(ISNA(VLOOKUP(O$3&\"  \"&$M31,$A$3:$I$110,2,0)),\"\",VLOOKUP(O$3&\"  \"&$M31,$A$3:$I$110,2,0))","v":""},"","","","","","","","","","","","","","","",{"$f":"+IF(ISNA(VLOOKUP(AE$3&\"  \"&$M31,$A$3:$I$110,2,0)),\"\",VLOOKUP(AE$3&\"  \"&$M31,$A$3:$I$110,2,0))","v":""},"","","","","","","",""]
[{"$error":"#REF!"},29,459,"42:32",{"$f":"+VLOOKUP($C32,#REF!,2,\"false\")","v":{"$error":"#REF!"}},{"$f":"+VLOOKUP($C32,#REF!,3,\"false\")","v":{"$error":"#REF!"}},{"$f":"+VLOOKUP($C32,#REF!,4,\"false\")","v":{"$error":"#REF!"}},{"$f":"+VLOOKUP($C32,#REF!,5,\"False\")","v":{"$error":"#REF!"}},{"$f":"+VLOOKUP($C32,#REF!,6,\"false\")","v":{"$error":"#REF!"}},{"$error":"#REF!"},{"$error":"#REF!"},null,14,"","","","","","","","","","","","","","","","","","","","","","","","","",""]
[{"$error":"#REF!"},30,485,"44:49",{"$f":"+VLOOKUP($C33,#REF!,2,\"false\")","v":{"$error":"#REF!"}},{"$f":"+VLOOKUP($C33,#REF!,3,\"false\")","v":{"$error":"#REF!"}},{"$f":"+VLOOKUP($C33,#REF!,4,\"false\")","v":{"$error":"#REF!"}},{"$f":"+VLOOKUP($C33,#REF!,5,\"False\")","v":{"$error":"#REF!"}},{"$f":"+VLOOKUP($C33,#REF!,6,\"false\")","v":{"$error":"#REF!"}},{"$error":"#REF!"},{"$error":"#REF!"},null,15,"","","","","","","","","","","","","","","","","","","","","","","","","",""]
[{"$error":"#REF!"},31,471,"45:02",{"$f":"+VLOOKUP($C34,#REF!,2,\"false\")","v":{"$error":"#REF!"}},{"$f":"+VLOOKUP($C34,#REF!,3,\"false\")","v":{"$error":"#REF!"}},{"$f":"+VLOOKUP($C34,#REF!,4,\"false\")","v":{"$error":"#REF!"}},{"$f":"+VLOOKUP($C34,#REF!,5,\"False\")","v":{"$error":"#REF!"}},{"$f":"+VLOOKUP($C34,#REF!,6,\"false\")","v":{"$error":"#REF!"}},{"$error":"#REF!"},{"$error":"#REF!"},null,16,"","","","","","","","","","","","","","","","","","","","","","","","","",""]
[{"$error":"#REF!"},32,491,"45:11",{"$f":"+VLOOKUP($C35,#REF!,2,\"false\")","v":{"$error":"#REF!"}},{"$f":"+VLOOKUP($C35,#REF!,3,\"false\")","v":{"$error":"#REF!"}},{"$f":"+VLOOKUP($C35,#REF!,4,\"false\")","v":{"$error":"#REF!"}},{"$f":"+VLOOKUP($C35,#REF!,5,\"False\")","v":{"$error":"#REF!"}},{"$f":"+VLOOKUP($C35,#REF!,6,\"false\")","v":{"$error":"#REF!"}},{"$error":"#REF!"},{"$error":"#REF!"},null,null,"","","","","","","","","","","","","","","","","","","","","","","","","",""]
[{"$error":"#REF!"},33,488,"45:34",{"$f":"+VLOOKUP($C36,#REF!,2,\"false\")","v":{"$error":"#REF!"}},{"$f":"+VLOOKUP($C36,#REF!,3,\"false\")","v":{"$error":"#REF!"}},{"$f":"+VLOOKUP($C36,#REF!,4,\"false\")","v":{"$error":"#REF!"}},{"$f":"+VLOOKUP($C36,#REF!,5,\"False\")","v":{"$error":"#REF!"}},{"$f":"+VLOOKUP($C36,#REF!,6,\"false\")","v":{"$error":"#REF!"}},{"$f":"TEXT(SUMPRODUCT(--(G36=$G$4:$G$398),--(B36>$B$4:$B$398))+1,0)","v":{"$error":"#REF!"}},{"$error":"#REF!"},null,null,"","","","","","","","","","","","","","","","","","","","","","","","","",""]
[{"$error":"#REF!"},34,484,"45:43",{"$f":"+VLOOKUP($C37,#REF!,2,\"false\")","v":{"$error":"#REF!"}},{"$f":"+VLOOKUP($C37,#REF!,3,\"false\")","v":{"$error":"#REF!"}},{"$f":"+VLOOKUP($C37,#REF!,4,\"false\")","v":{"$error":"#REF!"}},{"$f":"+VLOOKUP($C37,#REF!,5,\"False\")","v":{"$error":"#REF!"}},{"$f":"+VLOOKUP($C37,#REF!,6,\"false\")","v":{"$error":"#REF!"}},{"$error":"#REF!"},{"$error":"#REF!"},null,"Tot",{"$f":"IF(N33=\"\",1000,SUM(N31:N33))","v":1000},{"$f":"IF(O33=\"\",1000,SUM(O31:O33))","v":1000},1000,1000,1000,1000,1000,1000,1000,1000,1000,1000,1000,1000,1000,1000,1000,1000,1000,1000,1000,1000,1000,1000,1000,1000]
[{"$error":"#REF!"},35,492,"46:16",{"$f":"+VLOOKUP($C38,#REF!,2,\"false\")","v":{"$error":"#REF!"}},{"$f":"+VLOOKUP($C38,#REF!,3,\"false\")","v":{"$error":"#REF!"}},{"$f":"+VLOOKUP($C38,#REF!,4,\"false\")","v":{"$error":"#REF!"}},{"$f":"+VLOOKUP($C38,#REF!,5,\"False\")","v":{"$error":"#REF!"}},{"$f":"+VLOOKUP($C38,#REF!,6,\"false\")","v":{"$error":"#REF!"}},{"$error":"#REF!"},{"$error":"#REF!"},null,"Pos",{"$f":"RANK(N37,($N$10:$AM$10,$N$19:$AM$19,$N$28:$AM$28, $N$37:$AM$37),1)","v":1},{"$f":"RANK(O37,($N$10:$AM$10,$N$19:$AM$19,$N$28:$AM$28, $N$37:$AM$37),1)","v":1},{"$f":"RANK(P37,($N$10:$AM$10,$N$19:$AM$19,$N$28:$AM$28, $N$37:$AM$37),1)","v":1},{"$f":"RANK(Q37,($N$10:$AM$10,$N$19:$AM$19,$N$28:$AM$28, $N$37:$AM$37),1)","v":1},{"$f":"RANK(R37,($N$10:$AM$10,$N$19:$AM$19,$N$28:$AM$28, $N$37:$AM$37),1)","v":1},{"$f":"RANK(S37,($N$10:$AM$10,$N$19:$AM$19,$N$28:$AM$28, $N$37:$AM$37),1)","v":1},{"$f":"RANK(T37,($N$10:$AM$10,$N$19:$AM$19,$N$28:$AM$28, $N$37:$AM$37),1)","v":1},{"$f":"RANK(U37,($N$10:$AM$10,$N$19:$AM$19,$N$28:$AM$28, $N$37:$AM$37),1)","v":1},{"$f":"RANK(V37,($N$10:$AM$10,$N$19:$AM$19,$N$28:$AM$28, $N$37:$AM$37),1)","v":1},{"$f":"RANK(W37,($N$10:$AM$10,$N$19:$AM$19,$N$28:$AM$28, $N$37:$AM$37),1)","v":1},{"$f":"RANK(X37,($N$10:$AM$10,$N$19:$AM$19,$N$28:$AM$28, $N$37:$AM$37),1)","v":1},{"$f":"RANK(Y37,($N$10:$AM$10,$N$19:$AM$19,$N$28:$AM$28, $N$37:$AM$37),1)","v":1},{"$f":"RANK(Z37,($N$10:$AM$10,$N$19:$AM$19,$N$28:$AM$28, $N$37:$AM$37),1)","v":1},{"$f":"RANK(AA37,($N$10:$AM$10,$N$19:$AM$19,$N$28:$AM$28, $N$37:$AM$37),1)","v":1},{"$f":"RANK(AB37,($N$10:$AM$10,$N$19:$AM$19,$N$28:$AM$28, $N$37:$AM$37),1)","v":1},{"$f":"RANK(AC37,($N$10:$AM$10,$N$19:$AM$19,$N$28:$AM$28, $N$37:$AM$37),1)","v":1},{"$f":"RANK(AD37,($N$10:$AM$10,$N$19:$AM$19,$N$28:$AM$28, $N$37:$AM$37),1)","v":1},{"$f":"RANK(AE37,($N$10:$AM$10,$N$19:$AM$19,$N$28:$AM$28, $N$37:$AM$37),1)","v":1},{"$f":"RANK(AF37,($N$10:$AM$10,$N$19:$AM$19,$N$28:$AM$28, $N$37:$AM$37),1)","v":1},{"$f":"RANK(AG37,($N$10:$AM$10,$N$19:$AM$19,$N$28:$AM$28, $N$37:$AM$37),1)","v":1},{"$f":"RANK(AH37,($N$10:$AM$10,$N$19:$AM$19,$N$28:$AM$28, $N$37:$AM$37),1)","v":1},{"$f":"RANK(AI37,($N$10:$AM$10,$N$19:$AM$19,$N$28:$AM$28, $N$37:$AM$37),1)","v":1},{"$f":"RANK(AJ37,($N$10:$AM$10,$N$19:$AM$19,$N$28:$AM$28, $N$37:$AM$37),1)","v":1},{"$f":"RANK(AK37,($N$10:$AM$10,$N$19:$AM$19,$N$28:$AM$28, $N$37:$AM$37),1)","v":1},{"$f":"RANK(AL37,($N$10:$AM$10,$N$19:$AM$19,$N$28:$AM$28, $N$37:$AM$37),1)","v":1},{"$f":"RANK(AM37,($N$10:$AM$10,$N$19:$AM$19,$N$28:$AM$28, $N$37:$AM$37),1)","v":1}]
[{"$error":"#REF!"},36,495,"47:43",{"$f":"+VLOOKUP($C39,#REF!,2,\"false\")","v":{"$error":"#REF!"}},{"$f":"+VLOOKUP($C39,#REF!,3,\"false\")","v":{"$error":"#REF!"}},{"$f":"+VLOOKUP($C39,#REF!,4,\"false\")","v":{"$error":"#REF!"}},{"$f":"+VLOOKUP($C39,#REF!,5,\"False\")","v":{"$error":"#REF!"}},{"$f":"+VLOOKUP($C39,#REF!,6,\"false\")","v":{"$error":"#REF!"}},{"$error":"#REF!"},{"$error":"#REF!"}]
[{"$error":"#REF!"},37,477,"47:57",{"$f":"+VLOOKUP($C40,#REF!,2,\"false\")","v":{"$error":"#REF!"}},{"$f":"+VLOOKUP($C40,#REF!,3,\"false\")","v":{"$error":"#REF!"}},{"$f":"+VLOOKUP($C40,#REF!,4,\"false\")","v":{"$error":"#REF!"}},{"$f":"+VLOOKUP($C40,#REF!,5,\"False\")","v":{"$error":"#REF!"}},{"$f":"+VLOOKUP($C40,#REF!,6,\"false\")","v":{"$error":"#REF!"}},{"$error":"#REF!"},{"$error":"#REF!"}]
[{"$error":"#REF!"},38,312,"48:33",{"$f":"+VLOOKUP($C41,#REF!,2,\"false\")","v":{"$error":"#REF!"}},{"$f":"+VLOOKUP($C41,#REF!,3,\"false\")","v":{"$error":"#REF!"}},{"$f":"+VLOOKUP($C41,#REF!,4,\"false\")","v":{"$error":"#REF!"}},{"$f":"+VLOOKUP($C41,#REF!,5,\"False\")","v":{"$error":"#REF!"}},{"$f":"+VLOOKUP($C41,#REF!,6,\"false\")","v":{"$error":"#REF!"}},{"$error":"#REF!"},{"$error":"#REF!"}]
[{"$error":"#REF!"},39,460,"48:56",{"$f":"+VLOOKUP($C42,#REF!,2,\"false\")","v":{"$error":"#REF!"}},{"$f":"+VLOOKUP($C42,#REF!,3,\"false\")","v":{"$error":"#REF!"}},{"$f":"+VLOOKUP($C42,#REF!,4,\"false\")","v":{"$error":"#REF!"}},{"$f":"+VLOOKUP($C42,#REF!,5,\"False\")","v":{"$error":"#REF!"}},{"$f":"+VLOOKUP($C42,#REF!,6,\"false\")","v":{"$error":"#REF!"}},{"$error":"#REF!"},{"$error":"#REF!"}]
[{"$error":"#REF!"},40,487,"49:09",{"$f":"+VLOOKUP($C43,#REF!,2,\"false\")","v":{"$error":"#REF!"}},{"$f":"+VLOOKUP($C43,#REF!,3,\"false\")","v":{"$error":"#REF!"}},{"$f":"+VLOOKUP($C43,#REF!,4,\"false\")","v":{"$error":"#REF!"}},{"$f":"+VLOOKUP($C43,#REF!,5,\"False\")","v":{"$error":"#REF!"}},{"$f":"+VLOOKUP($C43,#REF!,6,\"false\")","v":{"$error":"#REF!"}},{"$error":"#REF!"},{"$error":"#REF!"}]
[{"$error":"#REF!"},41,494,"50:20",{"$f":"+VLOOKUP($C44,#REF!,2,\"false\")","v":{"$error":"#REF!"}},{"$f":"+VLOOKUP($C44,#REF!,3,\"false\")","v":{"$error":"#REF!"}},{"$f":"+VLOOKUP($C44,#REF!,4,\"false\")","v":{"$error":"#REF!"}},{"$f":"+VLOOKUP($C44,#REF!,5,\"False\")","v":{"$error":"#REF!"}},{"$f":"+VLOOKUP($C44,#REF!,6,\"false\")","v":{"$error":"#REF!"}},{"$error":"#REF!"},{"$error":"#REF!"}]
[{"$error":"#REF!"},42,481,"50:23",{"$f":"+VLOOKUP($C45,#REF!,2,\"false\")","v":{"$error":"#REF!"}},{"$f":"+VLOOKUP($C45,#REF!,3,\"false\")","v":{"$error":"#REF!"}},{"$f":"+VLOOKUP($C45,#REF!,4,\"false\")","v":{"$error":"#REF!"}},{"$f":"+VLOOKUP($C45,#REF!,5,\"False\")","v":{"$error":"#REF!"}},{"$f":"+VLOOKUP($C45,#REF!,6,\"false\")","v":{"$error":"#REF!"}},{"$error":"#REF!"},{"$error":"#REF!"}]
[{"$error":"#REF!"},43,478,"52:13",{"$f":"+VLOOKUP($C46,#REF!,2,\"false\")","v":{"$error":"#REF!"}},{"$f":"+VLOOKUP($C46,#REF!,3,\"false\")","v":{"$error":"#REF!"}},{"$f":"+VLOOKUP($C46,#REF!,4,\"false\")","v":{"$error":"#REF!"}},{"$f":"+VLOOKUP($C46,#REF!,5,\"False\")","v":{"$error":"#REF!"}},{"$f":"+VLOOKUP($C46,#REF!,6,\"false\")","v":{"$error":"#REF!"}},{"$error":"#REF!"},{"$error":"#REF!"}]
[{"$error":"#REF!"},44,498,"52:21",{"$f":"+VLOOKUP($C47,#REF!,2,\"false\")","v":{"$error":"#REF!"}},{"$f":"+VLOOKUP($C47,#REF!,3,\"false\")","v":{"$error":"#REF!"}},{"$f":"+VLOOKUP($C47,#REF!,4,\"false\")","v":{"$error":"#REF!"}},{"$f":"+VLOOKUP($C47,#REF!,5,\"False\")","v":{"$error":"#REF!"}},{"$f":"+VLOOKUP($C47,#REF!,6,\"false\")","v":{"$error":"#REF!"}},{"$error":"#REF!"},{"$error":"#REF!"}]
[{"$error":"#REF!"},45,480,"53:11",{"$f":"+VLOOKUP($C48,#REF!,2,\"false\")","v":{"$error":"#REF!"}},{"$f":"+VLOOKUP($C48,#REF!,3,\"false\")","v":{"$error":"#REF!"}},{"$f":"+VLOOKUP($C48,#REF!,4,\"false\")","v":{"$error":"#REF!"}},{"$f":"+VLOOKUP($C48,#REF!,5,\"False\")","v":{"$error":"#REF!"}},{"$f":"+VLOOKUP($C48,#REF!,6,\"false\")","v":{"$error":"#REF!"}},{"$error":"#REF!"},{"$error":"#REF!"}]
[{"$error":"#REF!"},46,472,"54:20",{"$f":"+VLOOKUP($C49,#REF!,2,\"false\")","v":{"$error":"#REF!"}},{"$f":"+VLOOKUP($C49,#REF!,3,\"false\")","v":{"$error":"#REF!"}},{"$f":"+VLOOKUP($C49,#REF!,4,\"false\")","v":{"$error":"#REF!"}},{"$f":"+VLOOKUP($C49,#REF!,5,\"False\")","v":{"$error":"#REF!"}},{"$f":"+VLOOKUP($C49,#REF!,6,\"false\")","v":{"$error":"#REF!"}},{"$error":"#REF!"},{"$error":"#REF!"}]
[{"$error":"#REF!"},47,465,"56:15",{"$f":"+VLOOKUP($C50,#REF!,2,\"false\")","v":{"$error":"#REF!"}},{"$f":"+VLOOKUP($C50,#REF!,3,\"false\")","v":{"$error":"#REF!"}},{"$f":"+VLOOKUP($C50,#REF!,4,\"false\")","v":{"$error":"#REF!"}},{"$f":"+VLOOKUP($C50,#REF!,5,\"False\")","v":{"$error":"#REF!"}},{"$f":"+VLOOKUP($C50,#REF!,6,\"false\")","v":{"$error":"#REF!"}},{"$error":"#REF!"},{"$error":"#REF!"}]
[{"$error":"#REF!"},48,467,"58:21",{"$f":"+VLOOKUP($C51,#REF!,2,\"false\")","v":{"$error":"#REF!"}},{"$f":"+VLOOKUP($C51,#REF!,3,\"false\")","v":{"$error":"#REF!"}},{"$f":"+VLOOKUP($C51,#REF!,4,\"false\")","v":{"$error":"#REF!"}},{"$f":"+VLOOKUP($C51,#REF!,5,\"False\")","v":{"$error":"#REF!"}},{"$f":"+VLOOKUP($C51,#REF!,6,\"false\")","v":{"$error":"#REF!"}},{"$error":"#REF!"},{"$error":"#REF!"}]
[{"$error":"#REF!"},49,493,"59:04",{"$f":"+VLOOKUP($C52,#REF!,2,\"false\")","v":{"$error":"#REF!"}},{"$f":"+VLOOKUP($C52,#REF!,3,\"false\")","v":{"$error":"#REF!"}},{"$f":"+VLOOKUP($C52,#REF!,4,\"false\")","v":{"$error":"#REF!"}},{"$f":"+VLOOKUP($C52,#REF!,5,\"False\")","v":{"$error":"#REF!"}},{"$f":"+VLOOKUP($C52,#REF!,6,\"false\")","v":{"$error":"#REF!"}},{"$error":"#REF!"},{"$error":"#REF!"}]
[{"$error":"#REF!"},50,520,"62:24",{"$f":"+VLOOKUP($C53,#REF!,2,\"false\")","v":{"$error":"#REF!"}},{"$f":"+VLOOKUP($C53,#REF!,3,\"false\")","v":{"$error":"#REF!"}},{"$f":"+VLOOKUP($C53,#REF!,4,\"false\")","v":{"$error":"#REF!"}},{"$f":"+VLOOKUP($C53,#REF!,5,\"False\")","v":{"$error":"#REF!"}},{"$f":"+VLOOKUP($C53,#REF!,6,\"false\")","v":{"$error":"#REF!"}},{"$error":"#REF!"},{"$error":"#REF!"}]
{"$rows_empty":46}
[{"$nulls":13},"CHI"]
[{"$nulls":13},"TON"]
[{"$nulls":13},"PHX"]
[{"$nulls":13},"LEW"]
[{"$nulls":13},"B&H"]
[{"$nulls":13},"EBR"]
[{"$nulls":13},"HY"]
[{"$nulls":13},"WDH"]
[{"$nulls":13},"CRA"]
[{"$nulls":13},"HBS"]
[{"$nulls":13},"CSS"]
[{"$nulls":13},"BHWRC"]
[{"$nulls":13},"GRR"]
[{"$nulls":13},"HAI"]
[{"$nulls":13},"HHH"]
{"$rows_empty":43}
[null,"Pos","Bib","Time"]
[null,1,463,"32:12"]
[null,{"$f":"+B159+1","v":2},490,"33:38"]
[null,{"$f":"+B160+1","v":3},458,"33:58"]
[null,4,482,"35:41"]
[null,5,479,"35:42"]
[null,6,456,"35:43"]
[null,7,457,"35:44"]
[null,8,461,"36:11"]
[null,9,486,"36:15"]
[null,10,449,"36:31"]
[null,11,519,"36:42"]
[null,12,319,"36:54"]
[null,13,466,"37:29"]
[null,14,314,"37:58"]
[null,15,483,"38:33"]
[null,16,473,"38:40"]
[null,17,496,"38:51"]
[null,18,489,"38:53"]
[null,19,452,"39:01"]
[null,20,469,"39:13"]
[null,21,315,"39:29"]
[null,22,470,"39:36"]
[null,23,497,"39:42"]
[null,24,453,"39:54"]
[null,25,317,"41:04"]
[null,26,286,"41:45"]
[null,27,450,"42:08"]
[null,28,474,"42:13"]
[null,29,459,"42:32"]
[null,30,485,"44:49"]
[null,31,471,"45:02"]
[null,32,491,"45:11"]
[null,33,488,"45:34"]
[null,34,484,"45:43"]
[null,35,492,"46:16"]
[null,36,495,"47:43"]
[null,37,477,"47:57"]
[null,38,312,"48:33"]
[null,39,460,"48:56"]
[null,40,487,"49:09"]
[null,41,494,"50:20"]
[null,42,481,"50:23"]
[null,43,478,"52:13"]
[null,44,498,"52:21"]
[null,45,480,"53:11"]
[null,46,472,"54:20"]
[null,47,465,"56:15"]
[null,48,467,"58:21"]
[null,49,493,"59:04"]
[null,50,520,"62:24"]
[null,51]
[null,52]
[null,53]
[null,54]
[null,55]
[null,56]
[null,57]
[null,58]
[null,59]
[null,60]
[null,61]
[null,62]
[null,63]
[null,64]
[null,65]
[null,66]
[null,{"$f":"+B224+1","v":67}]
[null,68]
[null,69]
[null,70]
[null,71]
[null,72]
[null,73]
[null,74]
[null,75]
[null,76]
[null,77]
[null,78]
[null,79]
[null,80]
[null,81]
[null,82]
[null,83]
[null,84]
[null,85]
[null,86]
[null,87]
[null,88]
[null,89]
[null,90]
[null,91]
[null,92]
[null,93]
[null,94]
[null,95]
[null,96]
[null,97]
[null,98]
[null,99]
[null,100]
[null,101]
[null,102]
[null,103]
[null,104]
[null,105]
[null,106]
[null,107]
[null,108]
[null,109]
[null,110]
[null,111]
[null,112]
[null,113]
[null,114]
[null,115]
[null,116]
[null,117]
[null,118]
[null,119]
[null,120]
[null,121]
[null,122]
[null,123]
[null,124]
[null,125]
[null,126]
[null,127]
[null,128]
[null,129]
[null,130]
[null,{"$f":"+B288+1","v":131}]
[null,132]
[null,133]
[null,134]
[null,135]
[null,136]
[null,137]
[null,138]
[null,139]
[null,140]
[null,141]
[null,142]
[null,143]
[null,144]
[null,145]
[null,146]
[null,147]
[null,148]
[null,149]
[null,150]
[null,151]
[null,152]
[null,153]
[null,154]
[null,155]
[null,156]
[null,157]
[null,158]
[null,159]
[null,160]
[null,161]
[null,162]
[null,163]
[null,164]
[null,165]
[null,166]
[null,167]
[null,168]
[null,169]
[null,170]
[null,171]
[null,172]
[null,173]
[null,174]
[null,175]
[null,176]
[null,177]
[null,178]
[null,179]
[null,180]
[null,181]
[null,182]
[null,183]
[null,184]
[null,185]
[null,186]
[null,187]
[null,188]
[null,189]
[null,190]
[null,191]
[null,192]
[null,193]
[null,194]
[null,{"$f":"+B352+1","v":195}]
[null,196]
[null,197]
[null,198]
[null,199]
[null,200]
[null,201]
[null,202]
[null,203]
[null,204]
[null,205]
[null,206]
[null,207]
[null,208]
[null,209]
[null,210]
[null,211]
[null,212]
[null,213]
[null,214]
[null,215]
[null,216]
[null,217]
[null,218]
[null,219]
[null,220]
[null,221]
[null,222]
[null,223]
[null,224]
[null,225]
[null,226]
[null,227]
[null,228]
[null,229]
[null,230]
[null,231]
[null,232]
[null,233]
[null,234]
[null,235]
[null,236]
[null,237]
[null,238]
[null,239]
[null,240]
[null,241]
[null,242]
[null,243]
[null,244]
[null,245]
[null,246]
[null,247]
[null,248]
[null,249]
[null,250]
[null,251]
[null,252]
[null,253]
[null,254]
[null,255]
[null,256]
[null,257]
[null,258]
[null,{"$f":"+B416+1","v":259}]
[null,260]
[null,261]
[null,262]
[null,263]
[null,264]
[null,265]
[null,266]
[null,267]
[null,268]
[null,269]
[null,270]
[null,271]
[null,272]
[null,273]
[null,274]
[null,275]
[null,276]
[null,277]
[null,278]
[null,279]
[null,280]
[null,281]
[null,282]
[null,283]
[null,284]
[null,285]
[null,286]
[null,287]
[null,288]
[null,289]
[null,290]
[null,291]
[null,292]
[null,293]
[null,294]
[null,295]
[null,296]
[null,297]
[null,298]
[null,299]
[null,300]
[null,301]
[null,302]
[null,303]
[null,304]
[null,305]
[null,306]
[null,307]
[null,308]
[null,309]
[null,310]
[null,311]
[null,312]
[null,313]
[null,314]
[null,315]
[null,316]
[null,317]
[null,318]
[null,319]
[null,320]
[null,321]
[null,322]
[null,{"$f":"+B480+1","v":323}]
[null,324]
[null,325]
[null,326]
[null,327]
[null,328]
[null,329]
[null,330]
[null,331]
[null,332]
[null,333]
[null,334]
[null,335]
[null,336]
[null,337]
[null,338]
[null,339]
[null,340]
[null,341]
[null,342]
[null,343]
[null,344]
[null,345]
[null,346]
[null,347]
[null,348]
[null,349]
[null,350]

{"sheet":"TimeEg","index":14,"n_rows":8,"n_cols":6,"rows_kept":8,"hidden":true}
[]
[]
[{"$nulls":5},6.25]
[{"$nulls":5},7.35]
[{"$nulls":5},8.45]
[{"$nulls":5},9.59]
[{"$nulls":4},"ss",{"$f":"SUM(+INT(F3:F6)*60+((F3:F6)-INT(F3:F6))*100)","v":{"v":1964,"d":"1964.00"}}]
[{"$nulls":4},"mm:ss",{"$f":"+INT(F7/60)+MOD(F7,60)/100","v":32.44}]